BEGIN:VCALENDAR
VERSION:2.0
PRODID:-//Haus Lebenskraft - ECPv6.15.20//NONSGML v1.0//EN
CALSCALE:GREGORIAN
METHOD:PUBLISH
X-ORIGINAL-URL:https://staging.hauslebenskraft.de
X-WR-CALDESC:Veranstaltungen für Haus Lebenskraft
REFRESH-INTERVAL;VALUE=DURATION:PT1H
X-Robots-Tag:noindex
X-PUBLISHED-TTL:PT1H
BEGIN:VTIMEZONE
TZID:Europe/Berlin
BEGIN:DAYLIGHT
TZOFFSETFROM:+0100
TZOFFSETTO:+0200
TZNAME:CEST
DTSTART:20240331T010000
END:DAYLIGHT
BEGIN:STANDARD
TZOFFSETFROM:+0200
TZOFFSETTO:+0100
TZNAME:CET
DTSTART:20241027T010000
END:STANDARD
BEGIN:DAYLIGHT
TZOFFSETFROM:+0100
TZOFFSETTO:+0200
TZNAME:CEST
DTSTART:20250330T010000
END:DAYLIGHT
BEGIN:STANDARD
TZOFFSETFROM:+0200
TZOFFSETTO:+0100
TZNAME:CET
DTSTART:20251026T010000
END:STANDARD
BEGIN:DAYLIGHT
TZOFFSETFROM:+0100
TZOFFSETTO:+0200
TZNAME:CEST
DTSTART:20260329T010000
END:DAYLIGHT
BEGIN:STANDARD
TZOFFSETFROM:+0200
TZOFFSETTO:+0100
TZNAME:CET
DTSTART:20261025T010000
END:STANDARD
END:VTIMEZONE
BEGIN:VEVENT
DTSTART;TZID=Europe/Berlin:20250518T110000
DTEND;TZID=Europe/Berlin:20250518T140000
DTSTAMP:20260425T193556
CREATED:20250306T082721Z
LAST-MODIFIED:20250415T180953Z
UID:10017851-1747566000-1747576800@staging.hauslebenskraft.de
SUMMARY:Yoga-Workshop „Flexibilität und Freiheit“
DESCRIPTION:Das Dehnen von Muskeln\, Gelenken und Bindegewebe dient auf vielfache Weise unserer Gesundheit und erzeugt ein sofortiges Gefühl von Weite und Leichtigkeit.\n\nKörperliche Dehnbarkeit schenkt uns einen erweiterten Bewegungsradius und das resultierende Wohlbefinden wirkt sich befreiend auf unsere Gedanken aus.\n\nIn diesem Workshop erkunden wir praktische Tricks und Tipps\, wie wir in unseren Asanas höhere Dehnbarkeit erreichen und mit der Flexibilität unseres Denkens Ängste\, Negativität und innere Widerstände lösen können.\n\nDer Workshop kostet 60 Euro und ich bitte um eine Anmeldung bis zum 3.05.\n\n\nBei Interesse\, melde dich gerne unter judith.rauxloh@gmx.de\n 01520 77777 48\,\noder www.lebenswerkstatt-potsdam.de
URL:https://staging.hauslebenskraft.de/veranstaltung/judith-3/
LOCATION:Haus Lebenskraft\, Gutenbergstr. 30\, Potsdam\, Brandenburg\, 14467\, Germany
CATEGORIES:Öffentlich, Raum der Erde
ORGANIZER;CN="Judith Rauxloh":MAILTO:judith.rauxloh@gmx.de
END:VEVENT
END:VCALENDAR