BEGIN:VCALENDAR
VERSION:2.0
PRODID:-//Haus Lebenskraft - ECPv6.15.20//NONSGML v1.0//EN
CALSCALE:GREGORIAN
METHOD:PUBLISH
X-WR-CALNAME:Haus Lebenskraft
X-ORIGINAL-URL:https://staging.hauslebenskraft.de
X-WR-CALDESC:Veranstaltungen für Haus Lebenskraft
REFRESH-INTERVAL;VALUE=DURATION:PT1H
X-Robots-Tag:noindex
X-PUBLISHED-TTL:PT1H
BEGIN:VTIMEZONE
TZID:Europe/Berlin
BEGIN:DAYLIGHT
TZOFFSETFROM:+0100
TZOFFSETTO:+0200
TZNAME:CEST
DTSTART:20240331T010000
END:DAYLIGHT
BEGIN:STANDARD
TZOFFSETFROM:+0200
TZOFFSETTO:+0100
TZNAME:CET
DTSTART:20241027T010000
END:STANDARD
BEGIN:DAYLIGHT
TZOFFSETFROM:+0100
TZOFFSETTO:+0200
TZNAME:CEST
DTSTART:20250330T010000
END:DAYLIGHT
BEGIN:STANDARD
TZOFFSETFROM:+0200
TZOFFSETTO:+0100
TZNAME:CET
DTSTART:20251026T010000
END:STANDARD
BEGIN:DAYLIGHT
TZOFFSETFROM:+0100
TZOFFSETTO:+0200
TZNAME:CEST
DTSTART:20260329T010000
END:DAYLIGHT
BEGIN:STANDARD
TZOFFSETFROM:+0200
TZOFFSETTO:+0100
TZNAME:CET
DTSTART:20261025T010000
END:STANDARD
END:VTIMEZONE
BEGIN:VEVENT
DTSTART;TZID=Europe/Berlin:20250508T083000
DTEND;TZID=Europe/Berlin:20250508T180000
DTSTAMP:20260424T163736
CREATED:20240102T154842Z
LAST-MODIFIED:20260202T134002Z
UID:10016834-1746693000-1746727200@staging.hauslebenskraft.de
SUMMARY:intern
DESCRIPTION:Judith Rauxloh Therapie
URL:https://staging.hauslebenskraft.de/veranstaltung/judith-rauxloh-therapie-3-2/2025-05-08/
LOCATION:Haus Lebenskraft\, Gutenbergstr. 30\, Potsdam\, Brandenburg\, 14467\, Germany
CATEGORIES:Intern, Therapieraum
ORGANIZER;CN="Judith Rauxloh":MAILTO:judith.rauxloh@gmx.de
END:VEVENT
BEGIN:VEVENT
DTSTART;TZID=Europe/Berlin:20250508T180000
DTEND;TZID=Europe/Berlin:20250508T190000
DTSTAMP:20260424T163736
CREATED:20250204T112342Z
LAST-MODIFIED:20250606T091546Z
UID:10017589-1746727200-1746730800@staging.hauslebenskraft.de
SUMMARY:Vorbereitung Jeannette
DESCRIPTION:
URL:https://staging.hauslebenskraft.de/veranstaltung/vorbereitung-jeannette/2025-05-08/
LOCATION:Haus Lebenskraft\, Gutenbergstr. 30\, Potsdam\, Brandenburg\, 14467\, Germany
CATEGORIES:Intern, Raum der Erde
ORGANIZER;CN="Jeannette St%C3%B6lzel":MAILTO:contact@jeanne-heilimpulse.eu
END:VEVENT
BEGIN:VEVENT
DTSTART;TZID=Europe/Berlin:20250508T180000
DTEND;TZID=Europe/Berlin:20250508T191500
DTSTAMP:20260424T163736
CREATED:20250202T153457Z
LAST-MODIFIED:20260202T134108Z
UID:10015953-1746727200-1746731700@staging.hauslebenskraft.de
SUMMARY:Bauchtanz
DESCRIPTION:Bauchtanz\, eigentlich „Orientalischer Tanz“ nimmt Dich mit in eine andere Welt. Wie kaum ein anderer Tanz vereint er Weiblichkeit\, Körperbeherrschung und Tanzfreude. Als positiven Nebeneffekt verbessert er Deine Beweglichkeit\, Deine Haltung und Dein körperliches und seelisches Wohlbefinden. Die typischen Bewegungen werden stets mit viel Tanzfreude geübt und bis hin zu Choreographien miteinander kombiniert. Zusätzlich werden in manchen Stunden Elemente wie der Tanzschleier hinzugenommen. \nBauchtanz bzw. Orientalischer Tanz eignet sich für alle Frauen und Mädchen jeden Alters.\nDieser Kurs ist für Tänzerinnen mit Vorkenntnissen. Einsteigerinnen: nach Rücksprache möglich. Erste Schnupperstunde 10 €. \nKosten: 50 € monatlich \nInfo: https://www.zeyna.com \nTelefon: 0151 432 53 180
URL:https://staging.hauslebenskraft.de/veranstaltung/bauchtanz-5/2025-05-08/
LOCATION:Haus Lebenskraft\, Gutenbergstr. 30\, Potsdam\, Brandenburg\, 14467\, Germany
CATEGORIES:Öffentlich, Sonnenraum
ATTACH;FMTTYPE=image/png:https://staging.hauslebenskraft.de/wp-content/uploads/2026/02/bauchtanz_potsdam-1.png
ORGANIZER;CN="Sabine Richter":MAILTO:sabinezeyna@yahoo.de
END:VEVENT
BEGIN:VEVENT
DTSTART;TZID=Europe/Berlin:20250508T190000
DTEND;TZID=Europe/Berlin:20250508T210000
DTSTAMP:20260424T163736
CREATED:20240430T124205Z
LAST-MODIFIED:20251113T144054Z
UID:10013985-1746730800-1746738000@staging.hauslebenskraft.de
SUMMARY:HeilraumReise mit Jeannette
DESCRIPTION:HeilraumReise \nIch lade dich ein\, Räume zu erfahren\, in denen sich dein Körper an seinen lichtvollen Ursprung erinnern kann. Gerne begleite ich dich gemeinsam mit den lichtvollen Helfern aus der geistigen Welt\, die Energie der neuen Zeit anzunehmen\, mit ihr zu schwingen und deinen physischen\, geistigen und feinstofflichen Körper (Chakren\, Meridiane…) zu stabilisieren. \nVon Herzen Jeannette \n  \nTermine: Jeden 2. Donnerstag im Monat von 19 bis 21 Uhr\, (Raum der Erde) \nEnergieausgleich: 30-35 EUR \nOrt: Haus Lebenskraft\, Gutenbergstr. 30\, 14467 Potsdam\, www.hauslebenskraft.de \nAnmeldung: jeannettedu@web.de oder 01577 6203876 \n  \n 
URL:https://staging.hauslebenskraft.de/veranstaltung/vorbereitung-chakren-in-balance/2025-05-08/
LOCATION:Haus Lebenskraft\, Gutenbergstr. 30\, Potsdam\, Brandenburg\, 14467\, Germany
CATEGORIES:Öffentlich, Raum der Erde
ORGANIZER;CN="Jeannette St%C3%B6lzel":MAILTO:contact@jeanne-heilimpulse.eu
END:VEVENT
END:VCALENDAR