BEGIN:VCALENDAR
VERSION:2.0
PRODID:-//Haus Lebenskraft - ECPv6.15.20//NONSGML v1.0//EN
CALSCALE:GREGORIAN
METHOD:PUBLISH
X-WR-CALNAME:Haus Lebenskraft
X-ORIGINAL-URL:https://staging.hauslebenskraft.de
X-WR-CALDESC:Veranstaltungen für Haus Lebenskraft
REFRESH-INTERVAL;VALUE=DURATION:PT1H
X-Robots-Tag:noindex
X-PUBLISHED-TTL:PT1H
BEGIN:VTIMEZONE
TZID:Europe/Berlin
BEGIN:DAYLIGHT
TZOFFSETFROM:+0100
TZOFFSETTO:+0200
TZNAME:CEST
DTSTART:20240331T010000
END:DAYLIGHT
BEGIN:STANDARD
TZOFFSETFROM:+0200
TZOFFSETTO:+0100
TZNAME:CET
DTSTART:20241027T010000
END:STANDARD
BEGIN:DAYLIGHT
TZOFFSETFROM:+0100
TZOFFSETTO:+0200
TZNAME:CEST
DTSTART:20250330T010000
END:DAYLIGHT
BEGIN:STANDARD
TZOFFSETFROM:+0200
TZOFFSETTO:+0100
TZNAME:CET
DTSTART:20251026T010000
END:STANDARD
BEGIN:DAYLIGHT
TZOFFSETFROM:+0100
TZOFFSETTO:+0200
TZNAME:CEST
DTSTART:20260329T010000
END:DAYLIGHT
BEGIN:STANDARD
TZOFFSETFROM:+0200
TZOFFSETTO:+0100
TZNAME:CET
DTSTART:20261025T010000
END:STANDARD
END:VTIMEZONE
BEGIN:VEVENT
DTSTART;TZID=Europe/Berlin:20250425T183000
DTEND;TZID=Europe/Berlin:20250425T190000
DTSTAMP:20260424T235529
CREATED:20250312T120753Z
LAST-MODIFIED:20250312T120829Z
UID:10012974-1745605800-1745607600@staging.hauslebenskraft.de
SUMMARY:Reserviert für Singkreis
DESCRIPTION:
URL:https://staging.hauslebenskraft.de/veranstaltung/reserviert-fuer-singkreis/
LOCATION:Haus Lebenskraft\, Gutenbergstr. 30\, Potsdam\, Brandenburg\, 14467\, Germany
CATEGORIES:Intern, Raum der Erde
ORGANIZER;CN="Uta Baunach":MAILTO:uta@sing-doch-einfach-mit.de
END:VEVENT
BEGIN:VEVENT
DTSTART;TZID=Europe/Berlin:20250425T190000
DTEND;TZID=Europe/Berlin:20250425T203000
DTSTAMP:20260424T235529
CREATED:20250312T120315Z
LAST-MODIFIED:20250320T075111Z
UID:10015418-1745607600-1745613000@staging.hauslebenskraft.de
SUMMARY:Singkreis mit Uta und Conny
DESCRIPTION:Einfach zu lernende\, kraftvolle Lieder aus der ganzen Welt zum Mitsingen und Schwingen … angeleitet und begleitet von Conny (Djembé) und Uta (Gitarre).\n\nDieser Singkreis findet anstelle des regulären monatlichen Termins am 4. Donnerstag/Monat statt.\n\nAuf Spendenbasis (Empfehlung 10 €)\n\nKontakt: uta@sing-doch-einfach-mit.de\nHomepage: sing-doch-einfach-mit.de
URL:https://staging.hauslebenskraft.de/veranstaltung/singkreis-mit-uta-und-savitri/
LOCATION:Haus Lebenskraft\, Gutenbergstr. 30\, Potsdam\, Brandenburg\, 14467\, Germany
CATEGORIES:Öffentlich, Raum der Erde
ORGANIZER;CN="Uta Baunach":MAILTO:uta@sing-doch-einfach-mit.de
END:VEVENT
END:VCALENDAR