BEGIN:VCALENDAR
VERSION:2.0
PRODID:-//Haus Lebenskraft - ECPv6.15.20//NONSGML v1.0//EN
CALSCALE:GREGORIAN
METHOD:PUBLISH
X-WR-CALNAME:Haus Lebenskraft
X-ORIGINAL-URL:https://staging.hauslebenskraft.de
X-WR-CALDESC:Veranstaltungen für Haus Lebenskraft
REFRESH-INTERVAL;VALUE=DURATION:PT1H
X-Robots-Tag:noindex
X-PUBLISHED-TTL:PT1H
BEGIN:VTIMEZONE
TZID:Europe/Berlin
BEGIN:DAYLIGHT
TZOFFSETFROM:+0100
TZOFFSETTO:+0200
TZNAME:CEST
DTSTART:20260329T010000
END:DAYLIGHT
BEGIN:STANDARD
TZOFFSETFROM:+0200
TZOFFSETTO:+0100
TZNAME:CET
DTSTART:20261025T010000
END:STANDARD
BEGIN:DAYLIGHT
TZOFFSETFROM:+0100
TZOFFSETTO:+0200
TZNAME:CEST
DTSTART:20270328T010000
END:DAYLIGHT
BEGIN:STANDARD
TZOFFSETFROM:+0200
TZOFFSETTO:+0100
TZNAME:CET
DTSTART:20271031T010000
END:STANDARD
BEGIN:DAYLIGHT
TZOFFSETFROM:+0100
TZOFFSETTO:+0200
TZNAME:CEST
DTSTART:20280326T010000
END:DAYLIGHT
BEGIN:STANDARD
TZOFFSETFROM:+0200
TZOFFSETTO:+0100
TZNAME:CET
DTSTART:20281029T010000
END:STANDARD
END:VTIMEZONE
BEGIN:VEVENT
DTSTART;TZID=Europe/Berlin:20270715T090000
DTEND;TZID=Europe/Berlin:20270715T170000
DTSTAMP:20260425T055919
CREATED:20260423T105810Z
LAST-MODIFIED:20260423T105810Z
UID:10026054-1815642000-1815670800@staging.hauslebenskraft.de
SUMMARY:300h Module Supervision und Hands-On ( Lalla)
DESCRIPTION:
URL:https://staging.hauslebenskraft.de/veranstaltung/300h-module-supervision-und-hands-on-lalla/2027-07-15/
LOCATION:Haus Lebenskraft\, Gutenbergstr. 30\, Potsdam\, Brandenburg\, 14467\, Germany
CATEGORIES:Intern, Sonnenraum
ORGANIZER;CN="parApara Digital GmbH":MAILTO:lena@lallaundvilas.de
END:VEVENT
BEGIN:VEVENT
DTSTART;TZID=Europe/Berlin:20270716T090000
DTEND;TZID=Europe/Berlin:20270716T150000
DTSTAMP:20260425T055919
CREATED:20260423T105810Z
LAST-MODIFIED:20260423T105810Z
UID:10026055-1815728400-1815750000@staging.hauslebenskraft.de
SUMMARY:300h Module Supervision und Hands-On ( Lalla)
DESCRIPTION:
URL:https://staging.hauslebenskraft.de/veranstaltung/300h-module-supervision-und-hands-on-lalla/2027-07-16/
LOCATION:Haus Lebenskraft\, Gutenbergstr. 30\, Potsdam\, Brandenburg\, 14467\, Germany
CATEGORIES:Intern, Sonnenraum
ORGANIZER;CN="parApara Digital GmbH":MAILTO:lena@lallaundvilas.de
END:VEVENT
BEGIN:VEVENT
DTSTART;TZID=Europe/Berlin:20270717T090000
DTEND;TZID=Europe/Berlin:20270717T170000
DTSTAMP:20260425T055919
CREATED:20260423T105810Z
LAST-MODIFIED:20260423T105810Z
UID:10026056-1815814800-1815843600@staging.hauslebenskraft.de
SUMMARY:300h Module Supervision und Hands-On ( Lalla)
DESCRIPTION:
URL:https://staging.hauslebenskraft.de/veranstaltung/300h-module-supervision-und-hands-on-lalla/2027-07-17/
LOCATION:Haus Lebenskraft\, Gutenbergstr. 30\, Potsdam\, Brandenburg\, 14467\, Germany
CATEGORIES:Intern, Sonnenraum
ORGANIZER;CN="parApara Digital GmbH":MAILTO:lena@lallaundvilas.de
END:VEVENT
BEGIN:VEVENT
DTSTART;TZID=Europe/Berlin:20270718T090000
DTEND;TZID=Europe/Berlin:20270718T150000
DTSTAMP:20260425T055919
CREATED:20260423T105810Z
LAST-MODIFIED:20260423T105810Z
UID:10026057-1815901200-1815922800@staging.hauslebenskraft.de
SUMMARY:300h Module Supervision und Hands-On ( Lalla)
DESCRIPTION:
URL:https://staging.hauslebenskraft.de/veranstaltung/300h-module-supervision-und-hands-on-lalla/2027-07-18/
LOCATION:Haus Lebenskraft\, Gutenbergstr. 30\, Potsdam\, Brandenburg\, 14467\, Germany
CATEGORIES:Intern, Sonnenraum
ORGANIZER;CN="parApara Digital GmbH":MAILTO:lena@lallaundvilas.de
END:VEVENT
END:VCALENDAR