BEGIN:VCALENDAR
VERSION:2.0
PRODID:-//Haus Lebenskraft - ECPv6.15.20//NONSGML v1.0//EN
CALSCALE:GREGORIAN
METHOD:PUBLISH
X-WR-CALNAME:Haus Lebenskraft
X-ORIGINAL-URL:https://staging.hauslebenskraft.de
X-WR-CALDESC:Veranstaltungen für Haus Lebenskraft
REFRESH-INTERVAL;VALUE=DURATION:PT1H
X-Robots-Tag:noindex
X-PUBLISHED-TTL:PT1H
BEGIN:VTIMEZONE
TZID:Europe/Berlin
BEGIN:DAYLIGHT
TZOFFSETFROM:+0100
TZOFFSETTO:+0200
TZNAME:CEST
DTSTART:20250330T010000
END:DAYLIGHT
BEGIN:STANDARD
TZOFFSETFROM:+0200
TZOFFSETTO:+0100
TZNAME:CET
DTSTART:20251026T010000
END:STANDARD
BEGIN:DAYLIGHT
TZOFFSETFROM:+0100
TZOFFSETTO:+0200
TZNAME:CEST
DTSTART:20260329T010000
END:DAYLIGHT
BEGIN:STANDARD
TZOFFSETFROM:+0200
TZOFFSETTO:+0100
TZNAME:CET
DTSTART:20261025T010000
END:STANDARD
BEGIN:DAYLIGHT
TZOFFSETFROM:+0100
TZOFFSETTO:+0200
TZNAME:CEST
DTSTART:20270328T010000
END:DAYLIGHT
BEGIN:STANDARD
TZOFFSETFROM:+0200
TZOFFSETTO:+0100
TZNAME:CET
DTSTART:20271031T010000
END:STANDARD
END:VTIMEZONE
BEGIN:VEVENT
DTSTART;TZID=Europe/Berlin:20260420T100000
DTEND;TZID=Europe/Berlin:20260420T110000
DTSTAMP:20260419T163852
CREATED:20260302T175358Z
LAST-MODIFIED:20260312T073135Z
UID:10025509-1776679200-1776682800@staging.hauslebenskraft.de
SUMMARY:intern
DESCRIPTION:Sabrina
URL:https://staging.hauslebenskraft.de/veranstaltung/intern-22/2026-04-20/
LOCATION:Haus Lebenskraft\, Gutenbergstr. 30\, Potsdam\, Brandenburg\, 14467\, Germany
CATEGORIES:Intern, Therapieraum
ORGANIZER;CN="Sabrina G%C3%B6risch":MAILTO:sabrinagoerisch@gmail.com
END:VEVENT
BEGIN:VEVENT
DTSTART;TZID=Europe/Berlin:20260424T090000
DTEND;TZID=Europe/Berlin:20260424T100000
DTSTAMP:20260419T163852
CREATED:20260302T175358Z
LAST-MODIFIED:20260312T073135Z
UID:10025510-1777021200-1777024800@staging.hauslebenskraft.de
SUMMARY:intern
DESCRIPTION:Sabrina
URL:https://staging.hauslebenskraft.de/veranstaltung/intern-22/2026-04-24/
LOCATION:Haus Lebenskraft\, Gutenbergstr. 30\, Potsdam\, Brandenburg\, 14467\, Germany
CATEGORIES:Intern, Therapieraum
ORGANIZER;CN="Sabrina G%C3%B6risch":MAILTO:sabrinagoerisch@gmail.com
END:VEVENT
BEGIN:VEVENT
DTSTART;TZID=Europe/Berlin:20260428T090000
DTEND;TZID=Europe/Berlin:20260428T100000
DTSTAMP:20260419T163852
CREATED:20260302T175358Z
LAST-MODIFIED:20260312T073135Z
UID:10025511-1777366800-1777370400@staging.hauslebenskraft.de
SUMMARY:intern
DESCRIPTION:Sabrina
URL:https://staging.hauslebenskraft.de/veranstaltung/intern-22/2026-04-28/
LOCATION:Haus Lebenskraft\, Gutenbergstr. 30\, Potsdam\, Brandenburg\, 14467\, Germany
CATEGORIES:Intern, Therapieraum
ORGANIZER;CN="Sabrina G%C3%B6risch":MAILTO:sabrinagoerisch@gmail.com
END:VEVENT
BEGIN:VEVENT
DTSTART;TZID=Europe/Berlin:20260508T090000
DTEND;TZID=Europe/Berlin:20260508T100000
DTSTAMP:20260419T163852
CREATED:20260302T175358Z
LAST-MODIFIED:20260312T073135Z
UID:10025512-1778230800-1778234400@staging.hauslebenskraft.de
SUMMARY:intern
DESCRIPTION:Sabrina
URL:https://staging.hauslebenskraft.de/veranstaltung/intern-22/2026-05-08/
LOCATION:Haus Lebenskraft\, Gutenbergstr. 30\, Potsdam\, Brandenburg\, 14467\, Germany
CATEGORIES:Intern, Therapieraum
ORGANIZER;CN="Sabrina G%C3%B6risch":MAILTO:sabrinagoerisch@gmail.com
END:VEVENT
BEGIN:VEVENT
DTSTART;TZID=Europe/Berlin:20260515T090000
DTEND;TZID=Europe/Berlin:20260515T100000
DTSTAMP:20260419T163853
CREATED:20260302T175358Z
LAST-MODIFIED:20260312T073135Z
UID:10025513-1778835600-1778839200@staging.hauslebenskraft.de
SUMMARY:intern
DESCRIPTION:Sabrina
URL:https://staging.hauslebenskraft.de/veranstaltung/intern-22/2026-05-15/
LOCATION:Haus Lebenskraft\, Gutenbergstr. 30\, Potsdam\, Brandenburg\, 14467\, Germany
CATEGORIES:Intern, Therapieraum
ORGANIZER;CN="Sabrina G%C3%B6risch":MAILTO:sabrinagoerisch@gmail.com
END:VEVENT
END:VCALENDAR