BEGIN:VCALENDAR
VERSION:2.0
PRODID:-//Haus Lebenskraft - ECPv6.15.20//NONSGML v1.0//EN
CALSCALE:GREGORIAN
METHOD:PUBLISH
X-WR-CALNAME:Haus Lebenskraft
X-ORIGINAL-URL:https://staging.hauslebenskraft.de
X-WR-CALDESC:Veranstaltungen für Haus Lebenskraft
REFRESH-INTERVAL;VALUE=DURATION:PT1H
X-Robots-Tag:noindex
X-PUBLISHED-TTL:PT1H
BEGIN:VTIMEZONE
TZID:Europe/Berlin
BEGIN:DAYLIGHT
TZOFFSETFROM:+0100
TZOFFSETTO:+0200
TZNAME:CEST
DTSTART:20250330T010000
END:DAYLIGHT
BEGIN:STANDARD
TZOFFSETFROM:+0200
TZOFFSETTO:+0100
TZNAME:CET
DTSTART:20251026T010000
END:STANDARD
BEGIN:DAYLIGHT
TZOFFSETFROM:+0100
TZOFFSETTO:+0200
TZNAME:CEST
DTSTART:20260329T010000
END:DAYLIGHT
BEGIN:STANDARD
TZOFFSETFROM:+0200
TZOFFSETTO:+0100
TZNAME:CET
DTSTART:20261025T010000
END:STANDARD
BEGIN:DAYLIGHT
TZOFFSETFROM:+0100
TZOFFSETTO:+0200
TZNAME:CEST
DTSTART:20270328T010000
END:DAYLIGHT
BEGIN:STANDARD
TZOFFSETFROM:+0200
TZOFFSETTO:+0100
TZNAME:CET
DTSTART:20271031T010000
END:STANDARD
BEGIN:DAYLIGHT
TZOFFSETFROM:+0100
TZOFFSETTO:+0200
TZNAME:CEST
DTSTART:20280326T010000
END:DAYLIGHT
BEGIN:STANDARD
TZOFFSETFROM:+0200
TZOFFSETTO:+0100
TZNAME:CET
DTSTART:20281029T010000
END:STANDARD
BEGIN:DAYLIGHT
TZOFFSETFROM:+0100
TZOFFSETTO:+0200
TZNAME:CEST
DTSTART:20290325T010000
END:DAYLIGHT
BEGIN:STANDARD
TZOFFSETFROM:+0200
TZOFFSETTO:+0100
TZNAME:CET
DTSTART:20291028T010000
END:STANDARD
END:VTIMEZONE
BEGIN:VEVENT
DTSTART;TZID=Europe/Berlin:20260521T173000
DTEND;TZID=Europe/Berlin:20260521T183000
DTSTAMP:20260419T182936
CREATED:20260112T184500Z
LAST-MODIFIED:20260112T184500Z
UID:10024426-1779384600-1779388200@staging.hauslebenskraft.de
SUMMARY:Vorb. Jeanette
DESCRIPTION:
URL:https://staging.hauslebenskraft.de/veranstaltung/vorb-jeanette-3/2026-05-21/
LOCATION:Haus Lebenskraft\, Gutenbergstr. 30\, Potsdam\, Brandenburg\, 14467\, Germany
CATEGORIES:Intern, Raum der Erde
END:VEVENT
BEGIN:VEVENT
DTSTART;TZID=Europe/Berlin:20260618T173000
DTEND;TZID=Europe/Berlin:20260618T183000
DTSTAMP:20260419T182936
CREATED:20260112T184500Z
LAST-MODIFIED:20260112T184500Z
UID:10024427-1781803800-1781807400@staging.hauslebenskraft.de
SUMMARY:Vorb. Jeanette
DESCRIPTION:
URL:https://staging.hauslebenskraft.de/veranstaltung/vorb-jeanette-3/2026-06-18/
LOCATION:Haus Lebenskraft\, Gutenbergstr. 30\, Potsdam\, Brandenburg\, 14467\, Germany
CATEGORIES:Intern, Raum der Erde
END:VEVENT
BEGIN:VEVENT
DTSTART;TZID=Europe/Berlin:20260716T173000
DTEND;TZID=Europe/Berlin:20260716T183000
DTSTAMP:20260419T182936
CREATED:20260112T184500Z
LAST-MODIFIED:20260112T184500Z
UID:10024428-1784223000-1784226600@staging.hauslebenskraft.de
SUMMARY:Vorb. Jeanette
DESCRIPTION:
URL:https://staging.hauslebenskraft.de/veranstaltung/vorb-jeanette-3/2026-07-16/
LOCATION:Haus Lebenskraft\, Gutenbergstr. 30\, Potsdam\, Brandenburg\, 14467\, Germany
CATEGORIES:Intern, Raum der Erde
END:VEVENT
BEGIN:VEVENT
DTSTART;TZID=Europe/Berlin:20260820T173000
DTEND;TZID=Europe/Berlin:20260820T183000
DTSTAMP:20260419T182936
CREATED:20260112T184500Z
LAST-MODIFIED:20260112T184500Z
UID:10024429-1787247000-1787250600@staging.hauslebenskraft.de
SUMMARY:Vorb. Jeanette
DESCRIPTION:
URL:https://staging.hauslebenskraft.de/veranstaltung/vorb-jeanette-3/2026-08-20/
LOCATION:Haus Lebenskraft\, Gutenbergstr. 30\, Potsdam\, Brandenburg\, 14467\, Germany
CATEGORIES:Intern, Raum der Erde
END:VEVENT
BEGIN:VEVENT
DTSTART;TZID=Europe/Berlin:20260917T173000
DTEND;TZID=Europe/Berlin:20260917T183000
DTSTAMP:20260419T182936
CREATED:20260112T184500Z
LAST-MODIFIED:20260112T184500Z
UID:10024430-1789666200-1789669800@staging.hauslebenskraft.de
SUMMARY:Vorb. Jeanette
DESCRIPTION:
URL:https://staging.hauslebenskraft.de/veranstaltung/vorb-jeanette-3/2026-09-17/
LOCATION:Haus Lebenskraft\, Gutenbergstr. 30\, Potsdam\, Brandenburg\, 14467\, Germany
CATEGORIES:Intern, Raum der Erde
END:VEVENT
BEGIN:VEVENT
DTSTART;TZID=Europe/Berlin:20261015T173000
DTEND;TZID=Europe/Berlin:20261015T183000
DTSTAMP:20260419T182936
CREATED:20260112T184500Z
LAST-MODIFIED:20260112T184500Z
UID:10024431-1792085400-1792089000@staging.hauslebenskraft.de
SUMMARY:Vorb. Jeanette
DESCRIPTION:
URL:https://staging.hauslebenskraft.de/veranstaltung/vorb-jeanette-3/2026-10-15/
LOCATION:Haus Lebenskraft\, Gutenbergstr. 30\, Potsdam\, Brandenburg\, 14467\, Germany
CATEGORIES:Intern, Raum der Erde
END:VEVENT
BEGIN:VEVENT
DTSTART;TZID=Europe/Berlin:20261119T173000
DTEND;TZID=Europe/Berlin:20261119T183000
DTSTAMP:20260419T182936
CREATED:20260112T184500Z
LAST-MODIFIED:20260112T184500Z
UID:10024432-1795109400-1795113000@staging.hauslebenskraft.de
SUMMARY:Vorb. Jeanette
DESCRIPTION:
URL:https://staging.hauslebenskraft.de/veranstaltung/vorb-jeanette-3/2026-11-19/
LOCATION:Haus Lebenskraft\, Gutenbergstr. 30\, Potsdam\, Brandenburg\, 14467\, Germany
CATEGORIES:Intern, Raum der Erde
END:VEVENT
BEGIN:VEVENT
DTSTART;TZID=Europe/Berlin:20261217T173000
DTEND;TZID=Europe/Berlin:20261217T183000
DTSTAMP:20260419T182936
CREATED:20260112T184500Z
LAST-MODIFIED:20260112T184500Z
UID:10024433-1797528600-1797532200@staging.hauslebenskraft.de
SUMMARY:Vorb. Jeanette
DESCRIPTION:
URL:https://staging.hauslebenskraft.de/veranstaltung/vorb-jeanette-3/2026-12-17/
LOCATION:Haus Lebenskraft\, Gutenbergstr. 30\, Potsdam\, Brandenburg\, 14467\, Germany
CATEGORIES:Intern, Raum der Erde
END:VEVENT
BEGIN:VEVENT
DTSTART;TZID=Europe/Berlin:20270121T173000
DTEND;TZID=Europe/Berlin:20270121T183000
DTSTAMP:20260419T182936
CREATED:20260112T184500Z
LAST-MODIFIED:20260112T184500Z
UID:10024434-1800552600-1800556200@staging.hauslebenskraft.de
SUMMARY:Vorb. Jeanette
DESCRIPTION:
URL:https://staging.hauslebenskraft.de/veranstaltung/vorb-jeanette-3/2027-01-21/
LOCATION:Haus Lebenskraft\, Gutenbergstr. 30\, Potsdam\, Brandenburg\, 14467\, Germany
CATEGORIES:Intern, Raum der Erde
END:VEVENT
BEGIN:VEVENT
DTSTART;TZID=Europe/Berlin:20270218T173000
DTEND;TZID=Europe/Berlin:20270218T183000
DTSTAMP:20260419T182936
CREATED:20260112T184500Z
LAST-MODIFIED:20260112T184500Z
UID:10024435-1802971800-1802975400@staging.hauslebenskraft.de
SUMMARY:Vorb. Jeanette
DESCRIPTION:
URL:https://staging.hauslebenskraft.de/veranstaltung/vorb-jeanette-3/2027-02-18/
LOCATION:Haus Lebenskraft\, Gutenbergstr. 30\, Potsdam\, Brandenburg\, 14467\, Germany
CATEGORIES:Intern, Raum der Erde
END:VEVENT
BEGIN:VEVENT
DTSTART;TZID=Europe/Berlin:20270318T173000
DTEND;TZID=Europe/Berlin:20270318T183000
DTSTAMP:20260419T182936
CREATED:20260112T184500Z
LAST-MODIFIED:20260112T184500Z
UID:10024436-1805391000-1805394600@staging.hauslebenskraft.de
SUMMARY:Vorb. Jeanette
DESCRIPTION:
URL:https://staging.hauslebenskraft.de/veranstaltung/vorb-jeanette-3/2027-03-18/
LOCATION:Haus Lebenskraft\, Gutenbergstr. 30\, Potsdam\, Brandenburg\, 14467\, Germany
CATEGORIES:Intern, Raum der Erde
END:VEVENT
BEGIN:VEVENT
DTSTART;TZID=Europe/Berlin:20270415T173000
DTEND;TZID=Europe/Berlin:20270415T183000
DTSTAMP:20260419T182936
CREATED:20260112T184500Z
LAST-MODIFIED:20260112T184500Z
UID:10024437-1807810200-1807813800@staging.hauslebenskraft.de
SUMMARY:Vorb. Jeanette
DESCRIPTION:
URL:https://staging.hauslebenskraft.de/veranstaltung/vorb-jeanette-3/2027-04-15/
LOCATION:Haus Lebenskraft\, Gutenbergstr. 30\, Potsdam\, Brandenburg\, 14467\, Germany
CATEGORIES:Intern, Raum der Erde
END:VEVENT
BEGIN:VEVENT
DTSTART;TZID=Europe/Berlin:20270520T173000
DTEND;TZID=Europe/Berlin:20270520T183000
DTSTAMP:20260419T182936
CREATED:20260112T184500Z
LAST-MODIFIED:20260112T184500Z
UID:10024438-1810834200-1810837800@staging.hauslebenskraft.de
SUMMARY:Vorb. Jeanette
DESCRIPTION:
URL:https://staging.hauslebenskraft.de/veranstaltung/vorb-jeanette-3/2027-05-20/
LOCATION:Haus Lebenskraft\, Gutenbergstr. 30\, Potsdam\, Brandenburg\, 14467\, Germany
CATEGORIES:Intern, Raum der Erde
END:VEVENT
BEGIN:VEVENT
DTSTART;TZID=Europe/Berlin:20270617T173000
DTEND;TZID=Europe/Berlin:20270617T183000
DTSTAMP:20260419T182936
CREATED:20260112T184500Z
LAST-MODIFIED:20260112T184500Z
UID:10024439-1813253400-1813257000@staging.hauslebenskraft.de
SUMMARY:Vorb. Jeanette
DESCRIPTION:
URL:https://staging.hauslebenskraft.de/veranstaltung/vorb-jeanette-3/2027-06-17/
LOCATION:Haus Lebenskraft\, Gutenbergstr. 30\, Potsdam\, Brandenburg\, 14467\, Germany
CATEGORIES:Intern, Raum der Erde
END:VEVENT
BEGIN:VEVENT
DTSTART;TZID=Europe/Berlin:20270715T173000
DTEND;TZID=Europe/Berlin:20270715T183000
DTSTAMP:20260419T182936
CREATED:20260112T184500Z
LAST-MODIFIED:20260112T184500Z
UID:10024440-1815672600-1815676200@staging.hauslebenskraft.de
SUMMARY:Vorb. Jeanette
DESCRIPTION:
URL:https://staging.hauslebenskraft.de/veranstaltung/vorb-jeanette-3/2027-07-15/
LOCATION:Haus Lebenskraft\, Gutenbergstr. 30\, Potsdam\, Brandenburg\, 14467\, Germany
CATEGORIES:Intern, Raum der Erde
END:VEVENT
BEGIN:VEVENT
DTSTART;TZID=Europe/Berlin:20270819T173000
DTEND;TZID=Europe/Berlin:20270819T183000
DTSTAMP:20260419T182936
CREATED:20260112T184500Z
LAST-MODIFIED:20260112T184500Z
UID:10024441-1818696600-1818700200@staging.hauslebenskraft.de
SUMMARY:Vorb. Jeanette
DESCRIPTION:
URL:https://staging.hauslebenskraft.de/veranstaltung/vorb-jeanette-3/2027-08-19/
LOCATION:Haus Lebenskraft\, Gutenbergstr. 30\, Potsdam\, Brandenburg\, 14467\, Germany
CATEGORIES:Intern, Raum der Erde
END:VEVENT
BEGIN:VEVENT
DTSTART;TZID=Europe/Berlin:20270916T173000
DTEND;TZID=Europe/Berlin:20270916T183000
DTSTAMP:20260419T182936
CREATED:20260112T184500Z
LAST-MODIFIED:20260112T184500Z
UID:10024442-1821115800-1821119400@staging.hauslebenskraft.de
SUMMARY:Vorb. Jeanette
DESCRIPTION:
URL:https://staging.hauslebenskraft.de/veranstaltung/vorb-jeanette-3/2027-09-16/
LOCATION:Haus Lebenskraft\, Gutenbergstr. 30\, Potsdam\, Brandenburg\, 14467\, Germany
CATEGORIES:Intern, Raum der Erde
END:VEVENT
BEGIN:VEVENT
DTSTART;TZID=Europe/Berlin:20271021T173000
DTEND;TZID=Europe/Berlin:20271021T183000
DTSTAMP:20260419T182936
CREATED:20260112T184500Z
LAST-MODIFIED:20260112T184500Z
UID:10024443-1824139800-1824143400@staging.hauslebenskraft.de
SUMMARY:Vorb. Jeanette
DESCRIPTION:
URL:https://staging.hauslebenskraft.de/veranstaltung/vorb-jeanette-3/2027-10-21/
LOCATION:Haus Lebenskraft\, Gutenbergstr. 30\, Potsdam\, Brandenburg\, 14467\, Germany
CATEGORIES:Intern, Raum der Erde
END:VEVENT
BEGIN:VEVENT
DTSTART;TZID=Europe/Berlin:20271118T173000
DTEND;TZID=Europe/Berlin:20271118T183000
DTSTAMP:20260419T182936
CREATED:20260112T184500Z
LAST-MODIFIED:20260112T184500Z
UID:10024444-1826559000-1826562600@staging.hauslebenskraft.de
SUMMARY:Vorb. Jeanette
DESCRIPTION:
URL:https://staging.hauslebenskraft.de/veranstaltung/vorb-jeanette-3/2027-11-18/
LOCATION:Haus Lebenskraft\, Gutenbergstr. 30\, Potsdam\, Brandenburg\, 14467\, Germany
CATEGORIES:Intern, Raum der Erde
END:VEVENT
BEGIN:VEVENT
DTSTART;TZID=Europe/Berlin:20271216T173000
DTEND;TZID=Europe/Berlin:20271216T183000
DTSTAMP:20260419T182936
CREATED:20260112T184500Z
LAST-MODIFIED:20260112T184500Z
UID:10024445-1828978200-1828981800@staging.hauslebenskraft.de
SUMMARY:Vorb. Jeanette
DESCRIPTION:
URL:https://staging.hauslebenskraft.de/veranstaltung/vorb-jeanette-3/2027-12-16/
LOCATION:Haus Lebenskraft\, Gutenbergstr. 30\, Potsdam\, Brandenburg\, 14467\, Germany
CATEGORIES:Intern, Raum der Erde
END:VEVENT
BEGIN:VEVENT
DTSTART;TZID=Europe/Berlin:20280120T173000
DTEND;TZID=Europe/Berlin:20280120T183000
DTSTAMP:20260419T182936
CREATED:20260112T184500Z
LAST-MODIFIED:20260112T184500Z
UID:10024446-1832002200-1832005800@staging.hauslebenskraft.de
SUMMARY:Vorb. Jeanette
DESCRIPTION:
URL:https://staging.hauslebenskraft.de/veranstaltung/vorb-jeanette-3/2028-01-20/
LOCATION:Haus Lebenskraft\, Gutenbergstr. 30\, Potsdam\, Brandenburg\, 14467\, Germany
CATEGORIES:Intern, Raum der Erde
END:VEVENT
BEGIN:VEVENT
DTSTART;TZID=Europe/Berlin:20280217T173000
DTEND;TZID=Europe/Berlin:20280217T183000
DTSTAMP:20260419T182936
CREATED:20260112T184500Z
LAST-MODIFIED:20260112T184500Z
UID:10024447-1834421400-1834425000@staging.hauslebenskraft.de
SUMMARY:Vorb. Jeanette
DESCRIPTION:
URL:https://staging.hauslebenskraft.de/veranstaltung/vorb-jeanette-3/2028-02-17/
LOCATION:Haus Lebenskraft\, Gutenbergstr. 30\, Potsdam\, Brandenburg\, 14467\, Germany
CATEGORIES:Intern, Raum der Erde
END:VEVENT
BEGIN:VEVENT
DTSTART;TZID=Europe/Berlin:20280316T173000
DTEND;TZID=Europe/Berlin:20280316T183000
DTSTAMP:20260419T182936
CREATED:20260112T184500Z
LAST-MODIFIED:20260112T184500Z
UID:10024448-1836840600-1836844200@staging.hauslebenskraft.de
SUMMARY:Vorb. Jeanette
DESCRIPTION:
URL:https://staging.hauslebenskraft.de/veranstaltung/vorb-jeanette-3/2028-03-16/
LOCATION:Haus Lebenskraft\, Gutenbergstr. 30\, Potsdam\, Brandenburg\, 14467\, Germany
CATEGORIES:Intern, Raum der Erde
END:VEVENT
BEGIN:VEVENT
DTSTART;TZID=Europe/Berlin:20280420T173000
DTEND;TZID=Europe/Berlin:20280420T183000
DTSTAMP:20260419T182936
CREATED:20260112T184500Z
LAST-MODIFIED:20260112T184500Z
UID:10024449-1839864600-1839868200@staging.hauslebenskraft.de
SUMMARY:Vorb. Jeanette
DESCRIPTION:
URL:https://staging.hauslebenskraft.de/veranstaltung/vorb-jeanette-3/2028-04-20/
LOCATION:Haus Lebenskraft\, Gutenbergstr. 30\, Potsdam\, Brandenburg\, 14467\, Germany
CATEGORIES:Intern, Raum der Erde
END:VEVENT
BEGIN:VEVENT
DTSTART;TZID=Europe/Berlin:20280518T173000
DTEND;TZID=Europe/Berlin:20280518T183000
DTSTAMP:20260419T182936
CREATED:20260112T184500Z
LAST-MODIFIED:20260112T184500Z
UID:10024450-1842283800-1842287400@staging.hauslebenskraft.de
SUMMARY:Vorb. Jeanette
DESCRIPTION:
URL:https://staging.hauslebenskraft.de/veranstaltung/vorb-jeanette-3/2028-05-18/
LOCATION:Haus Lebenskraft\, Gutenbergstr. 30\, Potsdam\, Brandenburg\, 14467\, Germany
CATEGORIES:Intern, Raum der Erde
END:VEVENT
BEGIN:VEVENT
DTSTART;TZID=Europe/Berlin:20280615T173000
DTEND;TZID=Europe/Berlin:20280615T183000
DTSTAMP:20260419T182936
CREATED:20260112T184500Z
LAST-MODIFIED:20260112T184500Z
UID:10024451-1844703000-1844706600@staging.hauslebenskraft.de
SUMMARY:Vorb. Jeanette
DESCRIPTION:
URL:https://staging.hauslebenskraft.de/veranstaltung/vorb-jeanette-3/2028-06-15/
LOCATION:Haus Lebenskraft\, Gutenbergstr. 30\, Potsdam\, Brandenburg\, 14467\, Germany
CATEGORIES:Intern, Raum der Erde
END:VEVENT
BEGIN:VEVENT
DTSTART;TZID=Europe/Berlin:20280720T173000
DTEND;TZID=Europe/Berlin:20280720T183000
DTSTAMP:20260419T182936
CREATED:20260112T184500Z
LAST-MODIFIED:20260112T184500Z
UID:10024452-1847727000-1847730600@staging.hauslebenskraft.de
SUMMARY:Vorb. Jeanette
DESCRIPTION:
URL:https://staging.hauslebenskraft.de/veranstaltung/vorb-jeanette-3/2028-07-20/
LOCATION:Haus Lebenskraft\, Gutenbergstr. 30\, Potsdam\, Brandenburg\, 14467\, Germany
CATEGORIES:Intern, Raum der Erde
END:VEVENT
BEGIN:VEVENT
DTSTART;TZID=Europe/Berlin:20280817T173000
DTEND;TZID=Europe/Berlin:20280817T183000
DTSTAMP:20260419T182936
CREATED:20260112T184500Z
LAST-MODIFIED:20260112T184500Z
UID:10024453-1850146200-1850149800@staging.hauslebenskraft.de
SUMMARY:Vorb. Jeanette
DESCRIPTION:
URL:https://staging.hauslebenskraft.de/veranstaltung/vorb-jeanette-3/2028-08-17/
LOCATION:Haus Lebenskraft\, Gutenbergstr. 30\, Potsdam\, Brandenburg\, 14467\, Germany
CATEGORIES:Intern, Raum der Erde
END:VEVENT
BEGIN:VEVENT
DTSTART;TZID=Europe/Berlin:20280921T173000
DTEND;TZID=Europe/Berlin:20280921T183000
DTSTAMP:20260419T182936
CREATED:20260112T184500Z
LAST-MODIFIED:20260112T184500Z
UID:10024454-1853170200-1853173800@staging.hauslebenskraft.de
SUMMARY:Vorb. Jeanette
DESCRIPTION:
URL:https://staging.hauslebenskraft.de/veranstaltung/vorb-jeanette-3/2028-09-21/
LOCATION:Haus Lebenskraft\, Gutenbergstr. 30\, Potsdam\, Brandenburg\, 14467\, Germany
CATEGORIES:Intern, Raum der Erde
END:VEVENT
BEGIN:VEVENT
DTSTART;TZID=Europe/Berlin:20281019T173000
DTEND;TZID=Europe/Berlin:20281019T183000
DTSTAMP:20260419T182936
CREATED:20260112T184500Z
LAST-MODIFIED:20260112T184500Z
UID:10024455-1855589400-1855593000@staging.hauslebenskraft.de
SUMMARY:Vorb. Jeanette
DESCRIPTION:
URL:https://staging.hauslebenskraft.de/veranstaltung/vorb-jeanette-3/2028-10-19/
LOCATION:Haus Lebenskraft\, Gutenbergstr. 30\, Potsdam\, Brandenburg\, 14467\, Germany
CATEGORIES:Intern, Raum der Erde
END:VEVENT
END:VCALENDAR