BEGIN:VCALENDAR
VERSION:2.0
PRODID:-//Haus Lebenskraft - ECPv6.15.20//NONSGML v1.0//EN
CALSCALE:GREGORIAN
METHOD:PUBLISH
X-WR-CALNAME:Haus Lebenskraft
X-ORIGINAL-URL:https://staging.hauslebenskraft.de
X-WR-CALDESC:Veranstaltungen für Haus Lebenskraft
REFRESH-INTERVAL;VALUE=DURATION:PT1H
X-Robots-Tag:noindex
X-PUBLISHED-TTL:PT1H
BEGIN:VTIMEZONE
TZID:Europe/Berlin
BEGIN:DAYLIGHT
TZOFFSETFROM:+0100
TZOFFSETTO:+0200
TZNAME:CEST
DTSTART:20250330T010000
END:DAYLIGHT
BEGIN:STANDARD
TZOFFSETFROM:+0200
TZOFFSETTO:+0100
TZNAME:CET
DTSTART:20251026T010000
END:STANDARD
BEGIN:DAYLIGHT
TZOFFSETFROM:+0100
TZOFFSETTO:+0200
TZNAME:CEST
DTSTART:20260329T010000
END:DAYLIGHT
BEGIN:STANDARD
TZOFFSETFROM:+0200
TZOFFSETTO:+0100
TZNAME:CET
DTSTART:20261025T010000
END:STANDARD
BEGIN:DAYLIGHT
TZOFFSETFROM:+0100
TZOFFSETTO:+0200
TZNAME:CEST
DTSTART:20270328T010000
END:DAYLIGHT
BEGIN:STANDARD
TZOFFSETFROM:+0200
TZOFFSETTO:+0100
TZNAME:CET
DTSTART:20271031T010000
END:STANDARD
BEGIN:DAYLIGHT
TZOFFSETFROM:+0100
TZOFFSETTO:+0200
TZNAME:CEST
DTSTART:20280326T010000
END:DAYLIGHT
BEGIN:STANDARD
TZOFFSETFROM:+0200
TZOFFSETTO:+0100
TZNAME:CET
DTSTART:20281029T010000
END:STANDARD
BEGIN:DAYLIGHT
TZOFFSETFROM:+0100
TZOFFSETTO:+0200
TZNAME:CEST
DTSTART:20290325T010000
END:DAYLIGHT
BEGIN:STANDARD
TZOFFSETFROM:+0200
TZOFFSETTO:+0100
TZNAME:CET
DTSTART:20291028T010000
END:STANDARD
END:VTIMEZONE
BEGIN:VEVENT
DTSTART;TZID=Europe/Berlin:20260514T174500
DTEND;TZID=Europe/Berlin:20260514T184500
DTSTAMP:20260419T200932
CREATED:20260327T202806Z
LAST-MODIFIED:20260327T202815Z
UID:10024305-1778780700-1778784300@staging.hauslebenskraft.de
SUMMARY:intern
DESCRIPTION:Vorbereitung Jeanette
URL:https://staging.hauslebenskraft.de/veranstaltung/vorb-jeanette-4-2/2026-05-14/
LOCATION:Haus Lebenskraft\, Gutenbergstr. 30\, Potsdam\, Brandenburg\, 14467\, Germany
CATEGORIES:Intern, Raum der Erde
ORGANIZER;CN="Jeannette St%C3%B6lzel":MAILTO:contact@jeanne-heilimpulse.eu
END:VEVENT
BEGIN:VEVENT
DTSTART;TZID=Europe/Berlin:20260611T174500
DTEND;TZID=Europe/Berlin:20260611T184500
DTSTAMP:20260419T200932
CREATED:20260327T202806Z
LAST-MODIFIED:20260327T202815Z
UID:10024306-1781199900-1781203500@staging.hauslebenskraft.de
SUMMARY:intern
DESCRIPTION:Vorbereitung Jeanette
URL:https://staging.hauslebenskraft.de/veranstaltung/vorb-jeanette-4-2/2026-06-11/
LOCATION:Haus Lebenskraft\, Gutenbergstr. 30\, Potsdam\, Brandenburg\, 14467\, Germany
CATEGORIES:Intern, Raum der Erde
ORGANIZER;CN="Jeannette St%C3%B6lzel":MAILTO:contact@jeanne-heilimpulse.eu
END:VEVENT
BEGIN:VEVENT
DTSTART;TZID=Europe/Berlin:20260709T174500
DTEND;TZID=Europe/Berlin:20260709T184500
DTSTAMP:20260419T200932
CREATED:20260327T202806Z
LAST-MODIFIED:20260327T202815Z
UID:10024307-1783619100-1783622700@staging.hauslebenskraft.de
SUMMARY:intern
DESCRIPTION:Vorbereitung Jeanette
URL:https://staging.hauslebenskraft.de/veranstaltung/vorb-jeanette-4-2/2026-07-09/
LOCATION:Haus Lebenskraft\, Gutenbergstr. 30\, Potsdam\, Brandenburg\, 14467\, Germany
CATEGORIES:Intern, Raum der Erde
ORGANIZER;CN="Jeannette St%C3%B6lzel":MAILTO:contact@jeanne-heilimpulse.eu
END:VEVENT
BEGIN:VEVENT
DTSTART;TZID=Europe/Berlin:20260813T174500
DTEND;TZID=Europe/Berlin:20260813T184500
DTSTAMP:20260419T200932
CREATED:20260327T202806Z
LAST-MODIFIED:20260327T202815Z
UID:10024308-1786643100-1786646700@staging.hauslebenskraft.de
SUMMARY:intern
DESCRIPTION:Vorbereitung Jeanette
URL:https://staging.hauslebenskraft.de/veranstaltung/vorb-jeanette-4-2/2026-08-13/
LOCATION:Haus Lebenskraft\, Gutenbergstr. 30\, Potsdam\, Brandenburg\, 14467\, Germany
CATEGORIES:Intern, Raum der Erde
ORGANIZER;CN="Jeannette St%C3%B6lzel":MAILTO:contact@jeanne-heilimpulse.eu
END:VEVENT
BEGIN:VEVENT
DTSTART;TZID=Europe/Berlin:20260910T174500
DTEND;TZID=Europe/Berlin:20260910T184500
DTSTAMP:20260419T200932
CREATED:20260327T202806Z
LAST-MODIFIED:20260327T202815Z
UID:10024309-1789062300-1789065900@staging.hauslebenskraft.de
SUMMARY:intern
DESCRIPTION:Vorbereitung Jeanette
URL:https://staging.hauslebenskraft.de/veranstaltung/vorb-jeanette-4-2/2026-09-10/
LOCATION:Haus Lebenskraft\, Gutenbergstr. 30\, Potsdam\, Brandenburg\, 14467\, Germany
CATEGORIES:Intern, Raum der Erde
ORGANIZER;CN="Jeannette St%C3%B6lzel":MAILTO:contact@jeanne-heilimpulse.eu
END:VEVENT
BEGIN:VEVENT
DTSTART;TZID=Europe/Berlin:20261008T174500
DTEND;TZID=Europe/Berlin:20261008T184500
DTSTAMP:20260419T200932
CREATED:20260327T202806Z
LAST-MODIFIED:20260327T202815Z
UID:10024310-1791481500-1791485100@staging.hauslebenskraft.de
SUMMARY:intern
DESCRIPTION:Vorbereitung Jeanette
URL:https://staging.hauslebenskraft.de/veranstaltung/vorb-jeanette-4-2/2026-10-08/
LOCATION:Haus Lebenskraft\, Gutenbergstr. 30\, Potsdam\, Brandenburg\, 14467\, Germany
CATEGORIES:Intern, Raum der Erde
ORGANIZER;CN="Jeannette St%C3%B6lzel":MAILTO:contact@jeanne-heilimpulse.eu
END:VEVENT
BEGIN:VEVENT
DTSTART;TZID=Europe/Berlin:20261112T174500
DTEND;TZID=Europe/Berlin:20261112T184500
DTSTAMP:20260419T200932
CREATED:20260327T202806Z
LAST-MODIFIED:20260327T202815Z
UID:10024311-1794505500-1794509100@staging.hauslebenskraft.de
SUMMARY:intern
DESCRIPTION:Vorbereitung Jeanette
URL:https://staging.hauslebenskraft.de/veranstaltung/vorb-jeanette-4-2/2026-11-12/
LOCATION:Haus Lebenskraft\, Gutenbergstr. 30\, Potsdam\, Brandenburg\, 14467\, Germany
CATEGORIES:Intern, Raum der Erde
ORGANIZER;CN="Jeannette St%C3%B6lzel":MAILTO:contact@jeanne-heilimpulse.eu
END:VEVENT
BEGIN:VEVENT
DTSTART;TZID=Europe/Berlin:20261210T174500
DTEND;TZID=Europe/Berlin:20261210T184500
DTSTAMP:20260419T200932
CREATED:20260327T202806Z
LAST-MODIFIED:20260327T202815Z
UID:10024312-1796924700-1796928300@staging.hauslebenskraft.de
SUMMARY:intern
DESCRIPTION:Vorbereitung Jeanette
URL:https://staging.hauslebenskraft.de/veranstaltung/vorb-jeanette-4-2/2026-12-10/
LOCATION:Haus Lebenskraft\, Gutenbergstr. 30\, Potsdam\, Brandenburg\, 14467\, Germany
CATEGORIES:Intern, Raum der Erde
ORGANIZER;CN="Jeannette St%C3%B6lzel":MAILTO:contact@jeanne-heilimpulse.eu
END:VEVENT
BEGIN:VEVENT
DTSTART;TZID=Europe/Berlin:20270114T174500
DTEND;TZID=Europe/Berlin:20270114T184500
DTSTAMP:20260419T200932
CREATED:20260327T202806Z
LAST-MODIFIED:20260327T202815Z
UID:10024313-1799948700-1799952300@staging.hauslebenskraft.de
SUMMARY:intern
DESCRIPTION:Vorbereitung Jeanette
URL:https://staging.hauslebenskraft.de/veranstaltung/vorb-jeanette-4-2/2027-01-14/
LOCATION:Haus Lebenskraft\, Gutenbergstr. 30\, Potsdam\, Brandenburg\, 14467\, Germany
CATEGORIES:Intern, Raum der Erde
ORGANIZER;CN="Jeannette St%C3%B6lzel":MAILTO:contact@jeanne-heilimpulse.eu
END:VEVENT
BEGIN:VEVENT
DTSTART;TZID=Europe/Berlin:20270211T174500
DTEND;TZID=Europe/Berlin:20270211T184500
DTSTAMP:20260419T200932
CREATED:20260327T202806Z
LAST-MODIFIED:20260327T202815Z
UID:10024314-1802367900-1802371500@staging.hauslebenskraft.de
SUMMARY:intern
DESCRIPTION:Vorbereitung Jeanette
URL:https://staging.hauslebenskraft.de/veranstaltung/vorb-jeanette-4-2/2027-02-11/
LOCATION:Haus Lebenskraft\, Gutenbergstr. 30\, Potsdam\, Brandenburg\, 14467\, Germany
CATEGORIES:Intern, Raum der Erde
ORGANIZER;CN="Jeannette St%C3%B6lzel":MAILTO:contact@jeanne-heilimpulse.eu
END:VEVENT
BEGIN:VEVENT
DTSTART;TZID=Europe/Berlin:20270311T174500
DTEND;TZID=Europe/Berlin:20270311T184500
DTSTAMP:20260419T200932
CREATED:20260327T202806Z
LAST-MODIFIED:20260327T202815Z
UID:10024315-1804787100-1804790700@staging.hauslebenskraft.de
SUMMARY:intern
DESCRIPTION:Vorbereitung Jeanette
URL:https://staging.hauslebenskraft.de/veranstaltung/vorb-jeanette-4-2/2027-03-11/
LOCATION:Haus Lebenskraft\, Gutenbergstr. 30\, Potsdam\, Brandenburg\, 14467\, Germany
CATEGORIES:Intern, Raum der Erde
ORGANIZER;CN="Jeannette St%C3%B6lzel":MAILTO:contact@jeanne-heilimpulse.eu
END:VEVENT
BEGIN:VEVENT
DTSTART;TZID=Europe/Berlin:20270408T174500
DTEND;TZID=Europe/Berlin:20270408T184500
DTSTAMP:20260419T200932
CREATED:20260327T202806Z
LAST-MODIFIED:20260327T202815Z
UID:10024316-1807206300-1807209900@staging.hauslebenskraft.de
SUMMARY:intern
DESCRIPTION:Vorbereitung Jeanette
URL:https://staging.hauslebenskraft.de/veranstaltung/vorb-jeanette-4-2/2027-04-08/
LOCATION:Haus Lebenskraft\, Gutenbergstr. 30\, Potsdam\, Brandenburg\, 14467\, Germany
CATEGORIES:Intern, Raum der Erde
ORGANIZER;CN="Jeannette St%C3%B6lzel":MAILTO:contact@jeanne-heilimpulse.eu
END:VEVENT
BEGIN:VEVENT
DTSTART;TZID=Europe/Berlin:20270513T174500
DTEND;TZID=Europe/Berlin:20270513T184500
DTSTAMP:20260419T200932
CREATED:20260327T202806Z
LAST-MODIFIED:20260327T202815Z
UID:10024317-1810230300-1810233900@staging.hauslebenskraft.de
SUMMARY:intern
DESCRIPTION:Vorbereitung Jeanette
URL:https://staging.hauslebenskraft.de/veranstaltung/vorb-jeanette-4-2/2027-05-13/
LOCATION:Haus Lebenskraft\, Gutenbergstr. 30\, Potsdam\, Brandenburg\, 14467\, Germany
CATEGORIES:Intern, Raum der Erde
ORGANIZER;CN="Jeannette St%C3%B6lzel":MAILTO:contact@jeanne-heilimpulse.eu
END:VEVENT
BEGIN:VEVENT
DTSTART;TZID=Europe/Berlin:20270610T174500
DTEND;TZID=Europe/Berlin:20270610T184500
DTSTAMP:20260419T200932
CREATED:20260327T202806Z
LAST-MODIFIED:20260327T202815Z
UID:10024318-1812649500-1812653100@staging.hauslebenskraft.de
SUMMARY:intern
DESCRIPTION:Vorbereitung Jeanette
URL:https://staging.hauslebenskraft.de/veranstaltung/vorb-jeanette-4-2/2027-06-10/
LOCATION:Haus Lebenskraft\, Gutenbergstr. 30\, Potsdam\, Brandenburg\, 14467\, Germany
CATEGORIES:Intern, Raum der Erde
ORGANIZER;CN="Jeannette St%C3%B6lzel":MAILTO:contact@jeanne-heilimpulse.eu
END:VEVENT
BEGIN:VEVENT
DTSTART;TZID=Europe/Berlin:20270708T174500
DTEND;TZID=Europe/Berlin:20270708T184500
DTSTAMP:20260419T200932
CREATED:20260327T202806Z
LAST-MODIFIED:20260327T202815Z
UID:10024319-1815068700-1815072300@staging.hauslebenskraft.de
SUMMARY:intern
DESCRIPTION:Vorbereitung Jeanette
URL:https://staging.hauslebenskraft.de/veranstaltung/vorb-jeanette-4-2/2027-07-08/
LOCATION:Haus Lebenskraft\, Gutenbergstr. 30\, Potsdam\, Brandenburg\, 14467\, Germany
CATEGORIES:Intern, Raum der Erde
ORGANIZER;CN="Jeannette St%C3%B6lzel":MAILTO:contact@jeanne-heilimpulse.eu
END:VEVENT
BEGIN:VEVENT
DTSTART;TZID=Europe/Berlin:20270812T174500
DTEND;TZID=Europe/Berlin:20270812T184500
DTSTAMP:20260419T200932
CREATED:20260327T202806Z
LAST-MODIFIED:20260327T202815Z
UID:10024320-1818092700-1818096300@staging.hauslebenskraft.de
SUMMARY:intern
DESCRIPTION:Vorbereitung Jeanette
URL:https://staging.hauslebenskraft.de/veranstaltung/vorb-jeanette-4-2/2027-08-12/
LOCATION:Haus Lebenskraft\, Gutenbergstr. 30\, Potsdam\, Brandenburg\, 14467\, Germany
CATEGORIES:Intern, Raum der Erde
ORGANIZER;CN="Jeannette St%C3%B6lzel":MAILTO:contact@jeanne-heilimpulse.eu
END:VEVENT
BEGIN:VEVENT
DTSTART;TZID=Europe/Berlin:20270909T174500
DTEND;TZID=Europe/Berlin:20270909T184500
DTSTAMP:20260419T200932
CREATED:20260327T202806Z
LAST-MODIFIED:20260327T202815Z
UID:10024321-1820511900-1820515500@staging.hauslebenskraft.de
SUMMARY:intern
DESCRIPTION:Vorbereitung Jeanette
URL:https://staging.hauslebenskraft.de/veranstaltung/vorb-jeanette-4-2/2027-09-09/
LOCATION:Haus Lebenskraft\, Gutenbergstr. 30\, Potsdam\, Brandenburg\, 14467\, Germany
CATEGORIES:Intern, Raum der Erde
ORGANIZER;CN="Jeannette St%C3%B6lzel":MAILTO:contact@jeanne-heilimpulse.eu
END:VEVENT
BEGIN:VEVENT
DTSTART;TZID=Europe/Berlin:20271014T174500
DTEND;TZID=Europe/Berlin:20271014T184500
DTSTAMP:20260419T200932
CREATED:20260327T202806Z
LAST-MODIFIED:20260327T202815Z
UID:10024322-1823535900-1823539500@staging.hauslebenskraft.de
SUMMARY:intern
DESCRIPTION:Vorbereitung Jeanette
URL:https://staging.hauslebenskraft.de/veranstaltung/vorb-jeanette-4-2/2027-10-14/
LOCATION:Haus Lebenskraft\, Gutenbergstr. 30\, Potsdam\, Brandenburg\, 14467\, Germany
CATEGORIES:Intern, Raum der Erde
ORGANIZER;CN="Jeannette St%C3%B6lzel":MAILTO:contact@jeanne-heilimpulse.eu
END:VEVENT
BEGIN:VEVENT
DTSTART;TZID=Europe/Berlin:20271111T174500
DTEND;TZID=Europe/Berlin:20271111T184500
DTSTAMP:20260419T200932
CREATED:20260327T202806Z
LAST-MODIFIED:20260327T202815Z
UID:10024323-1825955100-1825958700@staging.hauslebenskraft.de
SUMMARY:intern
DESCRIPTION:Vorbereitung Jeanette
URL:https://staging.hauslebenskraft.de/veranstaltung/vorb-jeanette-4-2/2027-11-11/
LOCATION:Haus Lebenskraft\, Gutenbergstr. 30\, Potsdam\, Brandenburg\, 14467\, Germany
CATEGORIES:Intern, Raum der Erde
ORGANIZER;CN="Jeannette St%C3%B6lzel":MAILTO:contact@jeanne-heilimpulse.eu
END:VEVENT
BEGIN:VEVENT
DTSTART;TZID=Europe/Berlin:20271209T174500
DTEND;TZID=Europe/Berlin:20271209T184500
DTSTAMP:20260419T200932
CREATED:20260327T202806Z
LAST-MODIFIED:20260327T202815Z
UID:10024324-1828374300-1828377900@staging.hauslebenskraft.de
SUMMARY:intern
DESCRIPTION:Vorbereitung Jeanette
URL:https://staging.hauslebenskraft.de/veranstaltung/vorb-jeanette-4-2/2027-12-09/
LOCATION:Haus Lebenskraft\, Gutenbergstr. 30\, Potsdam\, Brandenburg\, 14467\, Germany
CATEGORIES:Intern, Raum der Erde
ORGANIZER;CN="Jeannette St%C3%B6lzel":MAILTO:contact@jeanne-heilimpulse.eu
END:VEVENT
BEGIN:VEVENT
DTSTART;TZID=Europe/Berlin:20280113T174500
DTEND;TZID=Europe/Berlin:20280113T184500
DTSTAMP:20260419T200932
CREATED:20260327T202806Z
LAST-MODIFIED:20260327T202815Z
UID:10024325-1831398300-1831401900@staging.hauslebenskraft.de
SUMMARY:intern
DESCRIPTION:Vorbereitung Jeanette
URL:https://staging.hauslebenskraft.de/veranstaltung/vorb-jeanette-4-2/2028-01-13/
LOCATION:Haus Lebenskraft\, Gutenbergstr. 30\, Potsdam\, Brandenburg\, 14467\, Germany
CATEGORIES:Intern, Raum der Erde
ORGANIZER;CN="Jeannette St%C3%B6lzel":MAILTO:contact@jeanne-heilimpulse.eu
END:VEVENT
BEGIN:VEVENT
DTSTART;TZID=Europe/Berlin:20280210T174500
DTEND;TZID=Europe/Berlin:20280210T184500
DTSTAMP:20260419T200932
CREATED:20260327T202806Z
LAST-MODIFIED:20260327T202815Z
UID:10024326-1833817500-1833821100@staging.hauslebenskraft.de
SUMMARY:intern
DESCRIPTION:Vorbereitung Jeanette
URL:https://staging.hauslebenskraft.de/veranstaltung/vorb-jeanette-4-2/2028-02-10/
LOCATION:Haus Lebenskraft\, Gutenbergstr. 30\, Potsdam\, Brandenburg\, 14467\, Germany
CATEGORIES:Intern, Raum der Erde
ORGANIZER;CN="Jeannette St%C3%B6lzel":MAILTO:contact@jeanne-heilimpulse.eu
END:VEVENT
BEGIN:VEVENT
DTSTART;TZID=Europe/Berlin:20280309T174500
DTEND;TZID=Europe/Berlin:20280309T184500
DTSTAMP:20260419T200932
CREATED:20260327T202806Z
LAST-MODIFIED:20260327T202815Z
UID:10024327-1836236700-1836240300@staging.hauslebenskraft.de
SUMMARY:intern
DESCRIPTION:Vorbereitung Jeanette
URL:https://staging.hauslebenskraft.de/veranstaltung/vorb-jeanette-4-2/2028-03-09/
LOCATION:Haus Lebenskraft\, Gutenbergstr. 30\, Potsdam\, Brandenburg\, 14467\, Germany
CATEGORIES:Intern, Raum der Erde
ORGANIZER;CN="Jeannette St%C3%B6lzel":MAILTO:contact@jeanne-heilimpulse.eu
END:VEVENT
BEGIN:VEVENT
DTSTART;TZID=Europe/Berlin:20280413T174500
DTEND;TZID=Europe/Berlin:20280413T184500
DTSTAMP:20260419T200932
CREATED:20260327T202806Z
LAST-MODIFIED:20260327T202815Z
UID:10024328-1839260700-1839264300@staging.hauslebenskraft.de
SUMMARY:intern
DESCRIPTION:Vorbereitung Jeanette
URL:https://staging.hauslebenskraft.de/veranstaltung/vorb-jeanette-4-2/2028-04-13/
LOCATION:Haus Lebenskraft\, Gutenbergstr. 30\, Potsdam\, Brandenburg\, 14467\, Germany
CATEGORIES:Intern, Raum der Erde
ORGANIZER;CN="Jeannette St%C3%B6lzel":MAILTO:contact@jeanne-heilimpulse.eu
END:VEVENT
BEGIN:VEVENT
DTSTART;TZID=Europe/Berlin:20280511T174500
DTEND;TZID=Europe/Berlin:20280511T184500
DTSTAMP:20260419T200932
CREATED:20260327T202806Z
LAST-MODIFIED:20260327T202815Z
UID:10024329-1841679900-1841683500@staging.hauslebenskraft.de
SUMMARY:intern
DESCRIPTION:Vorbereitung Jeanette
URL:https://staging.hauslebenskraft.de/veranstaltung/vorb-jeanette-4-2/2028-05-11/
LOCATION:Haus Lebenskraft\, Gutenbergstr. 30\, Potsdam\, Brandenburg\, 14467\, Germany
CATEGORIES:Intern, Raum der Erde
ORGANIZER;CN="Jeannette St%C3%B6lzel":MAILTO:contact@jeanne-heilimpulse.eu
END:VEVENT
BEGIN:VEVENT
DTSTART;TZID=Europe/Berlin:20280608T174500
DTEND;TZID=Europe/Berlin:20280608T184500
DTSTAMP:20260419T200932
CREATED:20260327T202806Z
LAST-MODIFIED:20260327T202815Z
UID:10024330-1844099100-1844102700@staging.hauslebenskraft.de
SUMMARY:intern
DESCRIPTION:Vorbereitung Jeanette
URL:https://staging.hauslebenskraft.de/veranstaltung/vorb-jeanette-4-2/2028-06-08/
LOCATION:Haus Lebenskraft\, Gutenbergstr. 30\, Potsdam\, Brandenburg\, 14467\, Germany
CATEGORIES:Intern, Raum der Erde
ORGANIZER;CN="Jeannette St%C3%B6lzel":MAILTO:contact@jeanne-heilimpulse.eu
END:VEVENT
BEGIN:VEVENT
DTSTART;TZID=Europe/Berlin:20280713T174500
DTEND;TZID=Europe/Berlin:20280713T184500
DTSTAMP:20260419T200932
CREATED:20260327T202806Z
LAST-MODIFIED:20260327T202815Z
UID:10024331-1847123100-1847126700@staging.hauslebenskraft.de
SUMMARY:intern
DESCRIPTION:Vorbereitung Jeanette
URL:https://staging.hauslebenskraft.de/veranstaltung/vorb-jeanette-4-2/2028-07-13/
LOCATION:Haus Lebenskraft\, Gutenbergstr. 30\, Potsdam\, Brandenburg\, 14467\, Germany
CATEGORIES:Intern, Raum der Erde
ORGANIZER;CN="Jeannette St%C3%B6lzel":MAILTO:contact@jeanne-heilimpulse.eu
END:VEVENT
BEGIN:VEVENT
DTSTART;TZID=Europe/Berlin:20280810T174500
DTEND;TZID=Europe/Berlin:20280810T184500
DTSTAMP:20260419T200932
CREATED:20260327T202806Z
LAST-MODIFIED:20260327T202815Z
UID:10024332-1849542300-1849545900@staging.hauslebenskraft.de
SUMMARY:intern
DESCRIPTION:Vorbereitung Jeanette
URL:https://staging.hauslebenskraft.de/veranstaltung/vorb-jeanette-4-2/2028-08-10/
LOCATION:Haus Lebenskraft\, Gutenbergstr. 30\, Potsdam\, Brandenburg\, 14467\, Germany
CATEGORIES:Intern, Raum der Erde
ORGANIZER;CN="Jeannette St%C3%B6lzel":MAILTO:contact@jeanne-heilimpulse.eu
END:VEVENT
BEGIN:VEVENT
DTSTART;TZID=Europe/Berlin:20280914T174500
DTEND;TZID=Europe/Berlin:20280914T184500
DTSTAMP:20260419T200932
CREATED:20260327T202806Z
LAST-MODIFIED:20260327T202815Z
UID:10024333-1852566300-1852569900@staging.hauslebenskraft.de
SUMMARY:intern
DESCRIPTION:Vorbereitung Jeanette
URL:https://staging.hauslebenskraft.de/veranstaltung/vorb-jeanette-4-2/2028-09-14/
LOCATION:Haus Lebenskraft\, Gutenbergstr. 30\, Potsdam\, Brandenburg\, 14467\, Germany
CATEGORIES:Intern, Raum der Erde
ORGANIZER;CN="Jeannette St%C3%B6lzel":MAILTO:contact@jeanne-heilimpulse.eu
END:VEVENT
BEGIN:VEVENT
DTSTART;TZID=Europe/Berlin:20281012T174500
DTEND;TZID=Europe/Berlin:20281012T184500
DTSTAMP:20260419T200932
CREATED:20260327T202806Z
LAST-MODIFIED:20260327T202815Z
UID:10024334-1854985500-1854989100@staging.hauslebenskraft.de
SUMMARY:intern
DESCRIPTION:Vorbereitung Jeanette
URL:https://staging.hauslebenskraft.de/veranstaltung/vorb-jeanette-4-2/2028-10-12/
LOCATION:Haus Lebenskraft\, Gutenbergstr. 30\, Potsdam\, Brandenburg\, 14467\, Germany
CATEGORIES:Intern, Raum der Erde
ORGANIZER;CN="Jeannette St%C3%B6lzel":MAILTO:contact@jeanne-heilimpulse.eu
END:VEVENT
END:VCALENDAR