BEGIN:VCALENDAR
VERSION:2.0
PRODID:-//Haus Lebenskraft - ECPv6.15.20//NONSGML v1.0//EN
CALSCALE:GREGORIAN
METHOD:PUBLISH
X-WR-CALNAME:Haus Lebenskraft
X-ORIGINAL-URL:https://staging.hauslebenskraft.de
X-WR-CALDESC:Veranstaltungen für Haus Lebenskraft
REFRESH-INTERVAL;VALUE=DURATION:PT1H
X-Robots-Tag:noindex
X-PUBLISHED-TTL:PT1H
BEGIN:VTIMEZONE
TZID:Europe/Berlin
BEGIN:DAYLIGHT
TZOFFSETFROM:+0100
TZOFFSETTO:+0200
TZNAME:CEST
DTSTART:20250330T010000
END:DAYLIGHT
BEGIN:STANDARD
TZOFFSETFROM:+0200
TZOFFSETTO:+0100
TZNAME:CET
DTSTART:20251026T010000
END:STANDARD
BEGIN:DAYLIGHT
TZOFFSETFROM:+0100
TZOFFSETTO:+0200
TZNAME:CEST
DTSTART:20260329T010000
END:DAYLIGHT
BEGIN:STANDARD
TZOFFSETFROM:+0200
TZOFFSETTO:+0100
TZNAME:CET
DTSTART:20261025T010000
END:STANDARD
BEGIN:DAYLIGHT
TZOFFSETFROM:+0100
TZOFFSETTO:+0200
TZNAME:CEST
DTSTART:20270328T010000
END:DAYLIGHT
BEGIN:STANDARD
TZOFFSETFROM:+0200
TZOFFSETTO:+0100
TZNAME:CET
DTSTART:20271031T010000
END:STANDARD
END:VTIMEZONE
BEGIN:VEVENT
DTSTART;TZID=Europe/Berlin:20260422T173000
DTEND;TZID=Europe/Berlin:20260422T190000
DTSTAMP:20260420T104912
CREATED:20251014T115741Z
LAST-MODIFIED:20260202T133825Z
UID:10020463-1776879000-1776884400@staging.hauslebenskraft.de
SUMMARY:Yoga für Anfänger und Fortgeschrittene
DESCRIPTION:Yoga für mehr Energie\, für Anfänger und Fortgeschrittene sind sanfte Yoga-Stellungen\, verbunden mit Atemübungen und anschließender Meditation und Entspannung. Es ist ein Teil der traditionellen indischen Heilkunde\, dem Ayurveda und Teil meines Gesamtkonzeptes. \nDiese Lehre sieht einen engen Zusammenhang zwischen Körper\, Geist und Seele. Eine regelmäßige Praxis reguliert und aktiviert dein Atmungssystem\, den Stoffwechsel\, das Verdauungssystem und die hormonellen Funktionen. Auf der rein körperlichen Ebene stärkt es den Bewegungsapparat\, das Nervensystem\, hilft bei stressbedingten Störungen wie Bluthochdruck\, Magenbeschwerden und Kopfschmerzen\, fördert die Konzentrationsfähigkeit und sorgt für innere Ausgeglichenheit. \nAsanas beziehen alle Muskeln\, Bänder und Gelenke sowie die Organe mit ein. Yoga ist deshalb sehr empfehlenswert\, sowohl bei Atemwegserkrankungen\, bis zu Asthma\, als auch bei sämtlichen\, meist zivilisationsbedingten Rückenleiden. Auf der spirituellen Ebene wird es als ein ganzheitlicher\, undogmatischer Weg zum Göttlichen verstanden\, durch das Einsinken in die Meditation wird die spirituelle Entwicklung gefördert\, während Geduld\, Toleranz und Zufriedenheit wachsen. Yoga-Praktizierende entwickeln eine neue Sichtweise auf das Leben\, erweitern ihr Bewusstsein und schärfen ihre Willens- und Urteilskraft. \nDie Yogastunde beginnt mit sanften\, ruhigen Mobilisationsübungen\, gefolgt von Atemübungen und anschließenden Yogastellungen. Die Yogastunden enden mit einer Meditation und Entspannungsübungen. Yoga ist für jeden Konstitutionstyp geeignet. \nTeilnehmergebühren: 20 Euro \nEmail: info@ayurvedakunde.de \nTelefon: 01795299475
URL:https://staging.hauslebenskraft.de/veranstaltung/yoga-fuer-anfaenger-und-fortgeschrittene/2026-04-22/
LOCATION:Haus Lebenskraft\, Gutenbergstr. 30\, Potsdam\, Brandenburg\, 14467\, Germany
CATEGORIES:Öffentlich, Raum der Erde
ATTACH;FMTTYPE=image/jpeg:https://staging.hauslebenskraft.de/wp-content/uploads/2026/02/Yoga_Knut_Kunde_Haus-Lebneskraft_Potsdam-1-scaled.jpg
ORGANIZER;CN="Knut Kunde":MAILTO:info@ayurvedakunde.de
END:VEVENT
BEGIN:VEVENT
DTSTART;TZID=Europe/Berlin:20260429T173000
DTEND;TZID=Europe/Berlin:20260429T190000
DTSTAMP:20260420T104913
CREATED:20251014T115741Z
LAST-MODIFIED:20260202T133825Z
UID:10020464-1777483800-1777489200@staging.hauslebenskraft.de
SUMMARY:Yoga für Anfänger und Fortgeschrittene
DESCRIPTION:Yoga für mehr Energie\, für Anfänger und Fortgeschrittene sind sanfte Yoga-Stellungen\, verbunden mit Atemübungen und anschließender Meditation und Entspannung. Es ist ein Teil der traditionellen indischen Heilkunde\, dem Ayurveda und Teil meines Gesamtkonzeptes. \nDiese Lehre sieht einen engen Zusammenhang zwischen Körper\, Geist und Seele. Eine regelmäßige Praxis reguliert und aktiviert dein Atmungssystem\, den Stoffwechsel\, das Verdauungssystem und die hormonellen Funktionen. Auf der rein körperlichen Ebene stärkt es den Bewegungsapparat\, das Nervensystem\, hilft bei stressbedingten Störungen wie Bluthochdruck\, Magenbeschwerden und Kopfschmerzen\, fördert die Konzentrationsfähigkeit und sorgt für innere Ausgeglichenheit. \nAsanas beziehen alle Muskeln\, Bänder und Gelenke sowie die Organe mit ein. Yoga ist deshalb sehr empfehlenswert\, sowohl bei Atemwegserkrankungen\, bis zu Asthma\, als auch bei sämtlichen\, meist zivilisationsbedingten Rückenleiden. Auf der spirituellen Ebene wird es als ein ganzheitlicher\, undogmatischer Weg zum Göttlichen verstanden\, durch das Einsinken in die Meditation wird die spirituelle Entwicklung gefördert\, während Geduld\, Toleranz und Zufriedenheit wachsen. Yoga-Praktizierende entwickeln eine neue Sichtweise auf das Leben\, erweitern ihr Bewusstsein und schärfen ihre Willens- und Urteilskraft. \nDie Yogastunde beginnt mit sanften\, ruhigen Mobilisationsübungen\, gefolgt von Atemübungen und anschließenden Yogastellungen. Die Yogastunden enden mit einer Meditation und Entspannungsübungen. Yoga ist für jeden Konstitutionstyp geeignet. \nTeilnehmergebühren: 20 Euro \nEmail: info@ayurvedakunde.de \nTelefon: 01795299475
URL:https://staging.hauslebenskraft.de/veranstaltung/yoga-fuer-anfaenger-und-fortgeschrittene/2026-04-29/
LOCATION:Haus Lebenskraft\, Gutenbergstr. 30\, Potsdam\, Brandenburg\, 14467\, Germany
CATEGORIES:Öffentlich, Raum der Erde
ATTACH;FMTTYPE=image/jpeg:https://staging.hauslebenskraft.de/wp-content/uploads/2026/02/Yoga_Knut_Kunde_Haus-Lebneskraft_Potsdam-1-scaled.jpg
ORGANIZER;CN="Knut Kunde":MAILTO:info@ayurvedakunde.de
END:VEVENT
BEGIN:VEVENT
DTSTART;TZID=Europe/Berlin:20260506T173000
DTEND;TZID=Europe/Berlin:20260506T190000
DTSTAMP:20260420T104913
CREATED:20251014T115741Z
LAST-MODIFIED:20260202T133825Z
UID:10020465-1778088600-1778094000@staging.hauslebenskraft.de
SUMMARY:Yoga für Anfänger und Fortgeschrittene
DESCRIPTION:Yoga für mehr Energie\, für Anfänger und Fortgeschrittene sind sanfte Yoga-Stellungen\, verbunden mit Atemübungen und anschließender Meditation und Entspannung. Es ist ein Teil der traditionellen indischen Heilkunde\, dem Ayurveda und Teil meines Gesamtkonzeptes. \nDiese Lehre sieht einen engen Zusammenhang zwischen Körper\, Geist und Seele. Eine regelmäßige Praxis reguliert und aktiviert dein Atmungssystem\, den Stoffwechsel\, das Verdauungssystem und die hormonellen Funktionen. Auf der rein körperlichen Ebene stärkt es den Bewegungsapparat\, das Nervensystem\, hilft bei stressbedingten Störungen wie Bluthochdruck\, Magenbeschwerden und Kopfschmerzen\, fördert die Konzentrationsfähigkeit und sorgt für innere Ausgeglichenheit. \nAsanas beziehen alle Muskeln\, Bänder und Gelenke sowie die Organe mit ein. Yoga ist deshalb sehr empfehlenswert\, sowohl bei Atemwegserkrankungen\, bis zu Asthma\, als auch bei sämtlichen\, meist zivilisationsbedingten Rückenleiden. Auf der spirituellen Ebene wird es als ein ganzheitlicher\, undogmatischer Weg zum Göttlichen verstanden\, durch das Einsinken in die Meditation wird die spirituelle Entwicklung gefördert\, während Geduld\, Toleranz und Zufriedenheit wachsen. Yoga-Praktizierende entwickeln eine neue Sichtweise auf das Leben\, erweitern ihr Bewusstsein und schärfen ihre Willens- und Urteilskraft. \nDie Yogastunde beginnt mit sanften\, ruhigen Mobilisationsübungen\, gefolgt von Atemübungen und anschließenden Yogastellungen. Die Yogastunden enden mit einer Meditation und Entspannungsübungen. Yoga ist für jeden Konstitutionstyp geeignet. \nTeilnehmergebühren: 20 Euro \nEmail: info@ayurvedakunde.de \nTelefon: 01795299475
URL:https://staging.hauslebenskraft.de/veranstaltung/yoga-fuer-anfaenger-und-fortgeschrittene/2026-05-06/
LOCATION:Haus Lebenskraft\, Gutenbergstr. 30\, Potsdam\, Brandenburg\, 14467\, Germany
CATEGORIES:Öffentlich, Raum der Erde
ATTACH;FMTTYPE=image/jpeg:https://staging.hauslebenskraft.de/wp-content/uploads/2026/02/Yoga_Knut_Kunde_Haus-Lebneskraft_Potsdam-1-scaled.jpg
ORGANIZER;CN="Knut Kunde":MAILTO:info@ayurvedakunde.de
END:VEVENT
BEGIN:VEVENT
DTSTART;TZID=Europe/Berlin:20260513T173000
DTEND;TZID=Europe/Berlin:20260513T190000
DTSTAMP:20260420T104913
CREATED:20251014T115741Z
LAST-MODIFIED:20260202T133825Z
UID:10020466-1778693400-1778698800@staging.hauslebenskraft.de
SUMMARY:Yoga für Anfänger und Fortgeschrittene
DESCRIPTION:Yoga für mehr Energie\, für Anfänger und Fortgeschrittene sind sanfte Yoga-Stellungen\, verbunden mit Atemübungen und anschließender Meditation und Entspannung. Es ist ein Teil der traditionellen indischen Heilkunde\, dem Ayurveda und Teil meines Gesamtkonzeptes. \nDiese Lehre sieht einen engen Zusammenhang zwischen Körper\, Geist und Seele. Eine regelmäßige Praxis reguliert und aktiviert dein Atmungssystem\, den Stoffwechsel\, das Verdauungssystem und die hormonellen Funktionen. Auf der rein körperlichen Ebene stärkt es den Bewegungsapparat\, das Nervensystem\, hilft bei stressbedingten Störungen wie Bluthochdruck\, Magenbeschwerden und Kopfschmerzen\, fördert die Konzentrationsfähigkeit und sorgt für innere Ausgeglichenheit. \nAsanas beziehen alle Muskeln\, Bänder und Gelenke sowie die Organe mit ein. Yoga ist deshalb sehr empfehlenswert\, sowohl bei Atemwegserkrankungen\, bis zu Asthma\, als auch bei sämtlichen\, meist zivilisationsbedingten Rückenleiden. Auf der spirituellen Ebene wird es als ein ganzheitlicher\, undogmatischer Weg zum Göttlichen verstanden\, durch das Einsinken in die Meditation wird die spirituelle Entwicklung gefördert\, während Geduld\, Toleranz und Zufriedenheit wachsen. Yoga-Praktizierende entwickeln eine neue Sichtweise auf das Leben\, erweitern ihr Bewusstsein und schärfen ihre Willens- und Urteilskraft. \nDie Yogastunde beginnt mit sanften\, ruhigen Mobilisationsübungen\, gefolgt von Atemübungen und anschließenden Yogastellungen. Die Yogastunden enden mit einer Meditation und Entspannungsübungen. Yoga ist für jeden Konstitutionstyp geeignet. \nTeilnehmergebühren: 20 Euro \nEmail: info@ayurvedakunde.de \nTelefon: 01795299475
URL:https://staging.hauslebenskraft.de/veranstaltung/yoga-fuer-anfaenger-und-fortgeschrittene/2026-05-13/
LOCATION:Haus Lebenskraft\, Gutenbergstr. 30\, Potsdam\, Brandenburg\, 14467\, Germany
CATEGORIES:Öffentlich, Raum der Erde
ATTACH;FMTTYPE=image/jpeg:https://staging.hauslebenskraft.de/wp-content/uploads/2026/02/Yoga_Knut_Kunde_Haus-Lebneskraft_Potsdam-1-scaled.jpg
ORGANIZER;CN="Knut Kunde":MAILTO:info@ayurvedakunde.de
END:VEVENT
BEGIN:VEVENT
DTSTART;TZID=Europe/Berlin:20260520T173000
DTEND;TZID=Europe/Berlin:20260520T190000
DTSTAMP:20260420T104913
CREATED:20251014T115741Z
LAST-MODIFIED:20260202T133825Z
UID:10020467-1779298200-1779303600@staging.hauslebenskraft.de
SUMMARY:Yoga für Anfänger und Fortgeschrittene
DESCRIPTION:Yoga für mehr Energie\, für Anfänger und Fortgeschrittene sind sanfte Yoga-Stellungen\, verbunden mit Atemübungen und anschließender Meditation und Entspannung. Es ist ein Teil der traditionellen indischen Heilkunde\, dem Ayurveda und Teil meines Gesamtkonzeptes. \nDiese Lehre sieht einen engen Zusammenhang zwischen Körper\, Geist und Seele. Eine regelmäßige Praxis reguliert und aktiviert dein Atmungssystem\, den Stoffwechsel\, das Verdauungssystem und die hormonellen Funktionen. Auf der rein körperlichen Ebene stärkt es den Bewegungsapparat\, das Nervensystem\, hilft bei stressbedingten Störungen wie Bluthochdruck\, Magenbeschwerden und Kopfschmerzen\, fördert die Konzentrationsfähigkeit und sorgt für innere Ausgeglichenheit. \nAsanas beziehen alle Muskeln\, Bänder und Gelenke sowie die Organe mit ein. Yoga ist deshalb sehr empfehlenswert\, sowohl bei Atemwegserkrankungen\, bis zu Asthma\, als auch bei sämtlichen\, meist zivilisationsbedingten Rückenleiden. Auf der spirituellen Ebene wird es als ein ganzheitlicher\, undogmatischer Weg zum Göttlichen verstanden\, durch das Einsinken in die Meditation wird die spirituelle Entwicklung gefördert\, während Geduld\, Toleranz und Zufriedenheit wachsen. Yoga-Praktizierende entwickeln eine neue Sichtweise auf das Leben\, erweitern ihr Bewusstsein und schärfen ihre Willens- und Urteilskraft. \nDie Yogastunde beginnt mit sanften\, ruhigen Mobilisationsübungen\, gefolgt von Atemübungen und anschließenden Yogastellungen. Die Yogastunden enden mit einer Meditation und Entspannungsübungen. Yoga ist für jeden Konstitutionstyp geeignet. \nTeilnehmergebühren: 20 Euro \nEmail: info@ayurvedakunde.de \nTelefon: 01795299475
URL:https://staging.hauslebenskraft.de/veranstaltung/yoga-fuer-anfaenger-und-fortgeschrittene/2026-05-20/
LOCATION:Haus Lebenskraft\, Gutenbergstr. 30\, Potsdam\, Brandenburg\, 14467\, Germany
CATEGORIES:Öffentlich, Raum der Erde
ATTACH;FMTTYPE=image/jpeg:https://staging.hauslebenskraft.de/wp-content/uploads/2026/02/Yoga_Knut_Kunde_Haus-Lebneskraft_Potsdam-1-scaled.jpg
ORGANIZER;CN="Knut Kunde":MAILTO:info@ayurvedakunde.de
END:VEVENT
BEGIN:VEVENT
DTSTART;TZID=Europe/Berlin:20260527T173000
DTEND;TZID=Europe/Berlin:20260527T190000
DTSTAMP:20260420T104913
CREATED:20251014T115741Z
LAST-MODIFIED:20260202T133825Z
UID:10020468-1779903000-1779908400@staging.hauslebenskraft.de
SUMMARY:Yoga für Anfänger und Fortgeschrittene
DESCRIPTION:Yoga für mehr Energie\, für Anfänger und Fortgeschrittene sind sanfte Yoga-Stellungen\, verbunden mit Atemübungen und anschließender Meditation und Entspannung. Es ist ein Teil der traditionellen indischen Heilkunde\, dem Ayurveda und Teil meines Gesamtkonzeptes. \nDiese Lehre sieht einen engen Zusammenhang zwischen Körper\, Geist und Seele. Eine regelmäßige Praxis reguliert und aktiviert dein Atmungssystem\, den Stoffwechsel\, das Verdauungssystem und die hormonellen Funktionen. Auf der rein körperlichen Ebene stärkt es den Bewegungsapparat\, das Nervensystem\, hilft bei stressbedingten Störungen wie Bluthochdruck\, Magenbeschwerden und Kopfschmerzen\, fördert die Konzentrationsfähigkeit und sorgt für innere Ausgeglichenheit. \nAsanas beziehen alle Muskeln\, Bänder und Gelenke sowie die Organe mit ein. Yoga ist deshalb sehr empfehlenswert\, sowohl bei Atemwegserkrankungen\, bis zu Asthma\, als auch bei sämtlichen\, meist zivilisationsbedingten Rückenleiden. Auf der spirituellen Ebene wird es als ein ganzheitlicher\, undogmatischer Weg zum Göttlichen verstanden\, durch das Einsinken in die Meditation wird die spirituelle Entwicklung gefördert\, während Geduld\, Toleranz und Zufriedenheit wachsen. Yoga-Praktizierende entwickeln eine neue Sichtweise auf das Leben\, erweitern ihr Bewusstsein und schärfen ihre Willens- und Urteilskraft. \nDie Yogastunde beginnt mit sanften\, ruhigen Mobilisationsübungen\, gefolgt von Atemübungen und anschließenden Yogastellungen. Die Yogastunden enden mit einer Meditation und Entspannungsübungen. Yoga ist für jeden Konstitutionstyp geeignet. \nTeilnehmergebühren: 20 Euro \nEmail: info@ayurvedakunde.de \nTelefon: 01795299475
URL:https://staging.hauslebenskraft.de/veranstaltung/yoga-fuer-anfaenger-und-fortgeschrittene/2026-05-27/
LOCATION:Haus Lebenskraft\, Gutenbergstr. 30\, Potsdam\, Brandenburg\, 14467\, Germany
CATEGORIES:Öffentlich, Raum der Erde
ATTACH;FMTTYPE=image/jpeg:https://staging.hauslebenskraft.de/wp-content/uploads/2026/02/Yoga_Knut_Kunde_Haus-Lebneskraft_Potsdam-1-scaled.jpg
ORGANIZER;CN="Knut Kunde":MAILTO:info@ayurvedakunde.de
END:VEVENT
BEGIN:VEVENT
DTSTART;TZID=Europe/Berlin:20260603T173000
DTEND;TZID=Europe/Berlin:20260603T190000
DTSTAMP:20260420T104913
CREATED:20251014T115741Z
LAST-MODIFIED:20260202T133825Z
UID:10020469-1780507800-1780513200@staging.hauslebenskraft.de
SUMMARY:Yoga für Anfänger und Fortgeschrittene
DESCRIPTION:Yoga für mehr Energie\, für Anfänger und Fortgeschrittene sind sanfte Yoga-Stellungen\, verbunden mit Atemübungen und anschließender Meditation und Entspannung. Es ist ein Teil der traditionellen indischen Heilkunde\, dem Ayurveda und Teil meines Gesamtkonzeptes. \nDiese Lehre sieht einen engen Zusammenhang zwischen Körper\, Geist und Seele. Eine regelmäßige Praxis reguliert und aktiviert dein Atmungssystem\, den Stoffwechsel\, das Verdauungssystem und die hormonellen Funktionen. Auf der rein körperlichen Ebene stärkt es den Bewegungsapparat\, das Nervensystem\, hilft bei stressbedingten Störungen wie Bluthochdruck\, Magenbeschwerden und Kopfschmerzen\, fördert die Konzentrationsfähigkeit und sorgt für innere Ausgeglichenheit. \nAsanas beziehen alle Muskeln\, Bänder und Gelenke sowie die Organe mit ein. Yoga ist deshalb sehr empfehlenswert\, sowohl bei Atemwegserkrankungen\, bis zu Asthma\, als auch bei sämtlichen\, meist zivilisationsbedingten Rückenleiden. Auf der spirituellen Ebene wird es als ein ganzheitlicher\, undogmatischer Weg zum Göttlichen verstanden\, durch das Einsinken in die Meditation wird die spirituelle Entwicklung gefördert\, während Geduld\, Toleranz und Zufriedenheit wachsen. Yoga-Praktizierende entwickeln eine neue Sichtweise auf das Leben\, erweitern ihr Bewusstsein und schärfen ihre Willens- und Urteilskraft. \nDie Yogastunde beginnt mit sanften\, ruhigen Mobilisationsübungen\, gefolgt von Atemübungen und anschließenden Yogastellungen. Die Yogastunden enden mit einer Meditation und Entspannungsübungen. Yoga ist für jeden Konstitutionstyp geeignet. \nTeilnehmergebühren: 20 Euro \nEmail: info@ayurvedakunde.de \nTelefon: 01795299475
URL:https://staging.hauslebenskraft.de/veranstaltung/yoga-fuer-anfaenger-und-fortgeschrittene/2026-06-03/
LOCATION:Haus Lebenskraft\, Gutenbergstr. 30\, Potsdam\, Brandenburg\, 14467\, Germany
CATEGORIES:Öffentlich, Raum der Erde
ATTACH;FMTTYPE=image/jpeg:https://staging.hauslebenskraft.de/wp-content/uploads/2026/02/Yoga_Knut_Kunde_Haus-Lebneskraft_Potsdam-1-scaled.jpg
ORGANIZER;CN="Knut Kunde":MAILTO:info@ayurvedakunde.de
END:VEVENT
BEGIN:VEVENT
DTSTART;TZID=Europe/Berlin:20260610T173000
DTEND;TZID=Europe/Berlin:20260610T190000
DTSTAMP:20260420T104913
CREATED:20251014T115741Z
LAST-MODIFIED:20260202T133825Z
UID:10020470-1781112600-1781118000@staging.hauslebenskraft.de
SUMMARY:Yoga für Anfänger und Fortgeschrittene
DESCRIPTION:Yoga für mehr Energie\, für Anfänger und Fortgeschrittene sind sanfte Yoga-Stellungen\, verbunden mit Atemübungen und anschließender Meditation und Entspannung. Es ist ein Teil der traditionellen indischen Heilkunde\, dem Ayurveda und Teil meines Gesamtkonzeptes. \nDiese Lehre sieht einen engen Zusammenhang zwischen Körper\, Geist und Seele. Eine regelmäßige Praxis reguliert und aktiviert dein Atmungssystem\, den Stoffwechsel\, das Verdauungssystem und die hormonellen Funktionen. Auf der rein körperlichen Ebene stärkt es den Bewegungsapparat\, das Nervensystem\, hilft bei stressbedingten Störungen wie Bluthochdruck\, Magenbeschwerden und Kopfschmerzen\, fördert die Konzentrationsfähigkeit und sorgt für innere Ausgeglichenheit. \nAsanas beziehen alle Muskeln\, Bänder und Gelenke sowie die Organe mit ein. Yoga ist deshalb sehr empfehlenswert\, sowohl bei Atemwegserkrankungen\, bis zu Asthma\, als auch bei sämtlichen\, meist zivilisationsbedingten Rückenleiden. Auf der spirituellen Ebene wird es als ein ganzheitlicher\, undogmatischer Weg zum Göttlichen verstanden\, durch das Einsinken in die Meditation wird die spirituelle Entwicklung gefördert\, während Geduld\, Toleranz und Zufriedenheit wachsen. Yoga-Praktizierende entwickeln eine neue Sichtweise auf das Leben\, erweitern ihr Bewusstsein und schärfen ihre Willens- und Urteilskraft. \nDie Yogastunde beginnt mit sanften\, ruhigen Mobilisationsübungen\, gefolgt von Atemübungen und anschließenden Yogastellungen. Die Yogastunden enden mit einer Meditation und Entspannungsübungen. Yoga ist für jeden Konstitutionstyp geeignet. \nTeilnehmergebühren: 20 Euro \nEmail: info@ayurvedakunde.de \nTelefon: 01795299475
URL:https://staging.hauslebenskraft.de/veranstaltung/yoga-fuer-anfaenger-und-fortgeschrittene/2026-06-10/
LOCATION:Haus Lebenskraft\, Gutenbergstr. 30\, Potsdam\, Brandenburg\, 14467\, Germany
CATEGORIES:Öffentlich, Raum der Erde
ATTACH;FMTTYPE=image/jpeg:https://staging.hauslebenskraft.de/wp-content/uploads/2026/02/Yoga_Knut_Kunde_Haus-Lebneskraft_Potsdam-1-scaled.jpg
ORGANIZER;CN="Knut Kunde":MAILTO:info@ayurvedakunde.de
END:VEVENT
BEGIN:VEVENT
DTSTART;TZID=Europe/Berlin:20260617T173000
DTEND;TZID=Europe/Berlin:20260617T190000
DTSTAMP:20260420T104913
CREATED:20251014T115741Z
LAST-MODIFIED:20260202T133825Z
UID:10020471-1781717400-1781722800@staging.hauslebenskraft.de
SUMMARY:Yoga für Anfänger und Fortgeschrittene
DESCRIPTION:Yoga für mehr Energie\, für Anfänger und Fortgeschrittene sind sanfte Yoga-Stellungen\, verbunden mit Atemübungen und anschließender Meditation und Entspannung. Es ist ein Teil der traditionellen indischen Heilkunde\, dem Ayurveda und Teil meines Gesamtkonzeptes. \nDiese Lehre sieht einen engen Zusammenhang zwischen Körper\, Geist und Seele. Eine regelmäßige Praxis reguliert und aktiviert dein Atmungssystem\, den Stoffwechsel\, das Verdauungssystem und die hormonellen Funktionen. Auf der rein körperlichen Ebene stärkt es den Bewegungsapparat\, das Nervensystem\, hilft bei stressbedingten Störungen wie Bluthochdruck\, Magenbeschwerden und Kopfschmerzen\, fördert die Konzentrationsfähigkeit und sorgt für innere Ausgeglichenheit. \nAsanas beziehen alle Muskeln\, Bänder und Gelenke sowie die Organe mit ein. Yoga ist deshalb sehr empfehlenswert\, sowohl bei Atemwegserkrankungen\, bis zu Asthma\, als auch bei sämtlichen\, meist zivilisationsbedingten Rückenleiden. Auf der spirituellen Ebene wird es als ein ganzheitlicher\, undogmatischer Weg zum Göttlichen verstanden\, durch das Einsinken in die Meditation wird die spirituelle Entwicklung gefördert\, während Geduld\, Toleranz und Zufriedenheit wachsen. Yoga-Praktizierende entwickeln eine neue Sichtweise auf das Leben\, erweitern ihr Bewusstsein und schärfen ihre Willens- und Urteilskraft. \nDie Yogastunde beginnt mit sanften\, ruhigen Mobilisationsübungen\, gefolgt von Atemübungen und anschließenden Yogastellungen. Die Yogastunden enden mit einer Meditation und Entspannungsübungen. Yoga ist für jeden Konstitutionstyp geeignet. \nTeilnehmergebühren: 20 Euro \nEmail: info@ayurvedakunde.de \nTelefon: 01795299475
URL:https://staging.hauslebenskraft.de/veranstaltung/yoga-fuer-anfaenger-und-fortgeschrittene/2026-06-17/
LOCATION:Haus Lebenskraft\, Gutenbergstr. 30\, Potsdam\, Brandenburg\, 14467\, Germany
CATEGORIES:Öffentlich, Raum der Erde
ATTACH;FMTTYPE=image/jpeg:https://staging.hauslebenskraft.de/wp-content/uploads/2026/02/Yoga_Knut_Kunde_Haus-Lebneskraft_Potsdam-1-scaled.jpg
ORGANIZER;CN="Knut Kunde":MAILTO:info@ayurvedakunde.de
END:VEVENT
BEGIN:VEVENT
DTSTART;TZID=Europe/Berlin:20260624T173000
DTEND;TZID=Europe/Berlin:20260624T190000
DTSTAMP:20260420T104913
CREATED:20251014T115741Z
LAST-MODIFIED:20260202T133825Z
UID:10020472-1782322200-1782327600@staging.hauslebenskraft.de
SUMMARY:Yoga für Anfänger und Fortgeschrittene
DESCRIPTION:Yoga für mehr Energie\, für Anfänger und Fortgeschrittene sind sanfte Yoga-Stellungen\, verbunden mit Atemübungen und anschließender Meditation und Entspannung. Es ist ein Teil der traditionellen indischen Heilkunde\, dem Ayurveda und Teil meines Gesamtkonzeptes. \nDiese Lehre sieht einen engen Zusammenhang zwischen Körper\, Geist und Seele. Eine regelmäßige Praxis reguliert und aktiviert dein Atmungssystem\, den Stoffwechsel\, das Verdauungssystem und die hormonellen Funktionen. Auf der rein körperlichen Ebene stärkt es den Bewegungsapparat\, das Nervensystem\, hilft bei stressbedingten Störungen wie Bluthochdruck\, Magenbeschwerden und Kopfschmerzen\, fördert die Konzentrationsfähigkeit und sorgt für innere Ausgeglichenheit. \nAsanas beziehen alle Muskeln\, Bänder und Gelenke sowie die Organe mit ein. Yoga ist deshalb sehr empfehlenswert\, sowohl bei Atemwegserkrankungen\, bis zu Asthma\, als auch bei sämtlichen\, meist zivilisationsbedingten Rückenleiden. Auf der spirituellen Ebene wird es als ein ganzheitlicher\, undogmatischer Weg zum Göttlichen verstanden\, durch das Einsinken in die Meditation wird die spirituelle Entwicklung gefördert\, während Geduld\, Toleranz und Zufriedenheit wachsen. Yoga-Praktizierende entwickeln eine neue Sichtweise auf das Leben\, erweitern ihr Bewusstsein und schärfen ihre Willens- und Urteilskraft. \nDie Yogastunde beginnt mit sanften\, ruhigen Mobilisationsübungen\, gefolgt von Atemübungen und anschließenden Yogastellungen. Die Yogastunden enden mit einer Meditation und Entspannungsübungen. Yoga ist für jeden Konstitutionstyp geeignet. \nTeilnehmergebühren: 20 Euro \nEmail: info@ayurvedakunde.de \nTelefon: 01795299475
URL:https://staging.hauslebenskraft.de/veranstaltung/yoga-fuer-anfaenger-und-fortgeschrittene/2026-06-24/
LOCATION:Haus Lebenskraft\, Gutenbergstr. 30\, Potsdam\, Brandenburg\, 14467\, Germany
CATEGORIES:Öffentlich, Raum der Erde
ATTACH;FMTTYPE=image/jpeg:https://staging.hauslebenskraft.de/wp-content/uploads/2026/02/Yoga_Knut_Kunde_Haus-Lebneskraft_Potsdam-1-scaled.jpg
ORGANIZER;CN="Knut Kunde":MAILTO:info@ayurvedakunde.de
END:VEVENT
END:VCALENDAR