BEGIN:VCALENDAR
VERSION:2.0
PRODID:-//Haus Lebenskraft - ECPv6.15.20//NONSGML v1.0//EN
CALSCALE:GREGORIAN
METHOD:PUBLISH
X-WR-CALNAME:Haus Lebenskraft
X-ORIGINAL-URL:https://staging.hauslebenskraft.de
X-WR-CALDESC:Veranstaltungen für Haus Lebenskraft
REFRESH-INTERVAL;VALUE=DURATION:PT1H
X-Robots-Tag:noindex
X-PUBLISHED-TTL:PT1H
BEGIN:VTIMEZONE
TZID:Europe/Berlin
BEGIN:DAYLIGHT
TZOFFSETFROM:+0100
TZOFFSETTO:+0200
TZNAME:CEST
DTSTART:20250330T010000
END:DAYLIGHT
BEGIN:STANDARD
TZOFFSETFROM:+0200
TZOFFSETTO:+0100
TZNAME:CET
DTSTART:20251026T010000
END:STANDARD
BEGIN:DAYLIGHT
TZOFFSETFROM:+0100
TZOFFSETTO:+0200
TZNAME:CEST
DTSTART:20260329T010000
END:DAYLIGHT
BEGIN:STANDARD
TZOFFSETFROM:+0200
TZOFFSETTO:+0100
TZNAME:CET
DTSTART:20261025T010000
END:STANDARD
BEGIN:DAYLIGHT
TZOFFSETFROM:+0100
TZOFFSETTO:+0200
TZNAME:CEST
DTSTART:20270328T010000
END:DAYLIGHT
BEGIN:STANDARD
TZOFFSETFROM:+0200
TZOFFSETTO:+0100
TZNAME:CET
DTSTART:20271031T010000
END:STANDARD
END:VTIMEZONE
BEGIN:VEVENT
DTSTART;TZID=Europe/Berlin:20260422T100000
DTEND;TZID=Europe/Berlin:20260422T180000
DTSTAMP:20260419T200836
CREATED:20250617T174117Z
LAST-MODIFIED:20260202T133655Z
UID:10016988-1776852000-1776880800@staging.hauslebenskraft.de
SUMMARY:intern
DESCRIPTION:Judith Rauxloh Therapie
URL:https://staging.hauslebenskraft.de/veranstaltung/judith-rauxloh-therapie-3-3/2026-04-22/
LOCATION:Haus Lebenskraft\, Gutenbergstr. 30\, Potsdam\, Brandenburg\, 14467\, Germany
CATEGORIES:Intern, Therapieraum
ORGANIZER;CN="Judith Rauxloh":MAILTO:judith.rauxloh@gmx.de
END:VEVENT
BEGIN:VEVENT
DTSTART;TZID=Europe/Berlin:20260423T083000
DTEND;TZID=Europe/Berlin:20260423T180000
DTSTAMP:20260419T200836
CREATED:20240102T154842Z
LAST-MODIFIED:20260202T134002Z
UID:10016884-1776933000-1776967200@staging.hauslebenskraft.de
SUMMARY:intern
DESCRIPTION:Judith Rauxloh Therapie
URL:https://staging.hauslebenskraft.de/veranstaltung/judith-rauxloh-therapie-3-2/2026-04-23/
LOCATION:Haus Lebenskraft\, Gutenbergstr. 30\, Potsdam\, Brandenburg\, 14467\, Germany
CATEGORIES:Intern, Therapieraum
ORGANIZER;CN="Judith Rauxloh":MAILTO:judith.rauxloh@gmx.de
END:VEVENT
BEGIN:VEVENT
DTSTART;TZID=Europe/Berlin:20260429T100000
DTEND;TZID=Europe/Berlin:20260429T180000
DTSTAMP:20260419T200836
CREATED:20250617T174117Z
LAST-MODIFIED:20260202T133655Z
UID:10016989-1777456800-1777485600@staging.hauslebenskraft.de
SUMMARY:intern
DESCRIPTION:Judith Rauxloh Therapie
URL:https://staging.hauslebenskraft.de/veranstaltung/judith-rauxloh-therapie-3-3/2026-04-29/
LOCATION:Haus Lebenskraft\, Gutenbergstr. 30\, Potsdam\, Brandenburg\, 14467\, Germany
CATEGORIES:Intern, Therapieraum
ORGANIZER;CN="Judith Rauxloh":MAILTO:judith.rauxloh@gmx.de
END:VEVENT
BEGIN:VEVENT
DTSTART;TZID=Europe/Berlin:20260430T083000
DTEND;TZID=Europe/Berlin:20260430T180000
DTSTAMP:20260419T200836
CREATED:20240102T154842Z
LAST-MODIFIED:20260202T134002Z
UID:10016885-1777537800-1777572000@staging.hauslebenskraft.de
SUMMARY:intern
DESCRIPTION:Judith Rauxloh Therapie
URL:https://staging.hauslebenskraft.de/veranstaltung/judith-rauxloh-therapie-3-2/2026-04-30/
LOCATION:Haus Lebenskraft\, Gutenbergstr. 30\, Potsdam\, Brandenburg\, 14467\, Germany
CATEGORIES:Intern, Therapieraum
ORGANIZER;CN="Judith Rauxloh":MAILTO:judith.rauxloh@gmx.de
END:VEVENT
BEGIN:VEVENT
DTSTART;TZID=Europe/Berlin:20260506T100000
DTEND;TZID=Europe/Berlin:20260506T180000
DTSTAMP:20260419T200836
CREATED:20250617T174117Z
LAST-MODIFIED:20260202T133655Z
UID:10016990-1778061600-1778090400@staging.hauslebenskraft.de
SUMMARY:intern
DESCRIPTION:Judith Rauxloh Therapie
URL:https://staging.hauslebenskraft.de/veranstaltung/judith-rauxloh-therapie-3-3/2026-05-06/
LOCATION:Haus Lebenskraft\, Gutenbergstr. 30\, Potsdam\, Brandenburg\, 14467\, Germany
CATEGORIES:Intern, Therapieraum
ORGANIZER;CN="Judith Rauxloh":MAILTO:judith.rauxloh@gmx.de
END:VEVENT
BEGIN:VEVENT
DTSTART;TZID=Europe/Berlin:20260507T083000
DTEND;TZID=Europe/Berlin:20260507T180000
DTSTAMP:20260419T200836
CREATED:20240102T154842Z
LAST-MODIFIED:20260202T134002Z
UID:10016886-1778142600-1778176800@staging.hauslebenskraft.de
SUMMARY:intern
DESCRIPTION:Judith Rauxloh Therapie
URL:https://staging.hauslebenskraft.de/veranstaltung/judith-rauxloh-therapie-3-2/2026-05-07/
LOCATION:Haus Lebenskraft\, Gutenbergstr. 30\, Potsdam\, Brandenburg\, 14467\, Germany
CATEGORIES:Intern, Therapieraum
ORGANIZER;CN="Judith Rauxloh":MAILTO:judith.rauxloh@gmx.de
END:VEVENT
BEGIN:VEVENT
DTSTART;TZID=Europe/Berlin:20260513T100000
DTEND;TZID=Europe/Berlin:20260513T180000
DTSTAMP:20260419T200836
CREATED:20250617T174117Z
LAST-MODIFIED:20260202T133655Z
UID:10016991-1778666400-1778695200@staging.hauslebenskraft.de
SUMMARY:intern
DESCRIPTION:Judith Rauxloh Therapie
URL:https://staging.hauslebenskraft.de/veranstaltung/judith-rauxloh-therapie-3-3/2026-05-13/
LOCATION:Haus Lebenskraft\, Gutenbergstr. 30\, Potsdam\, Brandenburg\, 14467\, Germany
CATEGORIES:Intern, Therapieraum
ORGANIZER;CN="Judith Rauxloh":MAILTO:judith.rauxloh@gmx.de
END:VEVENT
BEGIN:VEVENT
DTSTART;TZID=Europe/Berlin:20260514T083000
DTEND;TZID=Europe/Berlin:20260514T180000
DTSTAMP:20260419T200836
CREATED:20240102T154842Z
LAST-MODIFIED:20260202T134002Z
UID:10016887-1778747400-1778781600@staging.hauslebenskraft.de
SUMMARY:intern
DESCRIPTION:Judith Rauxloh Therapie
URL:https://staging.hauslebenskraft.de/veranstaltung/judith-rauxloh-therapie-3-2/2026-05-14/
LOCATION:Haus Lebenskraft\, Gutenbergstr. 30\, Potsdam\, Brandenburg\, 14467\, Germany
CATEGORIES:Intern, Therapieraum
ORGANIZER;CN="Judith Rauxloh":MAILTO:judith.rauxloh@gmx.de
END:VEVENT
BEGIN:VEVENT
DTSTART;TZID=Europe/Berlin:20260520T100000
DTEND;TZID=Europe/Berlin:20260520T180000
DTSTAMP:20260419T200836
CREATED:20250617T174117Z
LAST-MODIFIED:20260202T133655Z
UID:10016992-1779271200-1779300000@staging.hauslebenskraft.de
SUMMARY:intern
DESCRIPTION:Judith Rauxloh Therapie
URL:https://staging.hauslebenskraft.de/veranstaltung/judith-rauxloh-therapie-3-3/2026-05-20/
LOCATION:Haus Lebenskraft\, Gutenbergstr. 30\, Potsdam\, Brandenburg\, 14467\, Germany
CATEGORIES:Intern, Therapieraum
ORGANIZER;CN="Judith Rauxloh":MAILTO:judith.rauxloh@gmx.de
END:VEVENT
BEGIN:VEVENT
DTSTART;TZID=Europe/Berlin:20260521T083000
DTEND;TZID=Europe/Berlin:20260521T180000
DTSTAMP:20260419T200836
CREATED:20240102T154842Z
LAST-MODIFIED:20260202T134002Z
UID:10016888-1779352200-1779386400@staging.hauslebenskraft.de
SUMMARY:intern
DESCRIPTION:Judith Rauxloh Therapie
URL:https://staging.hauslebenskraft.de/veranstaltung/judith-rauxloh-therapie-3-2/2026-05-21/
LOCATION:Haus Lebenskraft\, Gutenbergstr. 30\, Potsdam\, Brandenburg\, 14467\, Germany
CATEGORIES:Intern, Therapieraum
ORGANIZER;CN="Judith Rauxloh":MAILTO:judith.rauxloh@gmx.de
END:VEVENT
BEGIN:VEVENT
DTSTART;TZID=Europe/Berlin:20260527T100000
DTEND;TZID=Europe/Berlin:20260527T180000
DTSTAMP:20260419T200836
CREATED:20250617T174117Z
LAST-MODIFIED:20260202T133655Z
UID:10016993-1779876000-1779904800@staging.hauslebenskraft.de
SUMMARY:intern
DESCRIPTION:Judith Rauxloh Therapie
URL:https://staging.hauslebenskraft.de/veranstaltung/judith-rauxloh-therapie-3-3/2026-05-27/
LOCATION:Haus Lebenskraft\, Gutenbergstr. 30\, Potsdam\, Brandenburg\, 14467\, Germany
CATEGORIES:Intern, Therapieraum
ORGANIZER;CN="Judith Rauxloh":MAILTO:judith.rauxloh@gmx.de
END:VEVENT
BEGIN:VEVENT
DTSTART;TZID=Europe/Berlin:20260528T083000
DTEND;TZID=Europe/Berlin:20260528T180000
DTSTAMP:20260419T200836
CREATED:20240102T154842Z
LAST-MODIFIED:20260202T134002Z
UID:10016889-1779957000-1779991200@staging.hauslebenskraft.de
SUMMARY:intern
DESCRIPTION:Judith Rauxloh Therapie
URL:https://staging.hauslebenskraft.de/veranstaltung/judith-rauxloh-therapie-3-2/2026-05-28/
LOCATION:Haus Lebenskraft\, Gutenbergstr. 30\, Potsdam\, Brandenburg\, 14467\, Germany
CATEGORIES:Intern, Therapieraum
ORGANIZER;CN="Judith Rauxloh":MAILTO:judith.rauxloh@gmx.de
END:VEVENT
BEGIN:VEVENT
DTSTART;TZID=Europe/Berlin:20260603T100000
DTEND;TZID=Europe/Berlin:20260603T180000
DTSTAMP:20260419T200836
CREATED:20250617T174117Z
LAST-MODIFIED:20260202T133655Z
UID:10016994-1780480800-1780509600@staging.hauslebenskraft.de
SUMMARY:intern
DESCRIPTION:Judith Rauxloh Therapie
URL:https://staging.hauslebenskraft.de/veranstaltung/judith-rauxloh-therapie-3-3/2026-06-03/
LOCATION:Haus Lebenskraft\, Gutenbergstr. 30\, Potsdam\, Brandenburg\, 14467\, Germany
CATEGORIES:Intern, Therapieraum
ORGANIZER;CN="Judith Rauxloh":MAILTO:judith.rauxloh@gmx.de
END:VEVENT
BEGIN:VEVENT
DTSTART;TZID=Europe/Berlin:20260604T083000
DTEND;TZID=Europe/Berlin:20260604T180000
DTSTAMP:20260419T200836
CREATED:20240102T154842Z
LAST-MODIFIED:20260202T134002Z
UID:10016890-1780561800-1780596000@staging.hauslebenskraft.de
SUMMARY:intern
DESCRIPTION:Judith Rauxloh Therapie
URL:https://staging.hauslebenskraft.de/veranstaltung/judith-rauxloh-therapie-3-2/2026-06-04/
LOCATION:Haus Lebenskraft\, Gutenbergstr. 30\, Potsdam\, Brandenburg\, 14467\, Germany
CATEGORIES:Intern, Therapieraum
ORGANIZER;CN="Judith Rauxloh":MAILTO:judith.rauxloh@gmx.de
END:VEVENT
BEGIN:VEVENT
DTSTART;TZID=Europe/Berlin:20260610T100000
DTEND;TZID=Europe/Berlin:20260610T180000
DTSTAMP:20260419T200836
CREATED:20250617T174117Z
LAST-MODIFIED:20260202T133655Z
UID:10016995-1781085600-1781114400@staging.hauslebenskraft.de
SUMMARY:intern
DESCRIPTION:Judith Rauxloh Therapie
URL:https://staging.hauslebenskraft.de/veranstaltung/judith-rauxloh-therapie-3-3/2026-06-10/
LOCATION:Haus Lebenskraft\, Gutenbergstr. 30\, Potsdam\, Brandenburg\, 14467\, Germany
CATEGORIES:Intern, Therapieraum
ORGANIZER;CN="Judith Rauxloh":MAILTO:judith.rauxloh@gmx.de
END:VEVENT
BEGIN:VEVENT
DTSTART;TZID=Europe/Berlin:20260611T083000
DTEND;TZID=Europe/Berlin:20260611T180000
DTSTAMP:20260419T200836
CREATED:20240102T154842Z
LAST-MODIFIED:20260202T134002Z
UID:10016891-1781166600-1781200800@staging.hauslebenskraft.de
SUMMARY:intern
DESCRIPTION:Judith Rauxloh Therapie
URL:https://staging.hauslebenskraft.de/veranstaltung/judith-rauxloh-therapie-3-2/2026-06-11/
LOCATION:Haus Lebenskraft\, Gutenbergstr. 30\, Potsdam\, Brandenburg\, 14467\, Germany
CATEGORIES:Intern, Therapieraum
ORGANIZER;CN="Judith Rauxloh":MAILTO:judith.rauxloh@gmx.de
END:VEVENT
BEGIN:VEVENT
DTSTART;TZID=Europe/Berlin:20260617T100000
DTEND;TZID=Europe/Berlin:20260617T180000
DTSTAMP:20260419T200836
CREATED:20250617T174117Z
LAST-MODIFIED:20260202T133655Z
UID:10016996-1781690400-1781719200@staging.hauslebenskraft.de
SUMMARY:intern
DESCRIPTION:Judith Rauxloh Therapie
URL:https://staging.hauslebenskraft.de/veranstaltung/judith-rauxloh-therapie-3-3/2026-06-17/
LOCATION:Haus Lebenskraft\, Gutenbergstr. 30\, Potsdam\, Brandenburg\, 14467\, Germany
CATEGORIES:Intern, Therapieraum
ORGANIZER;CN="Judith Rauxloh":MAILTO:judith.rauxloh@gmx.de
END:VEVENT
BEGIN:VEVENT
DTSTART;TZID=Europe/Berlin:20260618T083000
DTEND;TZID=Europe/Berlin:20260618T180000
DTSTAMP:20260419T200836
CREATED:20240102T154842Z
LAST-MODIFIED:20260202T134002Z
UID:10016892-1781771400-1781805600@staging.hauslebenskraft.de
SUMMARY:intern
DESCRIPTION:Judith Rauxloh Therapie
URL:https://staging.hauslebenskraft.de/veranstaltung/judith-rauxloh-therapie-3-2/2026-06-18/
LOCATION:Haus Lebenskraft\, Gutenbergstr. 30\, Potsdam\, Brandenburg\, 14467\, Germany
CATEGORIES:Intern, Therapieraum
ORGANIZER;CN="Judith Rauxloh":MAILTO:judith.rauxloh@gmx.de
END:VEVENT
BEGIN:VEVENT
DTSTART;TZID=Europe/Berlin:20260624T100000
DTEND;TZID=Europe/Berlin:20260624T180000
DTSTAMP:20260419T200836
CREATED:20250617T174117Z
LAST-MODIFIED:20260202T133655Z
UID:10016997-1782295200-1782324000@staging.hauslebenskraft.de
SUMMARY:intern
DESCRIPTION:Judith Rauxloh Therapie
URL:https://staging.hauslebenskraft.de/veranstaltung/judith-rauxloh-therapie-3-3/2026-06-24/
LOCATION:Haus Lebenskraft\, Gutenbergstr. 30\, Potsdam\, Brandenburg\, 14467\, Germany
CATEGORIES:Intern, Therapieraum
ORGANIZER;CN="Judith Rauxloh":MAILTO:judith.rauxloh@gmx.de
END:VEVENT
BEGIN:VEVENT
DTSTART;TZID=Europe/Berlin:20260625T083000
DTEND;TZID=Europe/Berlin:20260625T180000
DTSTAMP:20260419T200836
CREATED:20240102T154842Z
LAST-MODIFIED:20260202T134002Z
UID:10016893-1782376200-1782410400@staging.hauslebenskraft.de
SUMMARY:intern
DESCRIPTION:Judith Rauxloh Therapie
URL:https://staging.hauslebenskraft.de/veranstaltung/judith-rauxloh-therapie-3-2/2026-06-25/
LOCATION:Haus Lebenskraft\, Gutenbergstr. 30\, Potsdam\, Brandenburg\, 14467\, Germany
CATEGORIES:Intern, Therapieraum
ORGANIZER;CN="Judith Rauxloh":MAILTO:judith.rauxloh@gmx.de
END:VEVENT
BEGIN:VEVENT
DTSTART;TZID=Europe/Berlin:20260701T100000
DTEND;TZID=Europe/Berlin:20260701T180000
DTSTAMP:20260419T200836
CREATED:20250617T174117Z
LAST-MODIFIED:20260202T133655Z
UID:10016998-1782900000-1782928800@staging.hauslebenskraft.de
SUMMARY:intern
DESCRIPTION:Judith Rauxloh Therapie
URL:https://staging.hauslebenskraft.de/veranstaltung/judith-rauxloh-therapie-3-3/2026-07-01/
LOCATION:Haus Lebenskraft\, Gutenbergstr. 30\, Potsdam\, Brandenburg\, 14467\, Germany
CATEGORIES:Intern, Therapieraum
ORGANIZER;CN="Judith Rauxloh":MAILTO:judith.rauxloh@gmx.de
END:VEVENT
BEGIN:VEVENT
DTSTART;TZID=Europe/Berlin:20260702T083000
DTEND;TZID=Europe/Berlin:20260702T180000
DTSTAMP:20260419T200836
CREATED:20240102T154842Z
LAST-MODIFIED:20260202T134002Z
UID:10016894-1782981000-1783015200@staging.hauslebenskraft.de
SUMMARY:intern
DESCRIPTION:Judith Rauxloh Therapie
URL:https://staging.hauslebenskraft.de/veranstaltung/judith-rauxloh-therapie-3-2/2026-07-02/
LOCATION:Haus Lebenskraft\, Gutenbergstr. 30\, Potsdam\, Brandenburg\, 14467\, Germany
CATEGORIES:Intern, Therapieraum
ORGANIZER;CN="Judith Rauxloh":MAILTO:judith.rauxloh@gmx.de
END:VEVENT
BEGIN:VEVENT
DTSTART;TZID=Europe/Berlin:20260708T100000
DTEND;TZID=Europe/Berlin:20260708T180000
DTSTAMP:20260419T200836
CREATED:20250617T174117Z
LAST-MODIFIED:20260202T133655Z
UID:10016999-1783504800-1783533600@staging.hauslebenskraft.de
SUMMARY:intern
DESCRIPTION:Judith Rauxloh Therapie
URL:https://staging.hauslebenskraft.de/veranstaltung/judith-rauxloh-therapie-3-3/2026-07-08/
LOCATION:Haus Lebenskraft\, Gutenbergstr. 30\, Potsdam\, Brandenburg\, 14467\, Germany
CATEGORIES:Intern, Therapieraum
ORGANIZER;CN="Judith Rauxloh":MAILTO:judith.rauxloh@gmx.de
END:VEVENT
BEGIN:VEVENT
DTSTART;TZID=Europe/Berlin:20260709T083000
DTEND;TZID=Europe/Berlin:20260709T180000
DTSTAMP:20260419T200836
CREATED:20240102T154842Z
LAST-MODIFIED:20260202T134002Z
UID:10016895-1783585800-1783620000@staging.hauslebenskraft.de
SUMMARY:intern
DESCRIPTION:Judith Rauxloh Therapie
URL:https://staging.hauslebenskraft.de/veranstaltung/judith-rauxloh-therapie-3-2/2026-07-09/
LOCATION:Haus Lebenskraft\, Gutenbergstr. 30\, Potsdam\, Brandenburg\, 14467\, Germany
CATEGORIES:Intern, Therapieraum
ORGANIZER;CN="Judith Rauxloh":MAILTO:judith.rauxloh@gmx.de
END:VEVENT
BEGIN:VEVENT
DTSTART;TZID=Europe/Berlin:20260715T100000
DTEND;TZID=Europe/Berlin:20260715T180000
DTSTAMP:20260419T200836
CREATED:20250617T174117Z
LAST-MODIFIED:20260202T133655Z
UID:10017000-1784109600-1784138400@staging.hauslebenskraft.de
SUMMARY:intern
DESCRIPTION:Judith Rauxloh Therapie
URL:https://staging.hauslebenskraft.de/veranstaltung/judith-rauxloh-therapie-3-3/2026-07-15/
LOCATION:Haus Lebenskraft\, Gutenbergstr. 30\, Potsdam\, Brandenburg\, 14467\, Germany
CATEGORIES:Intern, Therapieraum
ORGANIZER;CN="Judith Rauxloh":MAILTO:judith.rauxloh@gmx.de
END:VEVENT
BEGIN:VEVENT
DTSTART;TZID=Europe/Berlin:20260716T083000
DTEND;TZID=Europe/Berlin:20260716T180000
DTSTAMP:20260419T200836
CREATED:20240102T154842Z
LAST-MODIFIED:20260202T134002Z
UID:10016896-1784190600-1784224800@staging.hauslebenskraft.de
SUMMARY:intern
DESCRIPTION:Judith Rauxloh Therapie
URL:https://staging.hauslebenskraft.de/veranstaltung/judith-rauxloh-therapie-3-2/2026-07-16/
LOCATION:Haus Lebenskraft\, Gutenbergstr. 30\, Potsdam\, Brandenburg\, 14467\, Germany
CATEGORIES:Intern, Therapieraum
ORGANIZER;CN="Judith Rauxloh":MAILTO:judith.rauxloh@gmx.de
END:VEVENT
BEGIN:VEVENT
DTSTART;TZID=Europe/Berlin:20260722T100000
DTEND;TZID=Europe/Berlin:20260722T180000
DTSTAMP:20260419T200836
CREATED:20250617T174117Z
LAST-MODIFIED:20260202T133655Z
UID:10017001-1784714400-1784743200@staging.hauslebenskraft.de
SUMMARY:intern
DESCRIPTION:Judith Rauxloh Therapie
URL:https://staging.hauslebenskraft.de/veranstaltung/judith-rauxloh-therapie-3-3/2026-07-22/
LOCATION:Haus Lebenskraft\, Gutenbergstr. 30\, Potsdam\, Brandenburg\, 14467\, Germany
CATEGORIES:Intern, Therapieraum
ORGANIZER;CN="Judith Rauxloh":MAILTO:judith.rauxloh@gmx.de
END:VEVENT
BEGIN:VEVENT
DTSTART;TZID=Europe/Berlin:20260723T083000
DTEND;TZID=Europe/Berlin:20260723T180000
DTSTAMP:20260419T200836
CREATED:20240102T154842Z
LAST-MODIFIED:20260202T134002Z
UID:10016897-1784795400-1784829600@staging.hauslebenskraft.de
SUMMARY:intern
DESCRIPTION:Judith Rauxloh Therapie
URL:https://staging.hauslebenskraft.de/veranstaltung/judith-rauxloh-therapie-3-2/2026-07-23/
LOCATION:Haus Lebenskraft\, Gutenbergstr. 30\, Potsdam\, Brandenburg\, 14467\, Germany
CATEGORIES:Intern, Therapieraum
ORGANIZER;CN="Judith Rauxloh":MAILTO:judith.rauxloh@gmx.de
END:VEVENT
BEGIN:VEVENT
DTSTART;TZID=Europe/Berlin:20260729T100000
DTEND;TZID=Europe/Berlin:20260729T180000
DTSTAMP:20260419T200836
CREATED:20250617T174117Z
LAST-MODIFIED:20260202T133655Z
UID:10017002-1785319200-1785348000@staging.hauslebenskraft.de
SUMMARY:intern
DESCRIPTION:Judith Rauxloh Therapie
URL:https://staging.hauslebenskraft.de/veranstaltung/judith-rauxloh-therapie-3-3/2026-07-29/
LOCATION:Haus Lebenskraft\, Gutenbergstr. 30\, Potsdam\, Brandenburg\, 14467\, Germany
CATEGORIES:Intern, Therapieraum
ORGANIZER;CN="Judith Rauxloh":MAILTO:judith.rauxloh@gmx.de
END:VEVENT
BEGIN:VEVENT
DTSTART;TZID=Europe/Berlin:20260730T083000
DTEND;TZID=Europe/Berlin:20260730T180000
DTSTAMP:20260419T200836
CREATED:20240102T154842Z
LAST-MODIFIED:20260202T134002Z
UID:10016898-1785400200-1785434400@staging.hauslebenskraft.de
SUMMARY:intern
DESCRIPTION:Judith Rauxloh Therapie
URL:https://staging.hauslebenskraft.de/veranstaltung/judith-rauxloh-therapie-3-2/2026-07-30/
LOCATION:Haus Lebenskraft\, Gutenbergstr. 30\, Potsdam\, Brandenburg\, 14467\, Germany
CATEGORIES:Intern, Therapieraum
ORGANIZER;CN="Judith Rauxloh":MAILTO:judith.rauxloh@gmx.de
END:VEVENT
END:VCALENDAR