BEGIN:VCALENDAR
VERSION:2.0
PRODID:-//Haus Lebenskraft - ECPv6.15.20//NONSGML v1.0//EN
CALSCALE:GREGORIAN
METHOD:PUBLISH
X-ORIGINAL-URL:https://staging.hauslebenskraft.de
X-WR-CALDESC:Veranstaltungen für Haus Lebenskraft
REFRESH-INTERVAL;VALUE=DURATION:PT1H
X-Robots-Tag:noindex
X-PUBLISHED-TTL:PT1H
BEGIN:VTIMEZONE
TZID:Europe/Berlin
BEGIN:DAYLIGHT
TZOFFSETFROM:+0100
TZOFFSETTO:+0200
TZNAME:CEST
DTSTART:20240331T010000
END:DAYLIGHT
BEGIN:STANDARD
TZOFFSETFROM:+0200
TZOFFSETTO:+0100
TZNAME:CET
DTSTART:20241027T010000
END:STANDARD
BEGIN:DAYLIGHT
TZOFFSETFROM:+0100
TZOFFSETTO:+0200
TZNAME:CEST
DTSTART:20250330T010000
END:DAYLIGHT
BEGIN:STANDARD
TZOFFSETFROM:+0200
TZOFFSETTO:+0100
TZNAME:CET
DTSTART:20251026T010000
END:STANDARD
BEGIN:DAYLIGHT
TZOFFSETFROM:+0100
TZOFFSETTO:+0200
TZNAME:CEST
DTSTART:20260329T010000
END:DAYLIGHT
BEGIN:STANDARD
TZOFFSETFROM:+0200
TZOFFSETTO:+0100
TZNAME:CET
DTSTART:20261025T010000
END:STANDARD
END:VTIMEZONE
BEGIN:VEVENT
DTSTART;TZID=Europe/Berlin:20250530T193000
DTEND;TZID=Europe/Berlin:20250530T213000
DTSTAMP:20260424T092145
CREATED:20250508T125323Z
LAST-MODIFIED:20250509T085806Z
UID:10018196-1748633400-1748640600@staging.hauslebenskraft.de
SUMMARY:BLESSED & BLISSED Sing & Dance & Connect & Pray
DESCRIPTION:Let´s come together & free your voice! \nKomm wie Du bist\, sing wie Du kannst! Vorkenntnisse sind nicht erforderlich.\nWir singen Songs aus unterschiedlichen Richtungen: Community Songs\, Mantras und vieles\, vieles mehr – voller Kraft und auch voller Lebensfreude!\n\nLet´s Move – Die Bewegung kommt dabei nicht zu kurz! Let´s Dance & Let´s Swing! \nLet´s Connect – Erlebt die Magie\, wenn sich eure Stimmen verbinden und wenn Gemeinschaft durch den Circle entsteht. \nAblauf:\nAb 19.00 Uhr        Ankunft in Stille (Oberster Raum im Haus Lebenskraft/unter dem Dach)\nAb 19.30 Uhr        Beginn\nAb 21.30 Uhr        Ende/Chill out \nBitte keine Handys benutzen (Außer\, wer erreichbar sein MUSS).\nGebt euch bitte gegenseitig Raum\, in Stille anzukommen (Gespräche bitte nur draußen). \nIch freu mich auf euch!\nBe blessed & Blissed!\nDJ Namasté \nEintritt auf Spendenbasis/Empfohlen ab 15\,– Euro \nAbout me:\nIch liebe Singen und Singing-Circle aller Art! Und ich liebe es\, Gitarre zu spielen und mit anderen Menschen zusammen Musik zu machen und zu singen. Ansonsten mache ich gerne Yin-Yoga\, liebe lange Sommer-Abende mit dem SUP auf dem Wasser\, fahre gerne Floß oder Hausboot\, Segle und Tanze gerne (Ecstatic Dance) und bin sehr froh\, in Potsdam zuhause sein zu dürfen! \nEmail: pkastner@gmx.de\nTel.: +49170-8828718\nGraf-von-Schwerin-Straße 14\n14469 Potsdam
URL:https://staging.hauslebenskraft.de/veranstaltung/reserviertz-fuer-patrik-kastner-2/
LOCATION:Haus Lebenskraft\, Gutenbergstr. 30\, Potsdam\, Brandenburg\, 14467\, Germany
CATEGORIES:Öffentlich, Sonnenraum
ORGANIZER;CN="Patrik Kastner":MAILTO:pkastner@gmx.de
END:VEVENT
END:VCALENDAR