BEGIN:VCALENDAR
VERSION:2.0
PRODID:-//Haus Lebenskraft - ECPv6.15.20//NONSGML v1.0//EN
CALSCALE:GREGORIAN
METHOD:PUBLISH
X-WR-CALNAME:Haus Lebenskraft
X-ORIGINAL-URL:https://staging.hauslebenskraft.de
X-WR-CALDESC:Veranstaltungen für Haus Lebenskraft
REFRESH-INTERVAL;VALUE=DURATION:PT1H
X-Robots-Tag:noindex
X-PUBLISHED-TTL:PT1H
BEGIN:VTIMEZONE
TZID:Europe/Berlin
BEGIN:DAYLIGHT
TZOFFSETFROM:+0100
TZOFFSETTO:+0200
TZNAME:CEST
DTSTART:20250330T010000
END:DAYLIGHT
BEGIN:STANDARD
TZOFFSETFROM:+0200
TZOFFSETTO:+0100
TZNAME:CET
DTSTART:20251026T010000
END:STANDARD
BEGIN:DAYLIGHT
TZOFFSETFROM:+0100
TZOFFSETTO:+0200
TZNAME:CEST
DTSTART:20260329T010000
END:DAYLIGHT
BEGIN:STANDARD
TZOFFSETFROM:+0200
TZOFFSETTO:+0100
TZNAME:CET
DTSTART:20261025T010000
END:STANDARD
BEGIN:DAYLIGHT
TZOFFSETFROM:+0100
TZOFFSETTO:+0200
TZNAME:CEST
DTSTART:20270328T010000
END:DAYLIGHT
BEGIN:STANDARD
TZOFFSETFROM:+0200
TZOFFSETTO:+0100
TZNAME:CET
DTSTART:20271031T010000
END:STANDARD
END:VTIMEZONE
BEGIN:VEVENT
DTSTART;TZID=Europe/Berlin:20260310T193000
DTEND;TZID=Europe/Berlin:20260310T210000
DTSTAMP:20260419T203224
CREATED:20250630T145643Z
LAST-MODIFIED:20260202T133332Z
UID:10019304-1773171000-1773176400@staging.hauslebenskraft.de
SUMMARY:Yogaklasse für jede/n
DESCRIPTION:In unserer wöchentlichen Yogaklasse erwartet dich eine kraftvolle und zugleich achtsame Praxis\, die auch in unsicheren Zeiten Klarheit\, Leichtigkeit und Verbindung schafft. Durch präzise\, biomechanisch fundierte Ausrichtung wird dein Körper gestärkt\, deine Beweglichkeit gefördert und dein Bewusstsein für dich selbst vertieft – ganz unabhängig von Alter\, Erfahrung oder körperlicher Verfassung. Die lebensbejahende Philosophie des Anusara® Yoga inspiriert uns dabei\, mit der richtigen Einstellung\, Ausrichtung und Aktion dem Leben bewusst zu begegnen.\nDas Lehrer*innen Team: Lalla und Vilas – Wegbereiter des Anusara Yoga im deutschsprachigen Raum – teilen ihre über 20-jährige Erfahrung mit großer Hingabe. Lena und Nora bringen als von Lalla und Vilas ausgebildete Lehrerinnen Herz\, Klarheit und Freude in die gemeinsame Praxis.\n\nhttps://www.lallaundvilas.de/ausbildungs-und-lehrgangstermine/\n***\nUnd hier die Links für die Abendklassen auf unserer Website:\n\nAnmeldung zur Abendklasse dienstags um 19:30 Uhr
URL:https://staging.hauslebenskraft.de/veranstaltung/yoga-lalla-vilas-akademie/2026-03-10/
LOCATION:Haus Lebenskraft\, Gutenbergstr. 30\, Potsdam\, Brandenburg\, 14467\, Germany
CATEGORIES:Öffentlich, Sonnenraum
ATTACH;FMTTYPE=image/jpeg:https://staging.hauslebenskraft.de/wp-content/uploads/2026/02/Lalla-Vilas-Lena-Nora-1.jpg
ORGANIZER;CN="parApara Digital GmbH":MAILTO:lena@lallaundvilas.de
END:VEVENT
BEGIN:VEVENT
DTSTART;TZID=Europe/Berlin:20260310T190000
DTEND;TZID=Europe/Berlin:20260310T191500
DTSTAMP:20260419T203224
CREATED:20250730T115557Z
LAST-MODIFIED:20260202T132526Z
UID:10019356-1773169200-1773170100@staging.hauslebenskraft.de
SUMMARY:intern
DESCRIPTION:Vorbereitung Yoga
URL:https://staging.hauslebenskraft.de/veranstaltung/vorbereitung-yoga/2026-03-10/
LOCATION:Haus Lebenskraft\, Gutenbergstr. 30\, Potsdam\, Brandenburg\, 14467\, Germany
CATEGORIES:Intern, Sonnenraum
ORGANIZER;CN="parApara Digital GmbH":MAILTO:lena@lallaundvilas.de
END:VEVENT
BEGIN:VEVENT
DTSTART;TZID=Europe/Berlin:20260303T211500
DTEND;TZID=Europe/Berlin:20260303T213000
DTSTAMP:20260419T203224
CREATED:20250730T115751Z
LAST-MODIFIED:20260202T133358Z
UID:10019408-1772572500-1772573400@staging.hauslebenskraft.de
SUMMARY:intern
DESCRIPTION:Nachbereitung Yoga
URL:https://staging.hauslebenskraft.de/veranstaltung/nachbereitung-yoga/2026-03-03/
LOCATION:Haus Lebenskraft\, Gutenbergstr. 30\, Potsdam\, Brandenburg\, 14467\, Germany
CATEGORIES:Intern, Sonnenraum
ORGANIZER;CN="parApara Digital GmbH":MAILTO:lena@lallaundvilas.de
END:VEVENT
BEGIN:VEVENT
DTSTART;TZID=Europe/Berlin:20260303T193000
DTEND;TZID=Europe/Berlin:20260303T210000
DTSTAMP:20260419T203224
CREATED:20250630T145643Z
LAST-MODIFIED:20260202T133332Z
UID:10019303-1772566200-1772571600@staging.hauslebenskraft.de
SUMMARY:Yogaklasse für jede/n
DESCRIPTION:In unserer wöchentlichen Yogaklasse erwartet dich eine kraftvolle und zugleich achtsame Praxis\, die auch in unsicheren Zeiten Klarheit\, Leichtigkeit und Verbindung schafft. Durch präzise\, biomechanisch fundierte Ausrichtung wird dein Körper gestärkt\, deine Beweglichkeit gefördert und dein Bewusstsein für dich selbst vertieft – ganz unabhängig von Alter\, Erfahrung oder körperlicher Verfassung. Die lebensbejahende Philosophie des Anusara® Yoga inspiriert uns dabei\, mit der richtigen Einstellung\, Ausrichtung und Aktion dem Leben bewusst zu begegnen.\nDas Lehrer*innen Team: Lalla und Vilas – Wegbereiter des Anusara Yoga im deutschsprachigen Raum – teilen ihre über 20-jährige Erfahrung mit großer Hingabe. Lena und Nora bringen als von Lalla und Vilas ausgebildete Lehrerinnen Herz\, Klarheit und Freude in die gemeinsame Praxis.\n\nhttps://www.lallaundvilas.de/ausbildungs-und-lehrgangstermine/\n***\nUnd hier die Links für die Abendklassen auf unserer Website:\n\nAnmeldung zur Abendklasse dienstags um 19:30 Uhr
URL:https://staging.hauslebenskraft.de/veranstaltung/yoga-lalla-vilas-akademie/2026-03-03/
LOCATION:Haus Lebenskraft\, Gutenbergstr. 30\, Potsdam\, Brandenburg\, 14467\, Germany
CATEGORIES:Öffentlich, Sonnenraum
ATTACH;FMTTYPE=image/jpeg:https://staging.hauslebenskraft.de/wp-content/uploads/2026/02/Lalla-Vilas-Lena-Nora-1.jpg
ORGANIZER;CN="parApara Digital GmbH":MAILTO:lena@lallaundvilas.de
END:VEVENT
BEGIN:VEVENT
DTSTART;TZID=Europe/Berlin:20260303T190000
DTEND;TZID=Europe/Berlin:20260303T191500
DTSTAMP:20260419T203224
CREATED:20260223T152821Z
LAST-MODIFIED:20260223T152849Z
UID:10019355-1772564400-1772565300@staging.hauslebenskraft.de
SUMMARY:intern
DESCRIPTION:Vorbereitung Yoga
URL:https://staging.hauslebenskraft.de/veranstaltung/intern-16/
LOCATION:Haus Lebenskraft\, Gutenbergstr. 30\, Potsdam\, Brandenburg\, 14467\, Germany
CATEGORIES:Intern, Sonnenraum
ORGANIZER;CN="parApara Digital GmbH":MAILTO:lena@lallaundvilas.de
END:VEVENT
BEGIN:VEVENT
DTSTART;TZID=Europe/Berlin:20260224T211500
DTEND;TZID=Europe/Berlin:20260224T213000
DTSTAMP:20260419T203224
CREATED:20250730T115751Z
LAST-MODIFIED:20260202T133358Z
UID:10019407-1771967700-1771968600@staging.hauslebenskraft.de
SUMMARY:intern
DESCRIPTION:Nachbereitung Yoga
URL:https://staging.hauslebenskraft.de/veranstaltung/nachbereitung-yoga/2026-02-24/
LOCATION:Haus Lebenskraft\, Gutenbergstr. 30\, Potsdam\, Brandenburg\, 14467\, Germany
CATEGORIES:Intern, Sonnenraum
ORGANIZER;CN="parApara Digital GmbH":MAILTO:lena@lallaundvilas.de
END:VEVENT
BEGIN:VEVENT
DTSTART;TZID=Europe/Berlin:20260224T193000
DTEND;TZID=Europe/Berlin:20260224T210000
DTSTAMP:20260419T203224
CREATED:20250630T145643Z
LAST-MODIFIED:20260202T133332Z
UID:10019302-1771961400-1771966800@staging.hauslebenskraft.de
SUMMARY:Yogaklasse für jede/n
DESCRIPTION:In unserer wöchentlichen Yogaklasse erwartet dich eine kraftvolle und zugleich achtsame Praxis\, die auch in unsicheren Zeiten Klarheit\, Leichtigkeit und Verbindung schafft. Durch präzise\, biomechanisch fundierte Ausrichtung wird dein Körper gestärkt\, deine Beweglichkeit gefördert und dein Bewusstsein für dich selbst vertieft – ganz unabhängig von Alter\, Erfahrung oder körperlicher Verfassung. Die lebensbejahende Philosophie des Anusara® Yoga inspiriert uns dabei\, mit der richtigen Einstellung\, Ausrichtung und Aktion dem Leben bewusst zu begegnen.\nDas Lehrer*innen Team: Lalla und Vilas – Wegbereiter des Anusara Yoga im deutschsprachigen Raum – teilen ihre über 20-jährige Erfahrung mit großer Hingabe. Lena und Nora bringen als von Lalla und Vilas ausgebildete Lehrerinnen Herz\, Klarheit und Freude in die gemeinsame Praxis.\n\nhttps://www.lallaundvilas.de/ausbildungs-und-lehrgangstermine/\n***\nUnd hier die Links für die Abendklassen auf unserer Website:\n\nAnmeldung zur Abendklasse dienstags um 19:30 Uhr
URL:https://staging.hauslebenskraft.de/veranstaltung/yoga-lalla-vilas-akademie/2026-02-24/
LOCATION:Haus Lebenskraft\, Gutenbergstr. 30\, Potsdam\, Brandenburg\, 14467\, Germany
CATEGORIES:Öffentlich, Sonnenraum
ATTACH;FMTTYPE=image/jpeg:https://staging.hauslebenskraft.de/wp-content/uploads/2026/02/Lalla-Vilas-Lena-Nora-1.jpg
ORGANIZER;CN="parApara Digital GmbH":MAILTO:lena@lallaundvilas.de
END:VEVENT
BEGIN:VEVENT
DTSTART;TZID=Europe/Berlin:20260224T190000
DTEND;TZID=Europe/Berlin:20260224T191500
DTSTAMP:20260419T203224
CREATED:20250730T115557Z
LAST-MODIFIED:20260202T132526Z
UID:10019354-1771959600-1771960500@staging.hauslebenskraft.de
SUMMARY:intern
DESCRIPTION:Vorbereitung Yoga
URL:https://staging.hauslebenskraft.de/veranstaltung/vorbereitung-yoga/2026-02-24/
LOCATION:Haus Lebenskraft\, Gutenbergstr. 30\, Potsdam\, Brandenburg\, 14467\, Germany
CATEGORIES:Intern, Sonnenraum
ORGANIZER;CN="parApara Digital GmbH":MAILTO:lena@lallaundvilas.de
END:VEVENT
BEGIN:VEVENT
DTSTART;TZID=Europe/Berlin:20260217T211500
DTEND;TZID=Europe/Berlin:20260217T213000
DTSTAMP:20260419T203224
CREATED:20250730T115751Z
LAST-MODIFIED:20260202T133358Z
UID:10019406-1771362900-1771363800@staging.hauslebenskraft.de
SUMMARY:intern
DESCRIPTION:Nachbereitung Yoga
URL:https://staging.hauslebenskraft.de/veranstaltung/nachbereitung-yoga/2026-02-17/
LOCATION:Haus Lebenskraft\, Gutenbergstr. 30\, Potsdam\, Brandenburg\, 14467\, Germany
CATEGORIES:Intern, Sonnenraum
ORGANIZER;CN="parApara Digital GmbH":MAILTO:lena@lallaundvilas.de
END:VEVENT
BEGIN:VEVENT
DTSTART;TZID=Europe/Berlin:20260217T193000
DTEND;TZID=Europe/Berlin:20260217T210000
DTSTAMP:20260419T203224
CREATED:20250630T145643Z
LAST-MODIFIED:20260202T133332Z
UID:10019301-1771356600-1771362000@staging.hauslebenskraft.de
SUMMARY:Yogaklasse für jede/n
DESCRIPTION:In unserer wöchentlichen Yogaklasse erwartet dich eine kraftvolle und zugleich achtsame Praxis\, die auch in unsicheren Zeiten Klarheit\, Leichtigkeit und Verbindung schafft. Durch präzise\, biomechanisch fundierte Ausrichtung wird dein Körper gestärkt\, deine Beweglichkeit gefördert und dein Bewusstsein für dich selbst vertieft – ganz unabhängig von Alter\, Erfahrung oder körperlicher Verfassung. Die lebensbejahende Philosophie des Anusara® Yoga inspiriert uns dabei\, mit der richtigen Einstellung\, Ausrichtung und Aktion dem Leben bewusst zu begegnen.\nDas Lehrer*innen Team: Lalla und Vilas – Wegbereiter des Anusara Yoga im deutschsprachigen Raum – teilen ihre über 20-jährige Erfahrung mit großer Hingabe. Lena und Nora bringen als von Lalla und Vilas ausgebildete Lehrerinnen Herz\, Klarheit und Freude in die gemeinsame Praxis.\n\nhttps://www.lallaundvilas.de/ausbildungs-und-lehrgangstermine/\n***\nUnd hier die Links für die Abendklassen auf unserer Website:\n\nAnmeldung zur Abendklasse dienstags um 19:30 Uhr
URL:https://staging.hauslebenskraft.de/veranstaltung/yoga-lalla-vilas-akademie/2026-02-17/
LOCATION:Haus Lebenskraft\, Gutenbergstr. 30\, Potsdam\, Brandenburg\, 14467\, Germany
CATEGORIES:Öffentlich, Sonnenraum
ATTACH;FMTTYPE=image/jpeg:https://staging.hauslebenskraft.de/wp-content/uploads/2026/02/Lalla-Vilas-Lena-Nora-1.jpg
ORGANIZER;CN="parApara Digital GmbH":MAILTO:lena@lallaundvilas.de
END:VEVENT
BEGIN:VEVENT
DTSTART;TZID=Europe/Berlin:20260217T190000
DTEND;TZID=Europe/Berlin:20260217T191500
DTSTAMP:20260419T203224
CREATED:20250730T115557Z
LAST-MODIFIED:20260202T132526Z
UID:10019353-1771354800-1771355700@staging.hauslebenskraft.de
SUMMARY:intern
DESCRIPTION:Vorbereitung Yoga
URL:https://staging.hauslebenskraft.de/veranstaltung/vorbereitung-yoga/2026-02-17/
LOCATION:Haus Lebenskraft\, Gutenbergstr. 30\, Potsdam\, Brandenburg\, 14467\, Germany
CATEGORIES:Intern, Sonnenraum
ORGANIZER;CN="parApara Digital GmbH":MAILTO:lena@lallaundvilas.de
END:VEVENT
BEGIN:VEVENT
DTSTART;TZID=Europe/Berlin:20260215T083000
DTEND;TZID=Europe/Berlin:20260215T150000
DTSTAMP:20260419T203224
CREATED:20260205T152151Z
LAST-MODIFIED:20260205T152151Z
UID:10025022-1771144200-1771167600@staging.hauslebenskraft.de
SUMMARY:Vilas Turske
DESCRIPTION:
URL:https://staging.hauslebenskraft.de/veranstaltung/vilas-turske/2026-02-15/
LOCATION:Haus Lebenskraft\, Gutenbergstr. 30\, Potsdam\, Brandenburg\, 14467\, Germany
CATEGORIES:Intern, Sonnenraum
ORGANIZER;CN="parApara Digital GmbH":MAILTO:lena@lallaundvilas.de
END:VEVENT
BEGIN:VEVENT
DTSTART;TZID=Europe/Berlin:20260214T083000
DTEND;TZID=Europe/Berlin:20260214T170000
DTSTAMP:20260419T203224
CREATED:20260205T152151Z
LAST-MODIFIED:20260205T152151Z
UID:10025021-1771057800-1771088400@staging.hauslebenskraft.de
SUMMARY:Vilas Turske
DESCRIPTION:
URL:https://staging.hauslebenskraft.de/veranstaltung/vilas-turske/2026-02-14/
LOCATION:Haus Lebenskraft\, Gutenbergstr. 30\, Potsdam\, Brandenburg\, 14467\, Germany
CATEGORIES:Intern, Sonnenraum
ORGANIZER;CN="parApara Digital GmbH":MAILTO:lena@lallaundvilas.de
END:VEVENT
BEGIN:VEVENT
DTSTART;TZID=Europe/Berlin:20260213T143000
DTEND;TZID=Europe/Berlin:20260213T200000
DTSTAMP:20260419T203224
CREATED:20260313T085518Z
LAST-MODIFIED:20260313T085556Z
UID:10025020-1770993000-1771012800@staging.hauslebenskraft.de
SUMMARY:Vilas Turske
DESCRIPTION:
URL:https://staging.hauslebenskraft.de/veranstaltung/vilas-turske-8/
LOCATION:Haus Lebenskraft\, Gutenbergstr. 30\, Potsdam\, Brandenburg\, 14467\, Germany
CATEGORIES:Intern, Sonnenraum
ORGANIZER;CN="parApara Digital GmbH":MAILTO:lena@lallaundvilas.de
END:VEVENT
BEGIN:VEVENT
DTSTART;TZID=Europe/Berlin:20260210T211500
DTEND;TZID=Europe/Berlin:20260210T213000
DTSTAMP:20260419T203224
CREATED:20250730T115751Z
LAST-MODIFIED:20260202T133358Z
UID:10019405-1770758100-1770759000@staging.hauslebenskraft.de
SUMMARY:intern
DESCRIPTION:Nachbereitung Yoga
URL:https://staging.hauslebenskraft.de/veranstaltung/nachbereitung-yoga/2026-02-10/
LOCATION:Haus Lebenskraft\, Gutenbergstr. 30\, Potsdam\, Brandenburg\, 14467\, Germany
CATEGORIES:Intern, Sonnenraum
ORGANIZER;CN="parApara Digital GmbH":MAILTO:lena@lallaundvilas.de
END:VEVENT
BEGIN:VEVENT
DTSTART;TZID=Europe/Berlin:20260210T193000
DTEND;TZID=Europe/Berlin:20260210T210000
DTSTAMP:20260419T203224
CREATED:20250630T145643Z
LAST-MODIFIED:20260202T133332Z
UID:10019300-1770751800-1770757200@staging.hauslebenskraft.de
SUMMARY:Yogaklasse für jede/n
DESCRIPTION:In unserer wöchentlichen Yogaklasse erwartet dich eine kraftvolle und zugleich achtsame Praxis\, die auch in unsicheren Zeiten Klarheit\, Leichtigkeit und Verbindung schafft. Durch präzise\, biomechanisch fundierte Ausrichtung wird dein Körper gestärkt\, deine Beweglichkeit gefördert und dein Bewusstsein für dich selbst vertieft – ganz unabhängig von Alter\, Erfahrung oder körperlicher Verfassung. Die lebensbejahende Philosophie des Anusara® Yoga inspiriert uns dabei\, mit der richtigen Einstellung\, Ausrichtung und Aktion dem Leben bewusst zu begegnen.\nDas Lehrer*innen Team: Lalla und Vilas – Wegbereiter des Anusara Yoga im deutschsprachigen Raum – teilen ihre über 20-jährige Erfahrung mit großer Hingabe. Lena und Nora bringen als von Lalla und Vilas ausgebildete Lehrerinnen Herz\, Klarheit und Freude in die gemeinsame Praxis.\n\nhttps://www.lallaundvilas.de/ausbildungs-und-lehrgangstermine/\n***\nUnd hier die Links für die Abendklassen auf unserer Website:\n\nAnmeldung zur Abendklasse dienstags um 19:30 Uhr
URL:https://staging.hauslebenskraft.de/veranstaltung/yoga-lalla-vilas-akademie/2026-02-10/
LOCATION:Haus Lebenskraft\, Gutenbergstr. 30\, Potsdam\, Brandenburg\, 14467\, Germany
CATEGORIES:Öffentlich, Sonnenraum
ATTACH;FMTTYPE=image/jpeg:https://staging.hauslebenskraft.de/wp-content/uploads/2026/02/Lalla-Vilas-Lena-Nora-1.jpg
ORGANIZER;CN="parApara Digital GmbH":MAILTO:lena@lallaundvilas.de
END:VEVENT
BEGIN:VEVENT
DTSTART;TZID=Europe/Berlin:20260210T190000
DTEND;TZID=Europe/Berlin:20260210T191500
DTSTAMP:20260419T203224
CREATED:20250730T115557Z
LAST-MODIFIED:20260202T132526Z
UID:10019352-1770750000-1770750900@staging.hauslebenskraft.de
SUMMARY:intern
DESCRIPTION:Vorbereitung Yoga
URL:https://staging.hauslebenskraft.de/veranstaltung/vorbereitung-yoga/2026-02-10/
LOCATION:Haus Lebenskraft\, Gutenbergstr. 30\, Potsdam\, Brandenburg\, 14467\, Germany
CATEGORIES:Intern, Sonnenraum
ORGANIZER;CN="parApara Digital GmbH":MAILTO:lena@lallaundvilas.de
END:VEVENT
BEGIN:VEVENT
DTSTART;TZID=Europe/Berlin:20260203T211500
DTEND;TZID=Europe/Berlin:20260203T213000
DTSTAMP:20260419T203224
CREATED:20250730T115751Z
LAST-MODIFIED:20260202T133358Z
UID:10019404-1770153300-1770154200@staging.hauslebenskraft.de
SUMMARY:intern
DESCRIPTION:Nachbereitung Yoga
URL:https://staging.hauslebenskraft.de/veranstaltung/nachbereitung-yoga/2026-02-03/
LOCATION:Haus Lebenskraft\, Gutenbergstr. 30\, Potsdam\, Brandenburg\, 14467\, Germany
CATEGORIES:Intern, Sonnenraum
ORGANIZER;CN="parApara Digital GmbH":MAILTO:lena@lallaundvilas.de
END:VEVENT
BEGIN:VEVENT
DTSTART;TZID=Europe/Berlin:20260203T193000
DTEND;TZID=Europe/Berlin:20260203T210000
DTSTAMP:20260419T203224
CREATED:20250630T145643Z
LAST-MODIFIED:20260202T133332Z
UID:10019299-1770147000-1770152400@staging.hauslebenskraft.de
SUMMARY:Yogaklasse für jede/n
DESCRIPTION:In unserer wöchentlichen Yogaklasse erwartet dich eine kraftvolle und zugleich achtsame Praxis\, die auch in unsicheren Zeiten Klarheit\, Leichtigkeit und Verbindung schafft. Durch präzise\, biomechanisch fundierte Ausrichtung wird dein Körper gestärkt\, deine Beweglichkeit gefördert und dein Bewusstsein für dich selbst vertieft – ganz unabhängig von Alter\, Erfahrung oder körperlicher Verfassung. Die lebensbejahende Philosophie des Anusara® Yoga inspiriert uns dabei\, mit der richtigen Einstellung\, Ausrichtung und Aktion dem Leben bewusst zu begegnen.\nDas Lehrer*innen Team: Lalla und Vilas – Wegbereiter des Anusara Yoga im deutschsprachigen Raum – teilen ihre über 20-jährige Erfahrung mit großer Hingabe. Lena und Nora bringen als von Lalla und Vilas ausgebildete Lehrerinnen Herz\, Klarheit und Freude in die gemeinsame Praxis.\n\nhttps://www.lallaundvilas.de/ausbildungs-und-lehrgangstermine/\n***\nUnd hier die Links für die Abendklassen auf unserer Website:\n\nAnmeldung zur Abendklasse dienstags um 19:30 Uhr
URL:https://staging.hauslebenskraft.de/veranstaltung/yoga-lalla-vilas-akademie/2026-02-03/
LOCATION:Haus Lebenskraft\, Gutenbergstr. 30\, Potsdam\, Brandenburg\, 14467\, Germany
CATEGORIES:Öffentlich, Sonnenraum
ATTACH;FMTTYPE=image/jpeg:https://staging.hauslebenskraft.de/wp-content/uploads/2026/02/Lalla-Vilas-Lena-Nora-1.jpg
ORGANIZER;CN="parApara Digital GmbH":MAILTO:lena@lallaundvilas.de
END:VEVENT
BEGIN:VEVENT
DTSTART;TZID=Europe/Berlin:20260203T190000
DTEND;TZID=Europe/Berlin:20260203T191500
DTSTAMP:20260419T203224
CREATED:20250730T115557Z
LAST-MODIFIED:20260202T132526Z
UID:10019351-1770145200-1770146100@staging.hauslebenskraft.de
SUMMARY:intern
DESCRIPTION:Vorbereitung Yoga
URL:https://staging.hauslebenskraft.de/veranstaltung/vorbereitung-yoga/2026-02-03/
LOCATION:Haus Lebenskraft\, Gutenbergstr. 30\, Potsdam\, Brandenburg\, 14467\, Germany
CATEGORIES:Intern, Sonnenraum
ORGANIZER;CN="parApara Digital GmbH":MAILTO:lena@lallaundvilas.de
END:VEVENT
BEGIN:VEVENT
DTSTART;TZID=Europe/Berlin:20260127T211500
DTEND;TZID=Europe/Berlin:20260127T213000
DTSTAMP:20260419T203224
CREATED:20250730T115751Z
LAST-MODIFIED:20260202T133358Z
UID:10019403-1769548500-1769549400@staging.hauslebenskraft.de
SUMMARY:intern
DESCRIPTION:Nachbereitung Yoga
URL:https://staging.hauslebenskraft.de/veranstaltung/nachbereitung-yoga/2026-01-27/
LOCATION:Haus Lebenskraft\, Gutenbergstr. 30\, Potsdam\, Brandenburg\, 14467\, Germany
CATEGORIES:Intern, Sonnenraum
ORGANIZER;CN="parApara Digital GmbH":MAILTO:lena@lallaundvilas.de
END:VEVENT
BEGIN:VEVENT
DTSTART;TZID=Europe/Berlin:20260127T193000
DTEND;TZID=Europe/Berlin:20260127T210000
DTSTAMP:20260419T203224
CREATED:20250630T145643Z
LAST-MODIFIED:20260202T133332Z
UID:10019298-1769542200-1769547600@staging.hauslebenskraft.de
SUMMARY:Yogaklasse für jede/n
DESCRIPTION:In unserer wöchentlichen Yogaklasse erwartet dich eine kraftvolle und zugleich achtsame Praxis\, die auch in unsicheren Zeiten Klarheit\, Leichtigkeit und Verbindung schafft. Durch präzise\, biomechanisch fundierte Ausrichtung wird dein Körper gestärkt\, deine Beweglichkeit gefördert und dein Bewusstsein für dich selbst vertieft – ganz unabhängig von Alter\, Erfahrung oder körperlicher Verfassung. Die lebensbejahende Philosophie des Anusara® Yoga inspiriert uns dabei\, mit der richtigen Einstellung\, Ausrichtung und Aktion dem Leben bewusst zu begegnen.\nDas Lehrer*innen Team: Lalla und Vilas – Wegbereiter des Anusara Yoga im deutschsprachigen Raum – teilen ihre über 20-jährige Erfahrung mit großer Hingabe. Lena und Nora bringen als von Lalla und Vilas ausgebildete Lehrerinnen Herz\, Klarheit und Freude in die gemeinsame Praxis.\n\nhttps://www.lallaundvilas.de/ausbildungs-und-lehrgangstermine/\n***\nUnd hier die Links für die Abendklassen auf unserer Website:\n\nAnmeldung zur Abendklasse dienstags um 19:30 Uhr
URL:https://staging.hauslebenskraft.de/veranstaltung/yoga-lalla-vilas-akademie/2026-01-27/
LOCATION:Haus Lebenskraft\, Gutenbergstr. 30\, Potsdam\, Brandenburg\, 14467\, Germany
CATEGORIES:Öffentlich, Sonnenraum
ATTACH;FMTTYPE=image/jpeg:https://staging.hauslebenskraft.de/wp-content/uploads/2026/02/Lalla-Vilas-Lena-Nora-1.jpg
ORGANIZER;CN="parApara Digital GmbH":MAILTO:lena@lallaundvilas.de
END:VEVENT
BEGIN:VEVENT
DTSTART;TZID=Europe/Berlin:20260127T190000
DTEND;TZID=Europe/Berlin:20260127T191500
DTSTAMP:20260419T203224
CREATED:20250730T115557Z
LAST-MODIFIED:20260202T132526Z
UID:10019350-1769540400-1769541300@staging.hauslebenskraft.de
SUMMARY:intern
DESCRIPTION:Vorbereitung Yoga
URL:https://staging.hauslebenskraft.de/veranstaltung/vorbereitung-yoga/2026-01-27/
LOCATION:Haus Lebenskraft\, Gutenbergstr. 30\, Potsdam\, Brandenburg\, 14467\, Germany
CATEGORIES:Intern, Sonnenraum
ORGANIZER;CN="parApara Digital GmbH":MAILTO:lena@lallaundvilas.de
END:VEVENT
BEGIN:VEVENT
DTSTART;TZID=Europe/Berlin:20260120T211500
DTEND;TZID=Europe/Berlin:20260120T213000
DTSTAMP:20260419T203224
CREATED:20250730T115751Z
LAST-MODIFIED:20260202T133358Z
UID:10019402-1768943700-1768944600@staging.hauslebenskraft.de
SUMMARY:intern
DESCRIPTION:Nachbereitung Yoga
URL:https://staging.hauslebenskraft.de/veranstaltung/nachbereitung-yoga/2026-01-20/
LOCATION:Haus Lebenskraft\, Gutenbergstr. 30\, Potsdam\, Brandenburg\, 14467\, Germany
CATEGORIES:Intern, Sonnenraum
ORGANIZER;CN="parApara Digital GmbH":MAILTO:lena@lallaundvilas.de
END:VEVENT
BEGIN:VEVENT
DTSTART;TZID=Europe/Berlin:20260120T193000
DTEND;TZID=Europe/Berlin:20260120T210000
DTSTAMP:20260419T203224
CREATED:20250630T145643Z
LAST-MODIFIED:20260202T133332Z
UID:10019297-1768937400-1768942800@staging.hauslebenskraft.de
SUMMARY:Yogaklasse für jede/n
DESCRIPTION:In unserer wöchentlichen Yogaklasse erwartet dich eine kraftvolle und zugleich achtsame Praxis\, die auch in unsicheren Zeiten Klarheit\, Leichtigkeit und Verbindung schafft. Durch präzise\, biomechanisch fundierte Ausrichtung wird dein Körper gestärkt\, deine Beweglichkeit gefördert und dein Bewusstsein für dich selbst vertieft – ganz unabhängig von Alter\, Erfahrung oder körperlicher Verfassung. Die lebensbejahende Philosophie des Anusara® Yoga inspiriert uns dabei\, mit der richtigen Einstellung\, Ausrichtung und Aktion dem Leben bewusst zu begegnen.\nDas Lehrer*innen Team: Lalla und Vilas – Wegbereiter des Anusara Yoga im deutschsprachigen Raum – teilen ihre über 20-jährige Erfahrung mit großer Hingabe. Lena und Nora bringen als von Lalla und Vilas ausgebildete Lehrerinnen Herz\, Klarheit und Freude in die gemeinsame Praxis.\n\nhttps://www.lallaundvilas.de/ausbildungs-und-lehrgangstermine/\n***\nUnd hier die Links für die Abendklassen auf unserer Website:\n\nAnmeldung zur Abendklasse dienstags um 19:30 Uhr
URL:https://staging.hauslebenskraft.de/veranstaltung/yoga-lalla-vilas-akademie/2026-01-20/
LOCATION:Haus Lebenskraft\, Gutenbergstr. 30\, Potsdam\, Brandenburg\, 14467\, Germany
CATEGORIES:Öffentlich, Sonnenraum
ATTACH;FMTTYPE=image/jpeg:https://staging.hauslebenskraft.de/wp-content/uploads/2026/02/Lalla-Vilas-Lena-Nora-1.jpg
ORGANIZER;CN="parApara Digital GmbH":MAILTO:lena@lallaundvilas.de
END:VEVENT
BEGIN:VEVENT
DTSTART;TZID=Europe/Berlin:20260120T190000
DTEND;TZID=Europe/Berlin:20260120T191500
DTSTAMP:20260419T203224
CREATED:20250730T115557Z
LAST-MODIFIED:20260202T132526Z
UID:10019349-1768935600-1768936500@staging.hauslebenskraft.de
SUMMARY:intern
DESCRIPTION:Vorbereitung Yoga
URL:https://staging.hauslebenskraft.de/veranstaltung/vorbereitung-yoga/2026-01-20/
LOCATION:Haus Lebenskraft\, Gutenbergstr. 30\, Potsdam\, Brandenburg\, 14467\, Germany
CATEGORIES:Intern, Sonnenraum
ORGANIZER;CN="parApara Digital GmbH":MAILTO:lena@lallaundvilas.de
END:VEVENT
BEGIN:VEVENT
DTSTART;TZID=Europe/Berlin:20260113T211500
DTEND;TZID=Europe/Berlin:20260113T213000
DTSTAMP:20260419T203224
CREATED:20250730T115751Z
LAST-MODIFIED:20260202T133358Z
UID:10019401-1768338900-1768339800@staging.hauslebenskraft.de
SUMMARY:intern
DESCRIPTION:Nachbereitung Yoga
URL:https://staging.hauslebenskraft.de/veranstaltung/nachbereitung-yoga/2026-01-13/
LOCATION:Haus Lebenskraft\, Gutenbergstr. 30\, Potsdam\, Brandenburg\, 14467\, Germany
CATEGORIES:Intern, Sonnenraum
ORGANIZER;CN="parApara Digital GmbH":MAILTO:lena@lallaundvilas.de
END:VEVENT
BEGIN:VEVENT
DTSTART;TZID=Europe/Berlin:20260113T193000
DTEND;TZID=Europe/Berlin:20260113T210000
DTSTAMP:20260419T203224
CREATED:20250630T145643Z
LAST-MODIFIED:20260202T133332Z
UID:10019296-1768332600-1768338000@staging.hauslebenskraft.de
SUMMARY:Yogaklasse für jede/n
DESCRIPTION:In unserer wöchentlichen Yogaklasse erwartet dich eine kraftvolle und zugleich achtsame Praxis\, die auch in unsicheren Zeiten Klarheit\, Leichtigkeit und Verbindung schafft. Durch präzise\, biomechanisch fundierte Ausrichtung wird dein Körper gestärkt\, deine Beweglichkeit gefördert und dein Bewusstsein für dich selbst vertieft – ganz unabhängig von Alter\, Erfahrung oder körperlicher Verfassung. Die lebensbejahende Philosophie des Anusara® Yoga inspiriert uns dabei\, mit der richtigen Einstellung\, Ausrichtung und Aktion dem Leben bewusst zu begegnen.\nDas Lehrer*innen Team: Lalla und Vilas – Wegbereiter des Anusara Yoga im deutschsprachigen Raum – teilen ihre über 20-jährige Erfahrung mit großer Hingabe. Lena und Nora bringen als von Lalla und Vilas ausgebildete Lehrerinnen Herz\, Klarheit und Freude in die gemeinsame Praxis.\n\nhttps://www.lallaundvilas.de/ausbildungs-und-lehrgangstermine/\n***\nUnd hier die Links für die Abendklassen auf unserer Website:\n\nAnmeldung zur Abendklasse dienstags um 19:30 Uhr
URL:https://staging.hauslebenskraft.de/veranstaltung/yoga-lalla-vilas-akademie/2026-01-13/
LOCATION:Haus Lebenskraft\, Gutenbergstr. 30\, Potsdam\, Brandenburg\, 14467\, Germany
CATEGORIES:Öffentlich, Sonnenraum
ATTACH;FMTTYPE=image/jpeg:https://staging.hauslebenskraft.de/wp-content/uploads/2026/02/Lalla-Vilas-Lena-Nora-1.jpg
ORGANIZER;CN="parApara Digital GmbH":MAILTO:lena@lallaundvilas.de
END:VEVENT
BEGIN:VEVENT
DTSTART;TZID=Europe/Berlin:20260113T190000
DTEND;TZID=Europe/Berlin:20260113T191500
DTSTAMP:20260419T203224
CREATED:20250730T115557Z
LAST-MODIFIED:20260202T132526Z
UID:10019348-1768330800-1768331700@staging.hauslebenskraft.de
SUMMARY:intern
DESCRIPTION:Vorbereitung Yoga
URL:https://staging.hauslebenskraft.de/veranstaltung/vorbereitung-yoga/2026-01-13/
LOCATION:Haus Lebenskraft\, Gutenbergstr. 30\, Potsdam\, Brandenburg\, 14467\, Germany
CATEGORIES:Intern, Sonnenraum
ORGANIZER;CN="parApara Digital GmbH":MAILTO:lena@lallaundvilas.de
END:VEVENT
BEGIN:VEVENT
DTSTART;TZID=Europe/Berlin:20260106T211500
DTEND;TZID=Europe/Berlin:20260106T213000
DTSTAMP:20260419T203224
CREATED:20250730T115751Z
LAST-MODIFIED:20260202T133358Z
UID:10019400-1767734100-1767735000@staging.hauslebenskraft.de
SUMMARY:intern
DESCRIPTION:Nachbereitung Yoga
URL:https://staging.hauslebenskraft.de/veranstaltung/nachbereitung-yoga/2026-01-06/
LOCATION:Haus Lebenskraft\, Gutenbergstr. 30\, Potsdam\, Brandenburg\, 14467\, Germany
CATEGORIES:Intern, Sonnenraum
ORGANIZER;CN="parApara Digital GmbH":MAILTO:lena@lallaundvilas.de
END:VEVENT
END:VCALENDAR