BEGIN:VCALENDAR
VERSION:2.0
PRODID:-//Haus Lebenskraft - ECPv6.15.20//NONSGML v1.0//EN
CALSCALE:GREGORIAN
METHOD:PUBLISH
X-WR-CALNAME:Haus Lebenskraft
X-ORIGINAL-URL:https://staging.hauslebenskraft.de
X-WR-CALDESC:Veranstaltungen für Haus Lebenskraft
REFRESH-INTERVAL;VALUE=DURATION:PT1H
X-Robots-Tag:noindex
X-PUBLISHED-TTL:PT1H
BEGIN:VTIMEZONE
TZID:Europe/Berlin
BEGIN:DAYLIGHT
TZOFFSETFROM:+0100
TZOFFSETTO:+0200
TZNAME:CEST
DTSTART:20250330T010000
END:DAYLIGHT
BEGIN:STANDARD
TZOFFSETFROM:+0200
TZOFFSETTO:+0100
TZNAME:CET
DTSTART:20251026T010000
END:STANDARD
BEGIN:DAYLIGHT
TZOFFSETFROM:+0100
TZOFFSETTO:+0200
TZNAME:CEST
DTSTART:20260329T010000
END:DAYLIGHT
BEGIN:STANDARD
TZOFFSETFROM:+0200
TZOFFSETTO:+0100
TZNAME:CET
DTSTART:20261025T010000
END:STANDARD
BEGIN:DAYLIGHT
TZOFFSETFROM:+0100
TZOFFSETTO:+0200
TZNAME:CEST
DTSTART:20270328T010000
END:DAYLIGHT
BEGIN:STANDARD
TZOFFSETFROM:+0200
TZOFFSETTO:+0100
TZNAME:CET
DTSTART:20271031T010000
END:STANDARD
END:VTIMEZONE
BEGIN:VEVENT
DTSTART;TZID=Europe/Berlin:20260421T190000
DTEND;TZID=Europe/Berlin:20260421T191500
DTSTAMP:20260419T170350
CREATED:20250730T115557Z
LAST-MODIFIED:20260202T132526Z
UID:10019362-1776798000-1776798900@staging.hauslebenskraft.de
SUMMARY:intern
DESCRIPTION:Vorbereitung Yoga
URL:https://staging.hauslebenskraft.de/veranstaltung/vorbereitung-yoga/2026-04-21/
LOCATION:Haus Lebenskraft\, Gutenbergstr. 30\, Potsdam\, Brandenburg\, 14467\, Germany
CATEGORIES:Intern, Sonnenraum
ORGANIZER;CN="parApara Digital GmbH":MAILTO:lena@lallaundvilas.de
END:VEVENT
BEGIN:VEVENT
DTSTART;TZID=Europe/Berlin:20260421T193000
DTEND;TZID=Europe/Berlin:20260421T210000
DTSTAMP:20260419T170350
CREATED:20250630T145643Z
LAST-MODIFIED:20260202T133332Z
UID:10019310-1776799800-1776805200@staging.hauslebenskraft.de
SUMMARY:Yogaklasse für jede/n
DESCRIPTION:In unserer wöchentlichen Yogaklasse erwartet dich eine kraftvolle und zugleich achtsame Praxis\, die auch in unsicheren Zeiten Klarheit\, Leichtigkeit und Verbindung schafft. Durch präzise\, biomechanisch fundierte Ausrichtung wird dein Körper gestärkt\, deine Beweglichkeit gefördert und dein Bewusstsein für dich selbst vertieft – ganz unabhängig von Alter\, Erfahrung oder körperlicher Verfassung. Die lebensbejahende Philosophie des Anusara® Yoga inspiriert uns dabei\, mit der richtigen Einstellung\, Ausrichtung und Aktion dem Leben bewusst zu begegnen.\nDas Lehrer*innen Team: Lalla und Vilas – Wegbereiter des Anusara Yoga im deutschsprachigen Raum – teilen ihre über 20-jährige Erfahrung mit großer Hingabe. Lena und Nora bringen als von Lalla und Vilas ausgebildete Lehrerinnen Herz\, Klarheit und Freude in die gemeinsame Praxis.\n\nhttps://www.lallaundvilas.de/ausbildungs-und-lehrgangstermine/\n***\nUnd hier die Links für die Abendklassen auf unserer Website:\n\nAnmeldung zur Abendklasse dienstags um 19:30 Uhr
URL:https://staging.hauslebenskraft.de/veranstaltung/yoga-lalla-vilas-akademie/2026-04-21/
LOCATION:Haus Lebenskraft\, Gutenbergstr. 30\, Potsdam\, Brandenburg\, 14467\, Germany
CATEGORIES:Öffentlich, Sonnenraum
ATTACH;FMTTYPE=image/jpeg:https://staging.hauslebenskraft.de/wp-content/uploads/2026/02/Lalla-Vilas-Lena-Nora-1.jpg
ORGANIZER;CN="parApara Digital GmbH":MAILTO:lena@lallaundvilas.de
END:VEVENT
BEGIN:VEVENT
DTSTART;TZID=Europe/Berlin:20260421T211500
DTEND;TZID=Europe/Berlin:20260421T213000
DTSTAMP:20260419T170350
CREATED:20250730T115751Z
LAST-MODIFIED:20260202T133358Z
UID:10019415-1776806100-1776807000@staging.hauslebenskraft.de
SUMMARY:intern
DESCRIPTION:Nachbereitung Yoga
URL:https://staging.hauslebenskraft.de/veranstaltung/nachbereitung-yoga/2026-04-21/
LOCATION:Haus Lebenskraft\, Gutenbergstr. 30\, Potsdam\, Brandenburg\, 14467\, Germany
CATEGORIES:Intern, Sonnenraum
ORGANIZER;CN="parApara Digital GmbH":MAILTO:lena@lallaundvilas.de
END:VEVENT
BEGIN:VEVENT
DTSTART;TZID=Europe/Berlin:20260424T143000
DTEND;TZID=Europe/Berlin:20260424T200000
DTSTAMP:20260419T170350
CREATED:20250812T125832Z
LAST-MODIFIED:20260321T141158Z
UID:10025544-1777041000-1777060800@staging.hauslebenskraft.de
SUMMARY:Workshop "Die Schwingung des Bewusstseins – Spanda als lebendige Erfahrung von Stille und Bewegung" mit Vilas
DESCRIPTION:https://www.lallaundvilas.de/event/die-schwingung-des-bewusstseins-spanda-als-lebendige-erfahrung-von-stille-und-bewegung-2/
URL:https://staging.hauslebenskraft.de/veranstaltung/workshop-die-schwingung-des-bewusstseins-spanda-als-lebendige-erfahrung-von-stille-und-bewegung-mit-vilas/2026-04-24/
LOCATION:Haus Lebenskraft\, Gutenbergstr. 30\, Potsdam\, Brandenburg\, 14467\, Germany
CATEGORIES:Öffentlich, Sonnenraum
ORGANIZER;CN="parApara Digital GmbH":MAILTO:lena@lallaundvilas.de
END:VEVENT
BEGIN:VEVENT
DTSTART;TZID=Europe/Berlin:20260425T083000
DTEND;TZID=Europe/Berlin:20260425T170000
DTSTAMP:20260419T170350
CREATED:20250812T125832Z
LAST-MODIFIED:20260321T141158Z
UID:10019557-1777105800-1777136400@staging.hauslebenskraft.de
SUMMARY:Workshop "Die Schwingung des Bewusstseins – Spanda als lebendige Erfahrung von Stille und Bewegung" mit Vilas
DESCRIPTION:https://www.lallaundvilas.de/event/die-schwingung-des-bewusstseins-spanda-als-lebendige-erfahrung-von-stille-und-bewegung-2/
URL:https://staging.hauslebenskraft.de/veranstaltung/workshop-die-schwingung-des-bewusstseins-spanda-als-lebendige-erfahrung-von-stille-und-bewegung-mit-vilas/2026-04-25/
LOCATION:Haus Lebenskraft\, Gutenbergstr. 30\, Potsdam\, Brandenburg\, 14467\, Germany
CATEGORIES:Öffentlich, Sonnenraum
ORGANIZER;CN="parApara Digital GmbH":MAILTO:lena@lallaundvilas.de
END:VEVENT
BEGIN:VEVENT
DTSTART;TZID=Europe/Berlin:20260426T083000
DTEND;TZID=Europe/Berlin:20260426T150000
DTSTAMP:20260419T170350
CREATED:20250812T125832Z
LAST-MODIFIED:20260321T141158Z
UID:10019558-1777192200-1777215600@staging.hauslebenskraft.de
SUMMARY:Workshop "Die Schwingung des Bewusstseins – Spanda als lebendige Erfahrung von Stille und Bewegung" mit Vilas
DESCRIPTION:https://www.lallaundvilas.de/event/die-schwingung-des-bewusstseins-spanda-als-lebendige-erfahrung-von-stille-und-bewegung-2/
URL:https://staging.hauslebenskraft.de/veranstaltung/workshop-die-schwingung-des-bewusstseins-spanda-als-lebendige-erfahrung-von-stille-und-bewegung-mit-vilas/2026-04-26/
LOCATION:Haus Lebenskraft\, Gutenbergstr. 30\, Potsdam\, Brandenburg\, 14467\, Germany
CATEGORIES:Öffentlich, Sonnenraum
ORGANIZER;CN="parApara Digital GmbH":MAILTO:lena@lallaundvilas.de
END:VEVENT
BEGIN:VEVENT
DTSTART;TZID=Europe/Berlin:20260428T190000
DTEND;TZID=Europe/Berlin:20260428T191500
DTSTAMP:20260419T170350
CREATED:20250730T115557Z
LAST-MODIFIED:20260202T132526Z
UID:10019363-1777402800-1777403700@staging.hauslebenskraft.de
SUMMARY:intern
DESCRIPTION:Vorbereitung Yoga
URL:https://staging.hauslebenskraft.de/veranstaltung/vorbereitung-yoga/2026-04-28/
LOCATION:Haus Lebenskraft\, Gutenbergstr. 30\, Potsdam\, Brandenburg\, 14467\, Germany
CATEGORIES:Intern, Sonnenraum
ORGANIZER;CN="parApara Digital GmbH":MAILTO:lena@lallaundvilas.de
END:VEVENT
BEGIN:VEVENT
DTSTART;TZID=Europe/Berlin:20260428T193000
DTEND;TZID=Europe/Berlin:20260428T210000
DTSTAMP:20260419T170350
CREATED:20250630T145643Z
LAST-MODIFIED:20260202T133332Z
UID:10019311-1777404600-1777410000@staging.hauslebenskraft.de
SUMMARY:Yogaklasse für jede/n
DESCRIPTION:In unserer wöchentlichen Yogaklasse erwartet dich eine kraftvolle und zugleich achtsame Praxis\, die auch in unsicheren Zeiten Klarheit\, Leichtigkeit und Verbindung schafft. Durch präzise\, biomechanisch fundierte Ausrichtung wird dein Körper gestärkt\, deine Beweglichkeit gefördert und dein Bewusstsein für dich selbst vertieft – ganz unabhängig von Alter\, Erfahrung oder körperlicher Verfassung. Die lebensbejahende Philosophie des Anusara® Yoga inspiriert uns dabei\, mit der richtigen Einstellung\, Ausrichtung und Aktion dem Leben bewusst zu begegnen.\nDas Lehrer*innen Team: Lalla und Vilas – Wegbereiter des Anusara Yoga im deutschsprachigen Raum – teilen ihre über 20-jährige Erfahrung mit großer Hingabe. Lena und Nora bringen als von Lalla und Vilas ausgebildete Lehrerinnen Herz\, Klarheit und Freude in die gemeinsame Praxis.\n\nhttps://www.lallaundvilas.de/ausbildungs-und-lehrgangstermine/\n***\nUnd hier die Links für die Abendklassen auf unserer Website:\n\nAnmeldung zur Abendklasse dienstags um 19:30 Uhr
URL:https://staging.hauslebenskraft.de/veranstaltung/yoga-lalla-vilas-akademie/2026-04-28/
LOCATION:Haus Lebenskraft\, Gutenbergstr. 30\, Potsdam\, Brandenburg\, 14467\, Germany
CATEGORIES:Öffentlich, Sonnenraum
ATTACH;FMTTYPE=image/jpeg:https://staging.hauslebenskraft.de/wp-content/uploads/2026/02/Lalla-Vilas-Lena-Nora-1.jpg
ORGANIZER;CN="parApara Digital GmbH":MAILTO:lena@lallaundvilas.de
END:VEVENT
BEGIN:VEVENT
DTSTART;TZID=Europe/Berlin:20260428T211500
DTEND;TZID=Europe/Berlin:20260428T213000
DTSTAMP:20260419T170350
CREATED:20250730T115751Z
LAST-MODIFIED:20260202T133358Z
UID:10019416-1777410900-1777411800@staging.hauslebenskraft.de
SUMMARY:intern
DESCRIPTION:Nachbereitung Yoga
URL:https://staging.hauslebenskraft.de/veranstaltung/nachbereitung-yoga/2026-04-28/
LOCATION:Haus Lebenskraft\, Gutenbergstr. 30\, Potsdam\, Brandenburg\, 14467\, Germany
CATEGORIES:Intern, Sonnenraum
ORGANIZER;CN="parApara Digital GmbH":MAILTO:lena@lallaundvilas.de
END:VEVENT
BEGIN:VEVENT
DTSTART;TZID=Europe/Berlin:20260505T190000
DTEND;TZID=Europe/Berlin:20260505T191500
DTSTAMP:20260419T170350
CREATED:20250730T115557Z
LAST-MODIFIED:20260202T132526Z
UID:10019364-1778007600-1778008500@staging.hauslebenskraft.de
SUMMARY:intern
DESCRIPTION:Vorbereitung Yoga
URL:https://staging.hauslebenskraft.de/veranstaltung/vorbereitung-yoga/2026-05-05/
LOCATION:Haus Lebenskraft\, Gutenbergstr. 30\, Potsdam\, Brandenburg\, 14467\, Germany
CATEGORIES:Intern, Sonnenraum
ORGANIZER;CN="parApara Digital GmbH":MAILTO:lena@lallaundvilas.de
END:VEVENT
BEGIN:VEVENT
DTSTART;TZID=Europe/Berlin:20260505T193000
DTEND;TZID=Europe/Berlin:20260505T210000
DTSTAMP:20260419T170350
CREATED:20250630T145643Z
LAST-MODIFIED:20260202T133332Z
UID:10019312-1778009400-1778014800@staging.hauslebenskraft.de
SUMMARY:Yogaklasse für jede/n
DESCRIPTION:In unserer wöchentlichen Yogaklasse erwartet dich eine kraftvolle und zugleich achtsame Praxis\, die auch in unsicheren Zeiten Klarheit\, Leichtigkeit und Verbindung schafft. Durch präzise\, biomechanisch fundierte Ausrichtung wird dein Körper gestärkt\, deine Beweglichkeit gefördert und dein Bewusstsein für dich selbst vertieft – ganz unabhängig von Alter\, Erfahrung oder körperlicher Verfassung. Die lebensbejahende Philosophie des Anusara® Yoga inspiriert uns dabei\, mit der richtigen Einstellung\, Ausrichtung und Aktion dem Leben bewusst zu begegnen.\nDas Lehrer*innen Team: Lalla und Vilas – Wegbereiter des Anusara Yoga im deutschsprachigen Raum – teilen ihre über 20-jährige Erfahrung mit großer Hingabe. Lena und Nora bringen als von Lalla und Vilas ausgebildete Lehrerinnen Herz\, Klarheit und Freude in die gemeinsame Praxis.\n\nhttps://www.lallaundvilas.de/ausbildungs-und-lehrgangstermine/\n***\nUnd hier die Links für die Abendklassen auf unserer Website:\n\nAnmeldung zur Abendklasse dienstags um 19:30 Uhr
URL:https://staging.hauslebenskraft.de/veranstaltung/yoga-lalla-vilas-akademie/2026-05-05/
LOCATION:Haus Lebenskraft\, Gutenbergstr. 30\, Potsdam\, Brandenburg\, 14467\, Germany
CATEGORIES:Öffentlich, Sonnenraum
ATTACH;FMTTYPE=image/jpeg:https://staging.hauslebenskraft.de/wp-content/uploads/2026/02/Lalla-Vilas-Lena-Nora-1.jpg
ORGANIZER;CN="parApara Digital GmbH":MAILTO:lena@lallaundvilas.de
END:VEVENT
BEGIN:VEVENT
DTSTART;TZID=Europe/Berlin:20260505T211500
DTEND;TZID=Europe/Berlin:20260505T213000
DTSTAMP:20260419T170350
CREATED:20250730T115751Z
LAST-MODIFIED:20260202T133358Z
UID:10019417-1778015700-1778016600@staging.hauslebenskraft.de
SUMMARY:intern
DESCRIPTION:Nachbereitung Yoga
URL:https://staging.hauslebenskraft.de/veranstaltung/nachbereitung-yoga/2026-05-05/
LOCATION:Haus Lebenskraft\, Gutenbergstr. 30\, Potsdam\, Brandenburg\, 14467\, Germany
CATEGORIES:Intern, Sonnenraum
ORGANIZER;CN="parApara Digital GmbH":MAILTO:lena@lallaundvilas.de
END:VEVENT
BEGIN:VEVENT
DTSTART;TZID=Europe/Berlin:20260508T143000
DTEND;TZID=Europe/Berlin:20260508T190000
DTSTAMP:20260419T170350
CREATED:20250903T082715Z
LAST-MODIFIED:20260323T160111Z
UID:10025536-1778250600-1778266800@staging.hauslebenskraft.de
SUMMARY:Workshop "Die Vollendung des Augenblicks – Purnatva als Einheit von Form und Formlosem" mit Vilas
DESCRIPTION:Link zur Veranstaltung: https://www.lallaundvilas.de/event/die-vollendung-des-augenblicks-purnatva-als-einheit-von-form-und-formlosem/
URL:https://staging.hauslebenskraft.de/veranstaltung/workshop-die-vollendung-des-augenblicks-purnatva-als-einheit-von-form-und-formlosem-mit-vilas/2026-05-08/
LOCATION:Haus Lebenskraft\, Gutenbergstr. 30\, Potsdam\, Brandenburg\, 14467\, Germany
CATEGORIES:Öffentlich, Sonnenraum
ORGANIZER;CN="parApara Digital GmbH":MAILTO:lena@lallaundvilas.de
END:VEVENT
BEGIN:VEVENT
DTSTART;TZID=Europe/Berlin:20260509T083000
DTEND;TZID=Europe/Berlin:20260509T170000
DTSTAMP:20260419T170350
CREATED:20250903T082715Z
LAST-MODIFIED:20260323T160111Z
UID:10019582-1778315400-1778346000@staging.hauslebenskraft.de
SUMMARY:Workshop "Die Vollendung des Augenblicks – Purnatva als Einheit von Form und Formlosem" mit Vilas
DESCRIPTION:Link zur Veranstaltung: https://www.lallaundvilas.de/event/die-vollendung-des-augenblicks-purnatva-als-einheit-von-form-und-formlosem/
URL:https://staging.hauslebenskraft.de/veranstaltung/workshop-die-vollendung-des-augenblicks-purnatva-als-einheit-von-form-und-formlosem-mit-vilas/2026-05-09/
LOCATION:Haus Lebenskraft\, Gutenbergstr. 30\, Potsdam\, Brandenburg\, 14467\, Germany
CATEGORIES:Öffentlich, Sonnenraum
ORGANIZER;CN="parApara Digital GmbH":MAILTO:lena@lallaundvilas.de
END:VEVENT
BEGIN:VEVENT
DTSTART;TZID=Europe/Berlin:20260510T083000
DTEND;TZID=Europe/Berlin:20260510T150000
DTSTAMP:20260419T170350
CREATED:20250903T082715Z
LAST-MODIFIED:20260323T160111Z
UID:10019583-1778401800-1778425200@staging.hauslebenskraft.de
SUMMARY:Workshop "Die Vollendung des Augenblicks – Purnatva als Einheit von Form und Formlosem" mit Vilas
DESCRIPTION:Link zur Veranstaltung: https://www.lallaundvilas.de/event/die-vollendung-des-augenblicks-purnatva-als-einheit-von-form-und-formlosem/
URL:https://staging.hauslebenskraft.de/veranstaltung/workshop-die-vollendung-des-augenblicks-purnatva-als-einheit-von-form-und-formlosem-mit-vilas/2026-05-10/
LOCATION:Haus Lebenskraft\, Gutenbergstr. 30\, Potsdam\, Brandenburg\, 14467\, Germany
CATEGORIES:Öffentlich, Sonnenraum
ORGANIZER;CN="parApara Digital GmbH":MAILTO:lena@lallaundvilas.de
END:VEVENT
BEGIN:VEVENT
DTSTART;TZID=Europe/Berlin:20260512T190000
DTEND;TZID=Europe/Berlin:20260512T191500
DTSTAMP:20260419T170350
CREATED:20250730T115557Z
LAST-MODIFIED:20260202T132526Z
UID:10019365-1778612400-1778613300@staging.hauslebenskraft.de
SUMMARY:intern
DESCRIPTION:Vorbereitung Yoga
URL:https://staging.hauslebenskraft.de/veranstaltung/vorbereitung-yoga/2026-05-12/
LOCATION:Haus Lebenskraft\, Gutenbergstr. 30\, Potsdam\, Brandenburg\, 14467\, Germany
CATEGORIES:Intern, Sonnenraum
ORGANIZER;CN="parApara Digital GmbH":MAILTO:lena@lallaundvilas.de
END:VEVENT
BEGIN:VEVENT
DTSTART;TZID=Europe/Berlin:20260512T193000
DTEND;TZID=Europe/Berlin:20260512T210000
DTSTAMP:20260419T170350
CREATED:20250630T145643Z
LAST-MODIFIED:20260202T133332Z
UID:10019313-1778614200-1778619600@staging.hauslebenskraft.de
SUMMARY:Yogaklasse für jede/n
DESCRIPTION:In unserer wöchentlichen Yogaklasse erwartet dich eine kraftvolle und zugleich achtsame Praxis\, die auch in unsicheren Zeiten Klarheit\, Leichtigkeit und Verbindung schafft. Durch präzise\, biomechanisch fundierte Ausrichtung wird dein Körper gestärkt\, deine Beweglichkeit gefördert und dein Bewusstsein für dich selbst vertieft – ganz unabhängig von Alter\, Erfahrung oder körperlicher Verfassung. Die lebensbejahende Philosophie des Anusara® Yoga inspiriert uns dabei\, mit der richtigen Einstellung\, Ausrichtung und Aktion dem Leben bewusst zu begegnen.\nDas Lehrer*innen Team: Lalla und Vilas – Wegbereiter des Anusara Yoga im deutschsprachigen Raum – teilen ihre über 20-jährige Erfahrung mit großer Hingabe. Lena und Nora bringen als von Lalla und Vilas ausgebildete Lehrerinnen Herz\, Klarheit und Freude in die gemeinsame Praxis.\n\nhttps://www.lallaundvilas.de/ausbildungs-und-lehrgangstermine/\n***\nUnd hier die Links für die Abendklassen auf unserer Website:\n\nAnmeldung zur Abendklasse dienstags um 19:30 Uhr
URL:https://staging.hauslebenskraft.de/veranstaltung/yoga-lalla-vilas-akademie/2026-05-12/
LOCATION:Haus Lebenskraft\, Gutenbergstr. 30\, Potsdam\, Brandenburg\, 14467\, Germany
CATEGORIES:Öffentlich, Sonnenraum
ATTACH;FMTTYPE=image/jpeg:https://staging.hauslebenskraft.de/wp-content/uploads/2026/02/Lalla-Vilas-Lena-Nora-1.jpg
ORGANIZER;CN="parApara Digital GmbH":MAILTO:lena@lallaundvilas.de
END:VEVENT
BEGIN:VEVENT
DTSTART;TZID=Europe/Berlin:20260512T211500
DTEND;TZID=Europe/Berlin:20260512T213000
DTSTAMP:20260419T170350
CREATED:20250730T115751Z
LAST-MODIFIED:20260202T133358Z
UID:10019418-1778620500-1778621400@staging.hauslebenskraft.de
SUMMARY:intern
DESCRIPTION:Nachbereitung Yoga
URL:https://staging.hauslebenskraft.de/veranstaltung/nachbereitung-yoga/2026-05-12/
LOCATION:Haus Lebenskraft\, Gutenbergstr. 30\, Potsdam\, Brandenburg\, 14467\, Germany
CATEGORIES:Intern, Sonnenraum
ORGANIZER;CN="parApara Digital GmbH":MAILTO:lena@lallaundvilas.de
END:VEVENT
BEGIN:VEVENT
DTSTART;TZID=Europe/Berlin:20260514T100000
DTEND;TZID=Europe/Berlin:20260514T170000
DTSTAMP:20260419T170350
CREATED:20251022T122805Z
LAST-MODIFIED:20260321T141805Z
UID:10025528-1778752800-1778778000@staging.hauslebenskraft.de
SUMMARY:Vertiefungsausbildung "Yoga für Einsteiger*innen und Beginner*innen" mit Lalla
DESCRIPTION:Link zur Veranstaltung: https://www.lallaundvilas.de/event/yoga-fuer-einsteigerinnen-und-beginnerinnen-300h-wahlmodul/
URL:https://staging.hauslebenskraft.de/veranstaltung/vertiefungsausbildung-yoga-fuer-einsteigerinnen-und-beginnerinnen-mit-lalla/2026-05-14/
LOCATION:Haus Lebenskraft\, Gutenbergstr. 30\, Potsdam\, Brandenburg\, 14467\, Germany
CATEGORIES:Öffentlich, Sonnenraum
ORGANIZER;CN="parApara Digital GmbH":MAILTO:lena@lallaundvilas.de
END:VEVENT
BEGIN:VEVENT
DTSTART;TZID=Europe/Berlin:20260515T090000
DTEND;TZID=Europe/Berlin:20260515T170000
DTSTAMP:20260419T170350
CREATED:20251022T122805Z
LAST-MODIFIED:20260321T141805Z
UID:10025529-1778835600-1778864400@staging.hauslebenskraft.de
SUMMARY:Vertiefungsausbildung "Yoga für Einsteiger*innen und Beginner*innen" mit Lalla
DESCRIPTION:Link zur Veranstaltung: https://www.lallaundvilas.de/event/yoga-fuer-einsteigerinnen-und-beginnerinnen-300h-wahlmodul/
URL:https://staging.hauslebenskraft.de/veranstaltung/vertiefungsausbildung-yoga-fuer-einsteigerinnen-und-beginnerinnen-mit-lalla/2026-05-15/
LOCATION:Haus Lebenskraft\, Gutenbergstr. 30\, Potsdam\, Brandenburg\, 14467\, Germany
CATEGORIES:Öffentlich, Sonnenraum
ORGANIZER;CN="parApara Digital GmbH":MAILTO:lena@lallaundvilas.de
END:VEVENT
BEGIN:VEVENT
DTSTART;TZID=Europe/Berlin:20260516T090000
DTEND;TZID=Europe/Berlin:20260516T170000
DTSTAMP:20260419T170350
CREATED:20251022T122805Z
LAST-MODIFIED:20260321T141805Z
UID:10025530-1778922000-1778950800@staging.hauslebenskraft.de
SUMMARY:Vertiefungsausbildung "Yoga für Einsteiger*innen und Beginner*innen" mit Lalla
DESCRIPTION:Link zur Veranstaltung: https://www.lallaundvilas.de/event/yoga-fuer-einsteigerinnen-und-beginnerinnen-300h-wahlmodul/
URL:https://staging.hauslebenskraft.de/veranstaltung/vertiefungsausbildung-yoga-fuer-einsteigerinnen-und-beginnerinnen-mit-lalla/2026-05-16/
LOCATION:Haus Lebenskraft\, Gutenbergstr. 30\, Potsdam\, Brandenburg\, 14467\, Germany
CATEGORIES:Öffentlich, Sonnenraum
ORGANIZER;CN="parApara Digital GmbH":MAILTO:lena@lallaundvilas.de
END:VEVENT
BEGIN:VEVENT
DTSTART;TZID=Europe/Berlin:20260517T090000
DTEND;TZID=Europe/Berlin:20260517T140000
DTSTAMP:20260419T170350
CREATED:20251022T122805Z
LAST-MODIFIED:20260321T141805Z
UID:10025531-1779008400-1779026400@staging.hauslebenskraft.de
SUMMARY:Vertiefungsausbildung "Yoga für Einsteiger*innen und Beginner*innen" mit Lalla
DESCRIPTION:Link zur Veranstaltung: https://www.lallaundvilas.de/event/yoga-fuer-einsteigerinnen-und-beginnerinnen-300h-wahlmodul/
URL:https://staging.hauslebenskraft.de/veranstaltung/vertiefungsausbildung-yoga-fuer-einsteigerinnen-und-beginnerinnen-mit-lalla/2026-05-17/
LOCATION:Haus Lebenskraft\, Gutenbergstr. 30\, Potsdam\, Brandenburg\, 14467\, Germany
CATEGORIES:Öffentlich, Sonnenraum
ORGANIZER;CN="parApara Digital GmbH":MAILTO:lena@lallaundvilas.de
END:VEVENT
BEGIN:VEVENT
DTSTART;TZID=Europe/Berlin:20260519T190000
DTEND;TZID=Europe/Berlin:20260519T191500
DTSTAMP:20260419T170350
CREATED:20250730T115557Z
LAST-MODIFIED:20260202T132526Z
UID:10019366-1779217200-1779218100@staging.hauslebenskraft.de
SUMMARY:intern
DESCRIPTION:Vorbereitung Yoga
URL:https://staging.hauslebenskraft.de/veranstaltung/vorbereitung-yoga/2026-05-19/
LOCATION:Haus Lebenskraft\, Gutenbergstr. 30\, Potsdam\, Brandenburg\, 14467\, Germany
CATEGORIES:Intern, Sonnenraum
ORGANIZER;CN="parApara Digital GmbH":MAILTO:lena@lallaundvilas.de
END:VEVENT
BEGIN:VEVENT
DTSTART;TZID=Europe/Berlin:20260519T193000
DTEND;TZID=Europe/Berlin:20260519T210000
DTSTAMP:20260419T170350
CREATED:20250630T145643Z
LAST-MODIFIED:20260202T133332Z
UID:10019314-1779219000-1779224400@staging.hauslebenskraft.de
SUMMARY:Yogaklasse für jede/n
DESCRIPTION:In unserer wöchentlichen Yogaklasse erwartet dich eine kraftvolle und zugleich achtsame Praxis\, die auch in unsicheren Zeiten Klarheit\, Leichtigkeit und Verbindung schafft. Durch präzise\, biomechanisch fundierte Ausrichtung wird dein Körper gestärkt\, deine Beweglichkeit gefördert und dein Bewusstsein für dich selbst vertieft – ganz unabhängig von Alter\, Erfahrung oder körperlicher Verfassung. Die lebensbejahende Philosophie des Anusara® Yoga inspiriert uns dabei\, mit der richtigen Einstellung\, Ausrichtung und Aktion dem Leben bewusst zu begegnen.\nDas Lehrer*innen Team: Lalla und Vilas – Wegbereiter des Anusara Yoga im deutschsprachigen Raum – teilen ihre über 20-jährige Erfahrung mit großer Hingabe. Lena und Nora bringen als von Lalla und Vilas ausgebildete Lehrerinnen Herz\, Klarheit und Freude in die gemeinsame Praxis.\n\nhttps://www.lallaundvilas.de/ausbildungs-und-lehrgangstermine/\n***\nUnd hier die Links für die Abendklassen auf unserer Website:\n\nAnmeldung zur Abendklasse dienstags um 19:30 Uhr
URL:https://staging.hauslebenskraft.de/veranstaltung/yoga-lalla-vilas-akademie/2026-05-19/
LOCATION:Haus Lebenskraft\, Gutenbergstr. 30\, Potsdam\, Brandenburg\, 14467\, Germany
CATEGORIES:Öffentlich, Sonnenraum
ATTACH;FMTTYPE=image/jpeg:https://staging.hauslebenskraft.de/wp-content/uploads/2026/02/Lalla-Vilas-Lena-Nora-1.jpg
ORGANIZER;CN="parApara Digital GmbH":MAILTO:lena@lallaundvilas.de
END:VEVENT
BEGIN:VEVENT
DTSTART;TZID=Europe/Berlin:20260519T211500
DTEND;TZID=Europe/Berlin:20260519T213000
DTSTAMP:20260419T170350
CREATED:20250730T115751Z
LAST-MODIFIED:20260202T133358Z
UID:10019419-1779225300-1779226200@staging.hauslebenskraft.de
SUMMARY:intern
DESCRIPTION:Nachbereitung Yoga
URL:https://staging.hauslebenskraft.de/veranstaltung/nachbereitung-yoga/2026-05-19/
LOCATION:Haus Lebenskraft\, Gutenbergstr. 30\, Potsdam\, Brandenburg\, 14467\, Germany
CATEGORIES:Intern, Sonnenraum
ORGANIZER;CN="parApara Digital GmbH":MAILTO:lena@lallaundvilas.de
END:VEVENT
BEGIN:VEVENT
DTSTART;TZID=Europe/Berlin:20260526T190000
DTEND;TZID=Europe/Berlin:20260526T191500
DTSTAMP:20260419T170350
CREATED:20250730T115557Z
LAST-MODIFIED:20260202T132526Z
UID:10019367-1779822000-1779822900@staging.hauslebenskraft.de
SUMMARY:intern
DESCRIPTION:Vorbereitung Yoga
URL:https://staging.hauslebenskraft.de/veranstaltung/vorbereitung-yoga/2026-05-26/
LOCATION:Haus Lebenskraft\, Gutenbergstr. 30\, Potsdam\, Brandenburg\, 14467\, Germany
CATEGORIES:Intern, Sonnenraum
ORGANIZER;CN="parApara Digital GmbH":MAILTO:lena@lallaundvilas.de
END:VEVENT
BEGIN:VEVENT
DTSTART;TZID=Europe/Berlin:20260526T193000
DTEND;TZID=Europe/Berlin:20260526T210000
DTSTAMP:20260419T170350
CREATED:20250630T145643Z
LAST-MODIFIED:20260202T133332Z
UID:10019315-1779823800-1779829200@staging.hauslebenskraft.de
SUMMARY:Yogaklasse für jede/n
DESCRIPTION:In unserer wöchentlichen Yogaklasse erwartet dich eine kraftvolle und zugleich achtsame Praxis\, die auch in unsicheren Zeiten Klarheit\, Leichtigkeit und Verbindung schafft. Durch präzise\, biomechanisch fundierte Ausrichtung wird dein Körper gestärkt\, deine Beweglichkeit gefördert und dein Bewusstsein für dich selbst vertieft – ganz unabhängig von Alter\, Erfahrung oder körperlicher Verfassung. Die lebensbejahende Philosophie des Anusara® Yoga inspiriert uns dabei\, mit der richtigen Einstellung\, Ausrichtung und Aktion dem Leben bewusst zu begegnen.\nDas Lehrer*innen Team: Lalla und Vilas – Wegbereiter des Anusara Yoga im deutschsprachigen Raum – teilen ihre über 20-jährige Erfahrung mit großer Hingabe. Lena und Nora bringen als von Lalla und Vilas ausgebildete Lehrerinnen Herz\, Klarheit und Freude in die gemeinsame Praxis.\n\nhttps://www.lallaundvilas.de/ausbildungs-und-lehrgangstermine/\n***\nUnd hier die Links für die Abendklassen auf unserer Website:\n\nAnmeldung zur Abendklasse dienstags um 19:30 Uhr
URL:https://staging.hauslebenskraft.de/veranstaltung/yoga-lalla-vilas-akademie/2026-05-26/
LOCATION:Haus Lebenskraft\, Gutenbergstr. 30\, Potsdam\, Brandenburg\, 14467\, Germany
CATEGORIES:Öffentlich, Sonnenraum
ATTACH;FMTTYPE=image/jpeg:https://staging.hauslebenskraft.de/wp-content/uploads/2026/02/Lalla-Vilas-Lena-Nora-1.jpg
ORGANIZER;CN="parApara Digital GmbH":MAILTO:lena@lallaundvilas.de
END:VEVENT
BEGIN:VEVENT
DTSTART;TZID=Europe/Berlin:20260526T211500
DTEND;TZID=Europe/Berlin:20260526T213000
DTSTAMP:20260419T170351
CREATED:20250730T115751Z
LAST-MODIFIED:20260202T133358Z
UID:10019420-1779830100-1779831000@staging.hauslebenskraft.de
SUMMARY:intern
DESCRIPTION:Nachbereitung Yoga
URL:https://staging.hauslebenskraft.de/veranstaltung/nachbereitung-yoga/2026-05-26/
LOCATION:Haus Lebenskraft\, Gutenbergstr. 30\, Potsdam\, Brandenburg\, 14467\, Germany
CATEGORIES:Intern, Sonnenraum
ORGANIZER;CN="parApara Digital GmbH":MAILTO:lena@lallaundvilas.de
END:VEVENT
BEGIN:VEVENT
DTSTART;TZID=Europe/Berlin:20260602T190000
DTEND;TZID=Europe/Berlin:20260602T191500
DTSTAMP:20260419T170351
CREATED:20250730T115557Z
LAST-MODIFIED:20260202T132526Z
UID:10019368-1780426800-1780427700@staging.hauslebenskraft.de
SUMMARY:intern
DESCRIPTION:Vorbereitung Yoga
URL:https://staging.hauslebenskraft.de/veranstaltung/vorbereitung-yoga/2026-06-02/
LOCATION:Haus Lebenskraft\, Gutenbergstr. 30\, Potsdam\, Brandenburg\, 14467\, Germany
CATEGORIES:Intern, Sonnenraum
ORGANIZER;CN="parApara Digital GmbH":MAILTO:lena@lallaundvilas.de
END:VEVENT
BEGIN:VEVENT
DTSTART;TZID=Europe/Berlin:20260602T193000
DTEND;TZID=Europe/Berlin:20260602T210000
DTSTAMP:20260419T170351
CREATED:20250630T145643Z
LAST-MODIFIED:20260202T133332Z
UID:10019316-1780428600-1780434000@staging.hauslebenskraft.de
SUMMARY:Yogaklasse für jede/n
DESCRIPTION:In unserer wöchentlichen Yogaklasse erwartet dich eine kraftvolle und zugleich achtsame Praxis\, die auch in unsicheren Zeiten Klarheit\, Leichtigkeit und Verbindung schafft. Durch präzise\, biomechanisch fundierte Ausrichtung wird dein Körper gestärkt\, deine Beweglichkeit gefördert und dein Bewusstsein für dich selbst vertieft – ganz unabhängig von Alter\, Erfahrung oder körperlicher Verfassung. Die lebensbejahende Philosophie des Anusara® Yoga inspiriert uns dabei\, mit der richtigen Einstellung\, Ausrichtung und Aktion dem Leben bewusst zu begegnen.\nDas Lehrer*innen Team: Lalla und Vilas – Wegbereiter des Anusara Yoga im deutschsprachigen Raum – teilen ihre über 20-jährige Erfahrung mit großer Hingabe. Lena und Nora bringen als von Lalla und Vilas ausgebildete Lehrerinnen Herz\, Klarheit und Freude in die gemeinsame Praxis.\n\nhttps://www.lallaundvilas.de/ausbildungs-und-lehrgangstermine/\n***\nUnd hier die Links für die Abendklassen auf unserer Website:\n\nAnmeldung zur Abendklasse dienstags um 19:30 Uhr
URL:https://staging.hauslebenskraft.de/veranstaltung/yoga-lalla-vilas-akademie/2026-06-02/
LOCATION:Haus Lebenskraft\, Gutenbergstr. 30\, Potsdam\, Brandenburg\, 14467\, Germany
CATEGORIES:Öffentlich, Sonnenraum
ATTACH;FMTTYPE=image/jpeg:https://staging.hauslebenskraft.de/wp-content/uploads/2026/02/Lalla-Vilas-Lena-Nora-1.jpg
ORGANIZER;CN="parApara Digital GmbH":MAILTO:lena@lallaundvilas.de
END:VEVENT
END:VCALENDAR