BEGIN:VCALENDAR
VERSION:2.0
PRODID:-//Haus Lebenskraft - ECPv6.15.20//NONSGML v1.0//EN
CALSCALE:GREGORIAN
METHOD:PUBLISH
X-ORIGINAL-URL:https://staging.hauslebenskraft.de
X-WR-CALDESC:Veranstaltungen für Haus Lebenskraft
REFRESH-INTERVAL;VALUE=DURATION:PT1H
X-Robots-Tag:noindex
X-PUBLISHED-TTL:PT1H
BEGIN:VTIMEZONE
TZID:Europe/Berlin
BEGIN:DAYLIGHT
TZOFFSETFROM:+0100
TZOFFSETTO:+0200
TZNAME:CEST
DTSTART:20250330T010000
END:DAYLIGHT
BEGIN:STANDARD
TZOFFSETFROM:+0200
TZOFFSETTO:+0100
TZNAME:CET
DTSTART:20251026T010000
END:STANDARD
BEGIN:DAYLIGHT
TZOFFSETFROM:+0100
TZOFFSETTO:+0200
TZNAME:CEST
DTSTART:20260329T010000
END:DAYLIGHT
BEGIN:STANDARD
TZOFFSETFROM:+0200
TZOFFSETTO:+0100
TZNAME:CET
DTSTART:20261025T010000
END:STANDARD
BEGIN:DAYLIGHT
TZOFFSETFROM:+0100
TZOFFSETTO:+0200
TZNAME:CEST
DTSTART:20270328T010000
END:DAYLIGHT
BEGIN:STANDARD
TZOFFSETFROM:+0200
TZOFFSETTO:+0100
TZNAME:CET
DTSTART:20271031T010000
END:STANDARD
END:VTIMEZONE
BEGIN:VEVENT
DTSTART;TZID=Europe/Berlin:20260414T211500
DTEND;TZID=Europe/Berlin:20260414T213000
DTSTAMP:20260419T184748
CREATED:20250730T115751Z
LAST-MODIFIED:20260202T133358Z
UID:10019414-1776201300-1776202200@staging.hauslebenskraft.de
SUMMARY:intern
DESCRIPTION:Nachbereitung Yoga
URL:https://staging.hauslebenskraft.de/veranstaltung/nachbereitung-yoga/2026-04-14/
LOCATION:Haus Lebenskraft\, Gutenbergstr. 30\, Potsdam\, Brandenburg\, 14467\, Germany
CATEGORIES:Intern, Sonnenraum
ORGANIZER;CN="parApara Digital GmbH":MAILTO:lena@lallaundvilas.de
END:VEVENT
BEGIN:VEVENT
DTSTART;TZID=Europe/Berlin:20260414T193000
DTEND;TZID=Europe/Berlin:20260414T210000
DTSTAMP:20260419T184748
CREATED:20250630T145643Z
LAST-MODIFIED:20260202T133332Z
UID:10019309-1776195000-1776200400@staging.hauslebenskraft.de
SUMMARY:Yogaklasse für jede/n
DESCRIPTION:In unserer wöchentlichen Yogaklasse erwartet dich eine kraftvolle und zugleich achtsame Praxis\, die auch in unsicheren Zeiten Klarheit\, Leichtigkeit und Verbindung schafft. Durch präzise\, biomechanisch fundierte Ausrichtung wird dein Körper gestärkt\, deine Beweglichkeit gefördert und dein Bewusstsein für dich selbst vertieft – ganz unabhängig von Alter\, Erfahrung oder körperlicher Verfassung. Die lebensbejahende Philosophie des Anusara® Yoga inspiriert uns dabei\, mit der richtigen Einstellung\, Ausrichtung und Aktion dem Leben bewusst zu begegnen.\nDas Lehrer*innen Team: Lalla und Vilas – Wegbereiter des Anusara Yoga im deutschsprachigen Raum – teilen ihre über 20-jährige Erfahrung mit großer Hingabe. Lena und Nora bringen als von Lalla und Vilas ausgebildete Lehrerinnen Herz\, Klarheit und Freude in die gemeinsame Praxis.\n\nhttps://www.lallaundvilas.de/ausbildungs-und-lehrgangstermine/\n***\nUnd hier die Links für die Abendklassen auf unserer Website:\n\nAnmeldung zur Abendklasse dienstags um 19:30 Uhr
URL:https://staging.hauslebenskraft.de/veranstaltung/yoga-lalla-vilas-akademie/2026-04-14/
LOCATION:Haus Lebenskraft\, Gutenbergstr. 30\, Potsdam\, Brandenburg\, 14467\, Germany
CATEGORIES:Öffentlich, Sonnenraum
ATTACH;FMTTYPE=image/jpeg:https://staging.hauslebenskraft.de/wp-content/uploads/2026/02/Lalla-Vilas-Lena-Nora-1.jpg
ORGANIZER;CN="parApara Digital GmbH":MAILTO:lena@lallaundvilas.de
END:VEVENT
BEGIN:VEVENT
DTSTART;TZID=Europe/Berlin:20260414T190000
DTEND;TZID=Europe/Berlin:20260414T191500
DTSTAMP:20260419T184748
CREATED:20250730T115557Z
LAST-MODIFIED:20260202T132526Z
UID:10019361-1776193200-1776194100@staging.hauslebenskraft.de
SUMMARY:intern
DESCRIPTION:Vorbereitung Yoga
URL:https://staging.hauslebenskraft.de/veranstaltung/vorbereitung-yoga/2026-04-14/
LOCATION:Haus Lebenskraft\, Gutenbergstr. 30\, Potsdam\, Brandenburg\, 14467\, Germany
CATEGORIES:Intern, Sonnenraum
ORGANIZER;CN="parApara Digital GmbH":MAILTO:lena@lallaundvilas.de
END:VEVENT
BEGIN:VEVENT
DTSTART;TZID=Europe/Berlin:20260407T211500
DTEND;TZID=Europe/Berlin:20260407T213000
DTSTAMP:20260419T184748
CREATED:20250730T115751Z
LAST-MODIFIED:20260202T133358Z
UID:10019413-1775596500-1775597400@staging.hauslebenskraft.de
SUMMARY:intern
DESCRIPTION:Nachbereitung Yoga
URL:https://staging.hauslebenskraft.de/veranstaltung/nachbereitung-yoga/2026-04-07/
LOCATION:Haus Lebenskraft\, Gutenbergstr. 30\, Potsdam\, Brandenburg\, 14467\, Germany
CATEGORIES:Intern, Sonnenraum
ORGANIZER;CN="parApara Digital GmbH":MAILTO:lena@lallaundvilas.de
END:VEVENT
BEGIN:VEVENT
DTSTART;TZID=Europe/Berlin:20260407T193000
DTEND;TZID=Europe/Berlin:20260407T210000
DTSTAMP:20260419T184748
CREATED:20250630T145643Z
LAST-MODIFIED:20260202T133332Z
UID:10019308-1775590200-1775595600@staging.hauslebenskraft.de
SUMMARY:Yogaklasse für jede/n
DESCRIPTION:In unserer wöchentlichen Yogaklasse erwartet dich eine kraftvolle und zugleich achtsame Praxis\, die auch in unsicheren Zeiten Klarheit\, Leichtigkeit und Verbindung schafft. Durch präzise\, biomechanisch fundierte Ausrichtung wird dein Körper gestärkt\, deine Beweglichkeit gefördert und dein Bewusstsein für dich selbst vertieft – ganz unabhängig von Alter\, Erfahrung oder körperlicher Verfassung. Die lebensbejahende Philosophie des Anusara® Yoga inspiriert uns dabei\, mit der richtigen Einstellung\, Ausrichtung und Aktion dem Leben bewusst zu begegnen.\nDas Lehrer*innen Team: Lalla und Vilas – Wegbereiter des Anusara Yoga im deutschsprachigen Raum – teilen ihre über 20-jährige Erfahrung mit großer Hingabe. Lena und Nora bringen als von Lalla und Vilas ausgebildete Lehrerinnen Herz\, Klarheit und Freude in die gemeinsame Praxis.\n\nhttps://www.lallaundvilas.de/ausbildungs-und-lehrgangstermine/\n***\nUnd hier die Links für die Abendklassen auf unserer Website:\n\nAnmeldung zur Abendklasse dienstags um 19:30 Uhr
URL:https://staging.hauslebenskraft.de/veranstaltung/yoga-lalla-vilas-akademie/2026-04-07/
LOCATION:Haus Lebenskraft\, Gutenbergstr. 30\, Potsdam\, Brandenburg\, 14467\, Germany
CATEGORIES:Öffentlich, Sonnenraum
ATTACH;FMTTYPE=image/jpeg:https://staging.hauslebenskraft.de/wp-content/uploads/2026/02/Lalla-Vilas-Lena-Nora-1.jpg
ORGANIZER;CN="parApara Digital GmbH":MAILTO:lena@lallaundvilas.de
END:VEVENT
BEGIN:VEVENT
DTSTART;TZID=Europe/Berlin:20260407T190000
DTEND;TZID=Europe/Berlin:20260407T191500
DTSTAMP:20260419T184749
CREATED:20250730T115557Z
LAST-MODIFIED:20260202T132526Z
UID:10019360-1775588400-1775589300@staging.hauslebenskraft.de
SUMMARY:intern
DESCRIPTION:Vorbereitung Yoga
URL:https://staging.hauslebenskraft.de/veranstaltung/vorbereitung-yoga/2026-04-07/
LOCATION:Haus Lebenskraft\, Gutenbergstr. 30\, Potsdam\, Brandenburg\, 14467\, Germany
CATEGORIES:Intern, Sonnenraum
ORGANIZER;CN="parApara Digital GmbH":MAILTO:lena@lallaundvilas.de
END:VEVENT
BEGIN:VEVENT
DTSTART;TZID=Europe/Berlin:20260331T211500
DTEND;TZID=Europe/Berlin:20260331T213000
DTSTAMP:20260419T184749
CREATED:20250730T115751Z
LAST-MODIFIED:20260202T133358Z
UID:10019412-1774991700-1774992600@staging.hauslebenskraft.de
SUMMARY:intern
DESCRIPTION:Nachbereitung Yoga
URL:https://staging.hauslebenskraft.de/veranstaltung/nachbereitung-yoga/2026-03-31/
LOCATION:Haus Lebenskraft\, Gutenbergstr. 30\, Potsdam\, Brandenburg\, 14467\, Germany
CATEGORIES:Intern, Sonnenraum
ORGANIZER;CN="parApara Digital GmbH":MAILTO:lena@lallaundvilas.de
END:VEVENT
BEGIN:VEVENT
DTSTART;TZID=Europe/Berlin:20260331T193000
DTEND;TZID=Europe/Berlin:20260331T210000
DTSTAMP:20260419T184749
CREATED:20250630T145643Z
LAST-MODIFIED:20260202T133332Z
UID:10019307-1774985400-1774990800@staging.hauslebenskraft.de
SUMMARY:Yogaklasse für jede/n
DESCRIPTION:In unserer wöchentlichen Yogaklasse erwartet dich eine kraftvolle und zugleich achtsame Praxis\, die auch in unsicheren Zeiten Klarheit\, Leichtigkeit und Verbindung schafft. Durch präzise\, biomechanisch fundierte Ausrichtung wird dein Körper gestärkt\, deine Beweglichkeit gefördert und dein Bewusstsein für dich selbst vertieft – ganz unabhängig von Alter\, Erfahrung oder körperlicher Verfassung. Die lebensbejahende Philosophie des Anusara® Yoga inspiriert uns dabei\, mit der richtigen Einstellung\, Ausrichtung und Aktion dem Leben bewusst zu begegnen.\nDas Lehrer*innen Team: Lalla und Vilas – Wegbereiter des Anusara Yoga im deutschsprachigen Raum – teilen ihre über 20-jährige Erfahrung mit großer Hingabe. Lena und Nora bringen als von Lalla und Vilas ausgebildete Lehrerinnen Herz\, Klarheit und Freude in die gemeinsame Praxis.\n\nhttps://www.lallaundvilas.de/ausbildungs-und-lehrgangstermine/\n***\nUnd hier die Links für die Abendklassen auf unserer Website:\n\nAnmeldung zur Abendklasse dienstags um 19:30 Uhr
URL:https://staging.hauslebenskraft.de/veranstaltung/yoga-lalla-vilas-akademie/2026-03-31/
LOCATION:Haus Lebenskraft\, Gutenbergstr. 30\, Potsdam\, Brandenburg\, 14467\, Germany
CATEGORIES:Öffentlich, Sonnenraum
ATTACH;FMTTYPE=image/jpeg:https://staging.hauslebenskraft.de/wp-content/uploads/2026/02/Lalla-Vilas-Lena-Nora-1.jpg
ORGANIZER;CN="parApara Digital GmbH":MAILTO:lena@lallaundvilas.de
END:VEVENT
BEGIN:VEVENT
DTSTART;TZID=Europe/Berlin:20260331T190000
DTEND;TZID=Europe/Berlin:20260331T191500
DTSTAMP:20260419T184749
CREATED:20250730T115557Z
LAST-MODIFIED:20260202T132526Z
UID:10019359-1774983600-1774984500@staging.hauslebenskraft.de
SUMMARY:intern
DESCRIPTION:Vorbereitung Yoga
URL:https://staging.hauslebenskraft.de/veranstaltung/vorbereitung-yoga/2026-03-31/
LOCATION:Haus Lebenskraft\, Gutenbergstr. 30\, Potsdam\, Brandenburg\, 14467\, Germany
CATEGORIES:Intern, Sonnenraum
ORGANIZER;CN="parApara Digital GmbH":MAILTO:lena@lallaundvilas.de
END:VEVENT
BEGIN:VEVENT
DTSTART;TZID=Europe/Berlin:20260329T090000
DTEND;TZID=Europe/Berlin:20260329T150000
DTSTAMP:20260419T184749
CREATED:20260321T140007Z
LAST-MODIFIED:20260321T140128Z
UID:10023851-1774774800-1774796400@staging.hauslebenskraft.de
SUMMARY:Vertiefungsausbildung "Sinnvolle Sequenzen" mit Lalla
DESCRIPTION:https://www.lallaundvilas.de/event/sinnvolle-sequenzen-2/
URL:https://staging.hauslebenskraft.de/veranstaltung/vertiefungsausbildung-sinnvolle-sequenzen-mit-lalla/
LOCATION:Haus Lebenskraft\, Gutenbergstr. 30\, Potsdam\, Brandenburg\, 14467\, Germany
CATEGORIES:Öffentlich, Sonnenraum
ORGANIZER;CN="parApara Digital GmbH":MAILTO:lena@lallaundvilas.de
END:VEVENT
BEGIN:VEVENT
DTSTART;TZID=Europe/Berlin:20260328T090000
DTEND;TZID=Europe/Berlin:20260328T170000
DTSTAMP:20260419T184749
CREATED:20260321T135847Z
LAST-MODIFIED:20260321T140708Z
UID:10023850-1774688400-1774717200@staging.hauslebenskraft.de
SUMMARY:Vertiefungsausbildung "Sinnvolle Sequenzen" mit Lalla
DESCRIPTION:https://www.lallaundvilas.de/event/sinnvolle-sequenzen-2/
URL:https://staging.hauslebenskraft.de/veranstaltung/vertiefungsausbildung-sinnvolle-sequenzen-mit-lalla-2/
LOCATION:Haus Lebenskraft\, Gutenbergstr. 30\, Potsdam\, Brandenburg\, 14467\, Germany
CATEGORIES:Öffentlich, Sonnenraum
ORGANIZER;CN="parApara Digital GmbH":MAILTO:lena@lallaundvilas.de
END:VEVENT
BEGIN:VEVENT
DTSTART;TZID=Europe/Berlin:20260324T211500
DTEND;TZID=Europe/Berlin:20260324T213000
DTSTAMP:20260419T184749
CREATED:20250730T115751Z
LAST-MODIFIED:20260202T133358Z
UID:10019411-1774386900-1774387800@staging.hauslebenskraft.de
SUMMARY:intern
DESCRIPTION:Nachbereitung Yoga
URL:https://staging.hauslebenskraft.de/veranstaltung/nachbereitung-yoga/2026-03-24/
LOCATION:Haus Lebenskraft\, Gutenbergstr. 30\, Potsdam\, Brandenburg\, 14467\, Germany
CATEGORIES:Intern, Sonnenraum
ORGANIZER;CN="parApara Digital GmbH":MAILTO:lena@lallaundvilas.de
END:VEVENT
BEGIN:VEVENT
DTSTART;TZID=Europe/Berlin:20260324T193000
DTEND;TZID=Europe/Berlin:20260324T210000
DTSTAMP:20260419T184749
CREATED:20250630T145643Z
LAST-MODIFIED:20260202T133332Z
UID:10019306-1774380600-1774386000@staging.hauslebenskraft.de
SUMMARY:Yogaklasse für jede/n
DESCRIPTION:In unserer wöchentlichen Yogaklasse erwartet dich eine kraftvolle und zugleich achtsame Praxis\, die auch in unsicheren Zeiten Klarheit\, Leichtigkeit und Verbindung schafft. Durch präzise\, biomechanisch fundierte Ausrichtung wird dein Körper gestärkt\, deine Beweglichkeit gefördert und dein Bewusstsein für dich selbst vertieft – ganz unabhängig von Alter\, Erfahrung oder körperlicher Verfassung. Die lebensbejahende Philosophie des Anusara® Yoga inspiriert uns dabei\, mit der richtigen Einstellung\, Ausrichtung und Aktion dem Leben bewusst zu begegnen.\nDas Lehrer*innen Team: Lalla und Vilas – Wegbereiter des Anusara Yoga im deutschsprachigen Raum – teilen ihre über 20-jährige Erfahrung mit großer Hingabe. Lena und Nora bringen als von Lalla und Vilas ausgebildete Lehrerinnen Herz\, Klarheit und Freude in die gemeinsame Praxis.\n\nhttps://www.lallaundvilas.de/ausbildungs-und-lehrgangstermine/\n***\nUnd hier die Links für die Abendklassen auf unserer Website:\n\nAnmeldung zur Abendklasse dienstags um 19:30 Uhr
URL:https://staging.hauslebenskraft.de/veranstaltung/yoga-lalla-vilas-akademie/2026-03-24/
LOCATION:Haus Lebenskraft\, Gutenbergstr. 30\, Potsdam\, Brandenburg\, 14467\, Germany
CATEGORIES:Öffentlich, Sonnenraum
ATTACH;FMTTYPE=image/jpeg:https://staging.hauslebenskraft.de/wp-content/uploads/2026/02/Lalla-Vilas-Lena-Nora-1.jpg
ORGANIZER;CN="parApara Digital GmbH":MAILTO:lena@lallaundvilas.de
END:VEVENT
BEGIN:VEVENT
DTSTART;TZID=Europe/Berlin:20260324T190000
DTEND;TZID=Europe/Berlin:20260324T191500
DTSTAMP:20260419T184749
CREATED:20250730T115557Z
LAST-MODIFIED:20260202T132526Z
UID:10019358-1774378800-1774379700@staging.hauslebenskraft.de
SUMMARY:intern
DESCRIPTION:Vorbereitung Yoga
URL:https://staging.hauslebenskraft.de/veranstaltung/vorbereitung-yoga/2026-03-24/
LOCATION:Haus Lebenskraft\, Gutenbergstr. 30\, Potsdam\, Brandenburg\, 14467\, Germany
CATEGORIES:Intern, Sonnenraum
ORGANIZER;CN="parApara Digital GmbH":MAILTO:lena@lallaundvilas.de
END:VEVENT
BEGIN:VEVENT
DTSTART;TZID=Europe/Berlin:20260317T211500
DTEND;TZID=Europe/Berlin:20260317T213000
DTSTAMP:20260419T184749
CREATED:20250730T115751Z
LAST-MODIFIED:20260202T133358Z
UID:10019410-1773782100-1773783000@staging.hauslebenskraft.de
SUMMARY:intern
DESCRIPTION:Nachbereitung Yoga
URL:https://staging.hauslebenskraft.de/veranstaltung/nachbereitung-yoga/2026-03-17/
LOCATION:Haus Lebenskraft\, Gutenbergstr. 30\, Potsdam\, Brandenburg\, 14467\, Germany
CATEGORIES:Intern, Sonnenraum
ORGANIZER;CN="parApara Digital GmbH":MAILTO:lena@lallaundvilas.de
END:VEVENT
BEGIN:VEVENT
DTSTART;TZID=Europe/Berlin:20260317T193000
DTEND;TZID=Europe/Berlin:20260317T210000
DTSTAMP:20260419T184749
CREATED:20250630T145643Z
LAST-MODIFIED:20260202T133332Z
UID:10019305-1773775800-1773781200@staging.hauslebenskraft.de
SUMMARY:Yogaklasse für jede/n
DESCRIPTION:In unserer wöchentlichen Yogaklasse erwartet dich eine kraftvolle und zugleich achtsame Praxis\, die auch in unsicheren Zeiten Klarheit\, Leichtigkeit und Verbindung schafft. Durch präzise\, biomechanisch fundierte Ausrichtung wird dein Körper gestärkt\, deine Beweglichkeit gefördert und dein Bewusstsein für dich selbst vertieft – ganz unabhängig von Alter\, Erfahrung oder körperlicher Verfassung. Die lebensbejahende Philosophie des Anusara® Yoga inspiriert uns dabei\, mit der richtigen Einstellung\, Ausrichtung und Aktion dem Leben bewusst zu begegnen.\nDas Lehrer*innen Team: Lalla und Vilas – Wegbereiter des Anusara Yoga im deutschsprachigen Raum – teilen ihre über 20-jährige Erfahrung mit großer Hingabe. Lena und Nora bringen als von Lalla und Vilas ausgebildete Lehrerinnen Herz\, Klarheit und Freude in die gemeinsame Praxis.\n\nhttps://www.lallaundvilas.de/ausbildungs-und-lehrgangstermine/\n***\nUnd hier die Links für die Abendklassen auf unserer Website:\n\nAnmeldung zur Abendklasse dienstags um 19:30 Uhr
URL:https://staging.hauslebenskraft.de/veranstaltung/yoga-lalla-vilas-akademie/2026-03-17/
LOCATION:Haus Lebenskraft\, Gutenbergstr. 30\, Potsdam\, Brandenburg\, 14467\, Germany
CATEGORIES:Öffentlich, Sonnenraum
ATTACH;FMTTYPE=image/jpeg:https://staging.hauslebenskraft.de/wp-content/uploads/2026/02/Lalla-Vilas-Lena-Nora-1.jpg
ORGANIZER;CN="parApara Digital GmbH":MAILTO:lena@lallaundvilas.de
END:VEVENT
BEGIN:VEVENT
DTSTART;TZID=Europe/Berlin:20260317T190000
DTEND;TZID=Europe/Berlin:20260317T191500
DTSTAMP:20260419T184749
CREATED:20250730T115557Z
LAST-MODIFIED:20260202T132526Z
UID:10019357-1773774000-1773774900@staging.hauslebenskraft.de
SUMMARY:intern
DESCRIPTION:Vorbereitung Yoga
URL:https://staging.hauslebenskraft.de/veranstaltung/vorbereitung-yoga/2026-03-17/
LOCATION:Haus Lebenskraft\, Gutenbergstr. 30\, Potsdam\, Brandenburg\, 14467\, Germany
CATEGORIES:Intern, Sonnenraum
ORGANIZER;CN="parApara Digital GmbH":MAILTO:lena@lallaundvilas.de
END:VEVENT
BEGIN:VEVENT
DTSTART;TZID=Europe/Berlin:20260315T083000
DTEND;TZID=Europe/Berlin:20260315T150000
DTSTAMP:20260419T184749
CREATED:20250812T121100Z
LAST-MODIFIED:20260205T152041Z
UID:10019552-1773563400-1773586800@staging.hauslebenskraft.de
SUMMARY:Vilas Turske
DESCRIPTION:
URL:https://staging.hauslebenskraft.de/veranstaltung/vilas-turske-5/2026-03-15/
LOCATION:Haus Lebenskraft\, Gutenbergstr. 30\, Potsdam\, Brandenburg\, 14467\, Germany
CATEGORIES:Intern, Sonnenraum
ORGANIZER;CN="parApara Digital GmbH":MAILTO:lena@lallaundvilas.de
END:VEVENT
BEGIN:VEVENT
DTSTART;TZID=Europe/Berlin:20260314T083000
DTEND;TZID=Europe/Berlin:20260314T170000
DTSTAMP:20260419T184749
CREATED:20250812T121100Z
LAST-MODIFIED:20260205T152041Z
UID:10019551-1773477000-1773507600@staging.hauslebenskraft.de
SUMMARY:Vilas Turske
DESCRIPTION:
URL:https://staging.hauslebenskraft.de/veranstaltung/vilas-turske-5/2026-03-14/
LOCATION:Haus Lebenskraft\, Gutenbergstr. 30\, Potsdam\, Brandenburg\, 14467\, Germany
CATEGORIES:Intern, Sonnenraum
ORGANIZER;CN="parApara Digital GmbH":MAILTO:lena@lallaundvilas.de
END:VEVENT
BEGIN:VEVENT
DTSTART;TZID=Europe/Berlin:20260313T143000
DTEND;TZID=Europe/Berlin:20260313T200000
DTSTAMP:20260419T184749
CREATED:20260313T085847Z
LAST-MODIFIED:20260313T085858Z
UID:10019550-1773412200-1773432000@staging.hauslebenskraft.de
SUMMARY:Vilas Turske
DESCRIPTION:
URL:https://staging.hauslebenskraft.de/veranstaltung/vilas-turske-5-2/
LOCATION:Haus Lebenskraft\, Gutenbergstr. 30\, Potsdam\, Brandenburg\, 14467\, Germany
CATEGORIES:Intern, Sonnenraum
ORGANIZER;CN="parApara Digital GmbH":MAILTO:lena@lallaundvilas.de
END:VEVENT
BEGIN:VEVENT
DTSTART;TZID=Europe/Berlin:20260310T211500
DTEND;TZID=Europe/Berlin:20260310T213000
DTSTAMP:20260419T184749
CREATED:20250730T115751Z
LAST-MODIFIED:20260202T133358Z
UID:10019409-1773177300-1773178200@staging.hauslebenskraft.de
SUMMARY:intern
DESCRIPTION:Nachbereitung Yoga
URL:https://staging.hauslebenskraft.de/veranstaltung/nachbereitung-yoga/2026-03-10/
LOCATION:Haus Lebenskraft\, Gutenbergstr. 30\, Potsdam\, Brandenburg\, 14467\, Germany
CATEGORIES:Intern, Sonnenraum
ORGANIZER;CN="parApara Digital GmbH":MAILTO:lena@lallaundvilas.de
END:VEVENT
BEGIN:VEVENT
DTSTART;TZID=Europe/Berlin:20260310T193000
DTEND;TZID=Europe/Berlin:20260310T210000
DTSTAMP:20260419T184749
CREATED:20250630T145643Z
LAST-MODIFIED:20260202T133332Z
UID:10019304-1773171000-1773176400@staging.hauslebenskraft.de
SUMMARY:Yogaklasse für jede/n
DESCRIPTION:In unserer wöchentlichen Yogaklasse erwartet dich eine kraftvolle und zugleich achtsame Praxis\, die auch in unsicheren Zeiten Klarheit\, Leichtigkeit und Verbindung schafft. Durch präzise\, biomechanisch fundierte Ausrichtung wird dein Körper gestärkt\, deine Beweglichkeit gefördert und dein Bewusstsein für dich selbst vertieft – ganz unabhängig von Alter\, Erfahrung oder körperlicher Verfassung. Die lebensbejahende Philosophie des Anusara® Yoga inspiriert uns dabei\, mit der richtigen Einstellung\, Ausrichtung und Aktion dem Leben bewusst zu begegnen.\nDas Lehrer*innen Team: Lalla und Vilas – Wegbereiter des Anusara Yoga im deutschsprachigen Raum – teilen ihre über 20-jährige Erfahrung mit großer Hingabe. Lena und Nora bringen als von Lalla und Vilas ausgebildete Lehrerinnen Herz\, Klarheit und Freude in die gemeinsame Praxis.\n\nhttps://www.lallaundvilas.de/ausbildungs-und-lehrgangstermine/\n***\nUnd hier die Links für die Abendklassen auf unserer Website:\n\nAnmeldung zur Abendklasse dienstags um 19:30 Uhr
URL:https://staging.hauslebenskraft.de/veranstaltung/yoga-lalla-vilas-akademie/2026-03-10/
LOCATION:Haus Lebenskraft\, Gutenbergstr. 30\, Potsdam\, Brandenburg\, 14467\, Germany
CATEGORIES:Öffentlich, Sonnenraum
ATTACH;FMTTYPE=image/jpeg:https://staging.hauslebenskraft.de/wp-content/uploads/2026/02/Lalla-Vilas-Lena-Nora-1.jpg
ORGANIZER;CN="parApara Digital GmbH":MAILTO:lena@lallaundvilas.de
END:VEVENT
BEGIN:VEVENT
DTSTART;TZID=Europe/Berlin:20260310T190000
DTEND;TZID=Europe/Berlin:20260310T191500
DTSTAMP:20260419T184749
CREATED:20250730T115557Z
LAST-MODIFIED:20260202T132526Z
UID:10019356-1773169200-1773170100@staging.hauslebenskraft.de
SUMMARY:intern
DESCRIPTION:Vorbereitung Yoga
URL:https://staging.hauslebenskraft.de/veranstaltung/vorbereitung-yoga/2026-03-10/
LOCATION:Haus Lebenskraft\, Gutenbergstr. 30\, Potsdam\, Brandenburg\, 14467\, Germany
CATEGORIES:Intern, Sonnenraum
ORGANIZER;CN="parApara Digital GmbH":MAILTO:lena@lallaundvilas.de
END:VEVENT
BEGIN:VEVENT
DTSTART;TZID=Europe/Berlin:20260303T211500
DTEND;TZID=Europe/Berlin:20260303T213000
DTSTAMP:20260419T184749
CREATED:20250730T115751Z
LAST-MODIFIED:20260202T133358Z
UID:10019408-1772572500-1772573400@staging.hauslebenskraft.de
SUMMARY:intern
DESCRIPTION:Nachbereitung Yoga
URL:https://staging.hauslebenskraft.de/veranstaltung/nachbereitung-yoga/2026-03-03/
LOCATION:Haus Lebenskraft\, Gutenbergstr. 30\, Potsdam\, Brandenburg\, 14467\, Germany
CATEGORIES:Intern, Sonnenraum
ORGANIZER;CN="parApara Digital GmbH":MAILTO:lena@lallaundvilas.de
END:VEVENT
BEGIN:VEVENT
DTSTART;TZID=Europe/Berlin:20260303T193000
DTEND;TZID=Europe/Berlin:20260303T210000
DTSTAMP:20260419T184749
CREATED:20250630T145643Z
LAST-MODIFIED:20260202T133332Z
UID:10019303-1772566200-1772571600@staging.hauslebenskraft.de
SUMMARY:Yogaklasse für jede/n
DESCRIPTION:In unserer wöchentlichen Yogaklasse erwartet dich eine kraftvolle und zugleich achtsame Praxis\, die auch in unsicheren Zeiten Klarheit\, Leichtigkeit und Verbindung schafft. Durch präzise\, biomechanisch fundierte Ausrichtung wird dein Körper gestärkt\, deine Beweglichkeit gefördert und dein Bewusstsein für dich selbst vertieft – ganz unabhängig von Alter\, Erfahrung oder körperlicher Verfassung. Die lebensbejahende Philosophie des Anusara® Yoga inspiriert uns dabei\, mit der richtigen Einstellung\, Ausrichtung und Aktion dem Leben bewusst zu begegnen.\nDas Lehrer*innen Team: Lalla und Vilas – Wegbereiter des Anusara Yoga im deutschsprachigen Raum – teilen ihre über 20-jährige Erfahrung mit großer Hingabe. Lena und Nora bringen als von Lalla und Vilas ausgebildete Lehrerinnen Herz\, Klarheit und Freude in die gemeinsame Praxis.\n\nhttps://www.lallaundvilas.de/ausbildungs-und-lehrgangstermine/\n***\nUnd hier die Links für die Abendklassen auf unserer Website:\n\nAnmeldung zur Abendklasse dienstags um 19:30 Uhr
URL:https://staging.hauslebenskraft.de/veranstaltung/yoga-lalla-vilas-akademie/2026-03-03/
LOCATION:Haus Lebenskraft\, Gutenbergstr. 30\, Potsdam\, Brandenburg\, 14467\, Germany
CATEGORIES:Öffentlich, Sonnenraum
ATTACH;FMTTYPE=image/jpeg:https://staging.hauslebenskraft.de/wp-content/uploads/2026/02/Lalla-Vilas-Lena-Nora-1.jpg
ORGANIZER;CN="parApara Digital GmbH":MAILTO:lena@lallaundvilas.de
END:VEVENT
BEGIN:VEVENT
DTSTART;TZID=Europe/Berlin:20260303T190000
DTEND;TZID=Europe/Berlin:20260303T191500
DTSTAMP:20260419T184749
CREATED:20260223T152821Z
LAST-MODIFIED:20260223T152849Z
UID:10019355-1772564400-1772565300@staging.hauslebenskraft.de
SUMMARY:intern
DESCRIPTION:Vorbereitung Yoga
URL:https://staging.hauslebenskraft.de/veranstaltung/intern-16/
LOCATION:Haus Lebenskraft\, Gutenbergstr. 30\, Potsdam\, Brandenburg\, 14467\, Germany
CATEGORIES:Intern, Sonnenraum
ORGANIZER;CN="parApara Digital GmbH":MAILTO:lena@lallaundvilas.de
END:VEVENT
BEGIN:VEVENT
DTSTART;TZID=Europe/Berlin:20260224T211500
DTEND;TZID=Europe/Berlin:20260224T213000
DTSTAMP:20260419T184749
CREATED:20250730T115751Z
LAST-MODIFIED:20260202T133358Z
UID:10019407-1771967700-1771968600@staging.hauslebenskraft.de
SUMMARY:intern
DESCRIPTION:Nachbereitung Yoga
URL:https://staging.hauslebenskraft.de/veranstaltung/nachbereitung-yoga/2026-02-24/
LOCATION:Haus Lebenskraft\, Gutenbergstr. 30\, Potsdam\, Brandenburg\, 14467\, Germany
CATEGORIES:Intern, Sonnenraum
ORGANIZER;CN="parApara Digital GmbH":MAILTO:lena@lallaundvilas.de
END:VEVENT
BEGIN:VEVENT
DTSTART;TZID=Europe/Berlin:20260224T193000
DTEND;TZID=Europe/Berlin:20260224T210000
DTSTAMP:20260419T184749
CREATED:20250630T145643Z
LAST-MODIFIED:20260202T133332Z
UID:10019302-1771961400-1771966800@staging.hauslebenskraft.de
SUMMARY:Yogaklasse für jede/n
DESCRIPTION:In unserer wöchentlichen Yogaklasse erwartet dich eine kraftvolle und zugleich achtsame Praxis\, die auch in unsicheren Zeiten Klarheit\, Leichtigkeit und Verbindung schafft. Durch präzise\, biomechanisch fundierte Ausrichtung wird dein Körper gestärkt\, deine Beweglichkeit gefördert und dein Bewusstsein für dich selbst vertieft – ganz unabhängig von Alter\, Erfahrung oder körperlicher Verfassung. Die lebensbejahende Philosophie des Anusara® Yoga inspiriert uns dabei\, mit der richtigen Einstellung\, Ausrichtung und Aktion dem Leben bewusst zu begegnen.\nDas Lehrer*innen Team: Lalla und Vilas – Wegbereiter des Anusara Yoga im deutschsprachigen Raum – teilen ihre über 20-jährige Erfahrung mit großer Hingabe. Lena und Nora bringen als von Lalla und Vilas ausgebildete Lehrerinnen Herz\, Klarheit und Freude in die gemeinsame Praxis.\n\nhttps://www.lallaundvilas.de/ausbildungs-und-lehrgangstermine/\n***\nUnd hier die Links für die Abendklassen auf unserer Website:\n\nAnmeldung zur Abendklasse dienstags um 19:30 Uhr
URL:https://staging.hauslebenskraft.de/veranstaltung/yoga-lalla-vilas-akademie/2026-02-24/
LOCATION:Haus Lebenskraft\, Gutenbergstr. 30\, Potsdam\, Brandenburg\, 14467\, Germany
CATEGORIES:Öffentlich, Sonnenraum
ATTACH;FMTTYPE=image/jpeg:https://staging.hauslebenskraft.de/wp-content/uploads/2026/02/Lalla-Vilas-Lena-Nora-1.jpg
ORGANIZER;CN="parApara Digital GmbH":MAILTO:lena@lallaundvilas.de
END:VEVENT
BEGIN:VEVENT
DTSTART;TZID=Europe/Berlin:20260224T190000
DTEND;TZID=Europe/Berlin:20260224T191500
DTSTAMP:20260419T184749
CREATED:20250730T115557Z
LAST-MODIFIED:20260202T132526Z
UID:10019354-1771959600-1771960500@staging.hauslebenskraft.de
SUMMARY:intern
DESCRIPTION:Vorbereitung Yoga
URL:https://staging.hauslebenskraft.de/veranstaltung/vorbereitung-yoga/2026-02-24/
LOCATION:Haus Lebenskraft\, Gutenbergstr. 30\, Potsdam\, Brandenburg\, 14467\, Germany
CATEGORIES:Intern, Sonnenraum
ORGANIZER;CN="parApara Digital GmbH":MAILTO:lena@lallaundvilas.de
END:VEVENT
BEGIN:VEVENT
DTSTART;TZID=Europe/Berlin:20260217T211500
DTEND;TZID=Europe/Berlin:20260217T213000
DTSTAMP:20260419T184749
CREATED:20250730T115751Z
LAST-MODIFIED:20260202T133358Z
UID:10019406-1771362900-1771363800@staging.hauslebenskraft.de
SUMMARY:intern
DESCRIPTION:Nachbereitung Yoga
URL:https://staging.hauslebenskraft.de/veranstaltung/nachbereitung-yoga/2026-02-17/
LOCATION:Haus Lebenskraft\, Gutenbergstr. 30\, Potsdam\, Brandenburg\, 14467\, Germany
CATEGORIES:Intern, Sonnenraum
ORGANIZER;CN="parApara Digital GmbH":MAILTO:lena@lallaundvilas.de
END:VEVENT
END:VCALENDAR