BEGIN:VCALENDAR
VERSION:2.0
PRODID:-//Haus Lebenskraft - ECPv6.15.20//NONSGML v1.0//EN
CALSCALE:GREGORIAN
METHOD:PUBLISH
X-ORIGINAL-URL:https://staging.hauslebenskraft.de
X-WR-CALDESC:Veranstaltungen für Haus Lebenskraft
REFRESH-INTERVAL;VALUE=DURATION:PT1H
X-Robots-Tag:noindex
X-PUBLISHED-TTL:PT1H
BEGIN:VTIMEZONE
TZID:Europe/Berlin
BEGIN:DAYLIGHT
TZOFFSETFROM:+0100
TZOFFSETTO:+0200
TZNAME:CEST
DTSTART:20240331T010000
END:DAYLIGHT
BEGIN:STANDARD
TZOFFSETFROM:+0200
TZOFFSETTO:+0100
TZNAME:CET
DTSTART:20241027T010000
END:STANDARD
BEGIN:DAYLIGHT
TZOFFSETFROM:+0100
TZOFFSETTO:+0200
TZNAME:CEST
DTSTART:20250330T010000
END:DAYLIGHT
BEGIN:STANDARD
TZOFFSETFROM:+0200
TZOFFSETTO:+0100
TZNAME:CET
DTSTART:20251026T010000
END:STANDARD
BEGIN:DAYLIGHT
TZOFFSETFROM:+0100
TZOFFSETTO:+0200
TZNAME:CEST
DTSTART:20260329T010000
END:DAYLIGHT
BEGIN:STANDARD
TZOFFSETFROM:+0200
TZOFFSETTO:+0100
TZNAME:CET
DTSTART:20261025T010000
END:STANDARD
END:VTIMEZONE
BEGIN:VEVENT
DTSTART;TZID=Europe/Berlin:20250921T100000
DTEND;TZID=Europe/Berlin:20250921T200000
DTSTAMP:20260425T131707
CREATED:20241108T105221Z
LAST-MODIFIED:20250729T132428Z
UID:10019264-1758448800-1758484800@staging.hauslebenskraft.de
SUMMARY:Breathwork - Transformatives Atmen
DESCRIPTION:Intensiv Tagesworkshop mit Michaele Kuhn und Thomas Nolde\nBefreie Dich über den Atem! \nTauche in diesem intensiven Tagesworkshop tief in Deine inneren Welten ein. Mit der Technik des transformativen\, verbundenen Atmens kannst Du Dich tiefer entspannen\, mehr Energie erfahren\, können sich alte emotionale Blockaden lösen und Zugänge zu transpersonalen Räumen und Botschaften Deiner Seele eröffnen. Verbinde Dich wieder mit Deiner Kraft\, Klarheit und Zuversicht inmitten einer chaotischen Welt.\nNach einer Einführung am Samstag Morgen werden wir am Vormittag und\nNachmittag zwei geführte Atemsitzungen erleben\, die in der Regel 80-90 Minuten dauern.\nDer bewußte und tiefe Atem erlaubt ein Erleben von Lebendigkeit und das Zulassen und Lösen von emotionalem Gefühlsstau\, von körperlichen und mentalen Anspannungen und beschenkt uns mit einem spirituellen Erleben.\nEs öffnet sich ein Seinsraum\, ein Erfüllten von innerem Frieden und und eine Liebespräsens\, die uns unsere Allverbundenheit fühlen lässt.\nBreathwork ist eine großartige Möglichkeit für die eigene Transformation und Heilung Verantwortung zu übernehmen.\nEs öffnet sich die Freude und Lust am Leben. Die Liebe leben und das Leben lieben wird zu einer natürlichen Lebenshaltung. \nStruktur Tagesworkshop (10 Uhr bis ca. 20 Uhr):\n10 Uhr Treffen & Einführung in die Atemtechnik\, Fragen\nVormittag: 1. Atem-Session\nIn der längeren Mittagspause kannst Du in den umliegenden Restaurants essen gehen\nNachmittag: 2. Atem-Session\nDanach: Sharing-Runde zur Verarbeitung & Integration des Erlebten\, Ende ca. 20 Uhr \nDie Teilnahme ist ohne Vorerfahrung möglich. Bitte bring Dir eine Augenbinde\, Schal oder ähnliches mit\, um ganz nach innen eintauchen zu können. Wir raten\, mindestens 2 Stunden vor der Erfahrung nichts schweres mehr zu essen. Falls Du eine spezielle Unterlage benötigst\, bring sie Dir bitte mit.\nNächster Termin: 12. Januar 2025\, Potsdam\, Tagesworkshop\nBeitrag 120 € (Ermäßigung möglich). \nAnmeldung: E-Mail an post@michaelekuhn.de\nSeminarort: Haus Lebenskraft Potsdam\, Gutenbergstraße 30 \nWorkshop-Leitung:\nMichaele Kuhn\, Integrative Körper-Psychotherapie…Trauma und Paartherapie…Transpersonale Therapie www.michaelekuhn.de\nThomas Nolde\, Meditationslehrer und Rebirthing-Facilitator www.transformatives-atmen.com \n21.09. 2025\nPotsdam Haus Lebenskraft
URL:https://staging.hauslebenskraft.de/veranstaltung/holotropes-atmen-2/2025-09-21/
LOCATION:Haus Lebenskraft\, Gutenbergstr. 30\, Potsdam\, Brandenburg\, 14467\, Germany
CATEGORIES:Öffentlich, Sonnenraum
ORGANIZER;CN="Thomas Nolde":MAILTO:nolde@gmx.de
END:VEVENT
BEGIN:VEVENT
DTSTART;TZID=Europe/Berlin:20250921T094500
DTEND;TZID=Europe/Berlin:20250921T213000
DTSTAMP:20260425T131707
CREATED:20250325T192811Z
LAST-MODIFIED:20250729T130409Z
UID:10019266-1758447900-1758490200@staging.hauslebenskraft.de
SUMMARY:Tagesworkshop reserviert T. Nolde
DESCRIPTION:
URL:https://staging.hauslebenskraft.de/veranstaltung/tagesworkshop-reserviert/2025-09-21/
LOCATION:Haus Lebenskraft\, Gutenbergstr. 30\, Potsdam\, Brandenburg\, 14467\, Germany
CATEGORIES:Intern, Raum der Erde
ORGANIZER;CN="Michaele Kuhn":MAILTO:post@michaelekuhn.de
END:VEVENT
BEGIN:VEVENT
DTSTART;TZID=Europe/Berlin:20250921T080000
DTEND;TZID=Europe/Berlin:20250921T100000
DTSTAMP:20260425T131707
CREATED:20250325T192618Z
LAST-MODIFIED:20250729T130156Z
UID:10019265-1758441600-1758448800@staging.hauslebenskraft.de
SUMMARY:Vorbereitung Tagesworkshop "Transformatives Atmen"
DESCRIPTION:
URL:https://staging.hauslebenskraft.de/veranstaltung/tagesworkshop-transformatives-atmen/2025-09-21/
LOCATION:Haus Lebenskraft\, Gutenbergstr. 30\, Potsdam\, Brandenburg\, 14467\, Germany
CATEGORIES:Intern, Sonnenraum
ORGANIZER;CN="Michaele Kuhn":MAILTO:post@michaelekuhn.de
END:VEVENT
BEGIN:VEVENT
DTSTART;TZID=Europe/Berlin:20250531T100000
DTEND;TZID=Europe/Berlin:20250531T200000
DTSTAMP:20260425T131707
CREATED:20241108T105221Z
LAST-MODIFIED:20250729T132428Z
UID:10017908-1748685600-1748721600@staging.hauslebenskraft.de
SUMMARY:Breathwork - Transformatives Atmen
DESCRIPTION:Intensiv Tagesworkshop mit Michaele Kuhn und Thomas Nolde\nBefreie Dich über den Atem! \nTauche in diesem intensiven Tagesworkshop tief in Deine inneren Welten ein. Mit der Technik des transformativen\, verbundenen Atmens kannst Du Dich tiefer entspannen\, mehr Energie erfahren\, können sich alte emotionale Blockaden lösen und Zugänge zu transpersonalen Räumen und Botschaften Deiner Seele eröffnen. Verbinde Dich wieder mit Deiner Kraft\, Klarheit und Zuversicht inmitten einer chaotischen Welt.\nNach einer Einführung am Samstag Morgen werden wir am Vormittag und\nNachmittag zwei geführte Atemsitzungen erleben\, die in der Regel 80-90 Minuten dauern.\nDer bewußte und tiefe Atem erlaubt ein Erleben von Lebendigkeit und das Zulassen und Lösen von emotionalem Gefühlsstau\, von körperlichen und mentalen Anspannungen und beschenkt uns mit einem spirituellen Erleben.\nEs öffnet sich ein Seinsraum\, ein Erfüllten von innerem Frieden und und eine Liebespräsens\, die uns unsere Allverbundenheit fühlen lässt.\nBreathwork ist eine großartige Möglichkeit für die eigene Transformation und Heilung Verantwortung zu übernehmen.\nEs öffnet sich die Freude und Lust am Leben. Die Liebe leben und das Leben lieben wird zu einer natürlichen Lebenshaltung. \nStruktur Tagesworkshop (10 Uhr bis ca. 20 Uhr):\n10 Uhr Treffen & Einführung in die Atemtechnik\, Fragen\nVormittag: 1. Atem-Session\nIn der längeren Mittagspause kannst Du in den umliegenden Restaurants essen gehen\nNachmittag: 2. Atem-Session\nDanach: Sharing-Runde zur Verarbeitung & Integration des Erlebten\, Ende ca. 20 Uhr \nDie Teilnahme ist ohne Vorerfahrung möglich. Bitte bring Dir eine Augenbinde\, Schal oder ähnliches mit\, um ganz nach innen eintauchen zu können. Wir raten\, mindestens 2 Stunden vor der Erfahrung nichts schweres mehr zu essen. Falls Du eine spezielle Unterlage benötigst\, bring sie Dir bitte mit.\nNächster Termin: 12. Januar 2025\, Potsdam\, Tagesworkshop\nBeitrag 120 € (Ermäßigung möglich). \nAnmeldung: E-Mail an post@michaelekuhn.de\nSeminarort: Haus Lebenskraft Potsdam\, Gutenbergstraße 30 \nWorkshop-Leitung:\nMichaele Kuhn\, Integrative Körper-Psychotherapie…Trauma und Paartherapie…Transpersonale Therapie www.michaelekuhn.de\nThomas Nolde\, Meditationslehrer und Rebirthing-Facilitator www.transformatives-atmen.com \n21.09. 2025\nPotsdam Haus Lebenskraft
URL:https://staging.hauslebenskraft.de/veranstaltung/holotropes-atmen-2/2025-05-31/
LOCATION:Haus Lebenskraft\, Gutenbergstr. 30\, Potsdam\, Brandenburg\, 14467\, Germany
CATEGORIES:Öffentlich, Sonnenraum
ORGANIZER;CN="Thomas Nolde":MAILTO:nolde@gmx.de
END:VEVENT
BEGIN:VEVENT
DTSTART;TZID=Europe/Berlin:20250531T094500
DTEND;TZID=Europe/Berlin:20250531T213000
DTSTAMP:20260425T131707
CREATED:20250325T192811Z
LAST-MODIFIED:20250729T130409Z
UID:10017904-1748684700-1748727000@staging.hauslebenskraft.de
SUMMARY:Tagesworkshop reserviert T. Nolde
DESCRIPTION:
URL:https://staging.hauslebenskraft.de/veranstaltung/tagesworkshop-reserviert/2025-05-31/
LOCATION:Haus Lebenskraft\, Gutenbergstr. 30\, Potsdam\, Brandenburg\, 14467\, Germany
CATEGORIES:Intern, Raum der Erde
ORGANIZER;CN="Michaele Kuhn":MAILTO:post@michaelekuhn.de
END:VEVENT
BEGIN:VEVENT
DTSTART;TZID=Europe/Berlin:20250531T080000
DTEND;TZID=Europe/Berlin:20250531T100000
DTSTAMP:20260425T131707
CREATED:20250325T192618Z
LAST-MODIFIED:20250729T130156Z
UID:10017903-1748678400-1748685600@staging.hauslebenskraft.de
SUMMARY:Vorbereitung Tagesworkshop "Transformatives Atmen"
DESCRIPTION:
URL:https://staging.hauslebenskraft.de/veranstaltung/tagesworkshop-transformatives-atmen/2025-05-31/
LOCATION:Haus Lebenskraft\, Gutenbergstr. 30\, Potsdam\, Brandenburg\, 14467\, Germany
CATEGORIES:Intern, Sonnenraum
ORGANIZER;CN="Michaele Kuhn":MAILTO:post@michaelekuhn.de
END:VEVENT
BEGIN:VEVENT
DTSTART;TZID=Europe/Berlin:20250426T110000
DTEND;TZID=Europe/Berlin:20250426T210000
DTSTAMP:20260425T131707
CREATED:20250304T110450Z
LAST-MODIFIED:20250423T094513Z
UID:10017847-1745665200-1745701200@staging.hauslebenskraft.de
SUMMARY:Liebe\, Eros und Beziehung - Ein tantrischer Begegnungstag mit Michaele Kuhn & Kolja Güldenberg
DESCRIPTION:„Solange Du nicht die Liebe in Dir berührst\,\nwirst Du eine Frau oder einen Mann nicht lieben können.\nDie Quelle der Liebe ist in Dir“ Osho \nDieser Tag ist ein Geschenk an Dich selbst.\nGemeinsam erforschen wir das Mysterium der Liebe\, und begeben uns auf eine herzenswarme\, wahrheitsliebende und seelentiefe Reise zu Deiner Essenz.\nEs erwartet Dich ein Initiationstag in Deine Selbstliebe und Deinen Selbstwert.\nAn diesem Tag werden wir liebevoll und achtsam das leben\, was uns Menschen würdig ist:\nSelbstfürsorge…Achtsamkeit… Wertschätzung…Seelenpflege…nährendes und liebevolles Miteinander und würdevolle und heilsame Berührung.\nWenn du dich für die Liebe entscheidest\, dann erstrahlt eine Selbstliebe\, die sich in Deinem Leben\, in Deinen Beziehungen und in deiner Sexualität wieder spiegelt.\nEs erwartet Dich geistige Inspiration\, Begegnungsrituale\, Innehalten\, Sharing Tanz und Glücklichsein. \nLeitung und Details: \nKolja Güldenberg \nJg.1970\, Vater einer Tochter\nBegleitet seit 20 Jahren Männer und Frauen auf Ihrem Weg in die Liebe.\nGFK-Trainer\, Seminarleiter und Führungskräfte Coach.\n“Meine Vision ist\, dass wir Menschen sowohl herzlich und berührbar\, als auch kraftvoll und frei lieben können. Vertrauen\, Kraft und Inspiration für unseren Weg schöpfen wir aus der tiefen Anbindung an die göttliche Quelle in uns.“\nkolja-gueldenberg.de | initiation-mannsein.de \nMichaele Kuhn \nJg. 1960\, Mutter eines Sohnes\nBegleitet seit über 35 Jahren Menschen bei ihrer Heilung und Entwicklung.\nTrauma- und Körperpsychotherapie\, Paartherapie\, und Tantralehrerin.\n„Meine Gabe ist es\, Menschen in ihr innerstes Zuhause\, in die Verbundenheit und Liebe zu sich selbst zu führen. Mein tiefstes Anliegen ist es\, dass die Menschen wieder fühlen lernen\, wer und was sie wirklich sind\, und eine lebbare Verbindung mit der LIEBE und der Präsenz des GÖTTLICHEN finden und leben.“\nwww.michaelekuhn.de \nVeranstaltungsdetails:\n• Datum und Ort: Samstag\, 26. April\, im Haus\nLebenskraft\, Potsdam\, Erdenraum\n• Leitung: Michaele Kuhn & Kolja Güldenberg\n• Teilnahmegebühr inkl. MWST: € 120\, Ermäßigung auf Anfrage \n• Anmeldung: Michaele Kuhn\, E-Mail: post@michaelekuhn.de\nTel.: +49 179-6895410 \nwww.michaelekuhn.de
URL:https://staging.hauslebenskraft.de/veranstaltung/michaele/
LOCATION:Haus Lebenskraft\, Gutenbergstr. 30\, Potsdam\, Brandenburg\, 14467\, Germany
CATEGORIES:Öffentlich, Raum der Erde
ORGANIZER;CN="Michaele Kuhn":MAILTO:post@michaelekuhn.de
END:VEVENT
END:VCALENDAR