BEGIN:VCALENDAR
VERSION:2.0
PRODID:-//Haus Lebenskraft - ECPv6.15.20//NONSGML v1.0//EN
CALSCALE:GREGORIAN
METHOD:PUBLISH
X-ORIGINAL-URL:https://staging.hauslebenskraft.de
X-WR-CALDESC:Veranstaltungen für Haus Lebenskraft
REFRESH-INTERVAL;VALUE=DURATION:PT1H
X-Robots-Tag:noindex
X-PUBLISHED-TTL:PT1H
BEGIN:VTIMEZONE
TZID:Europe/Berlin
BEGIN:DAYLIGHT
TZOFFSETFROM:+0100
TZOFFSETTO:+0200
TZNAME:CEST
DTSTART:20250330T010000
END:DAYLIGHT
BEGIN:STANDARD
TZOFFSETFROM:+0200
TZOFFSETTO:+0100
TZNAME:CET
DTSTART:20251026T010000
END:STANDARD
BEGIN:DAYLIGHT
TZOFFSETFROM:+0100
TZOFFSETTO:+0200
TZNAME:CEST
DTSTART:20260329T010000
END:DAYLIGHT
BEGIN:STANDARD
TZOFFSETFROM:+0200
TZOFFSETTO:+0100
TZNAME:CET
DTSTART:20261025T010000
END:STANDARD
BEGIN:DAYLIGHT
TZOFFSETFROM:+0100
TZOFFSETTO:+0200
TZNAME:CEST
DTSTART:20270328T010000
END:DAYLIGHT
BEGIN:STANDARD
TZOFFSETFROM:+0200
TZOFFSETTO:+0100
TZNAME:CET
DTSTART:20271031T010000
END:STANDARD
END:VTIMEZONE
BEGIN:VEVENT
DTSTART;TZID=Europe/Berlin:20260501T120000
DTEND;TZID=Europe/Berlin:20260501T180000
DTSTAMP:20260420T011940
CREATED:20260120T115849Z
LAST-MODIFIED:20260205T100955Z
UID:10024527-1777636800-1777658400@staging.hauslebenskraft.de
SUMMARY:intern
DESCRIPTION:Maja
URL:https://staging.hauslebenskraft.de/veranstaltung/maja-intern/
CATEGORIES:Intern, Therapieraum
ORGANIZER;CN="Maja Diana Weingart":MAILTO:maja.weingart66@gmail.com
END:VEVENT
BEGIN:VEVENT
DTSTART;TZID=Europe/Berlin:20260502T130000
DTEND;TZID=Europe/Berlin:20260502T235500
DTSTAMP:20260420T011940
CREATED:20260120T120113Z
LAST-MODIFIED:20260205T101100Z
UID:10024528-1777726800-1777766100@staging.hauslebenskraft.de
SUMMARY:intern
DESCRIPTION:Maja
URL:https://staging.hauslebenskraft.de/veranstaltung/maja-intern-2/
CATEGORIES:Intern, Therapieraum
ORGANIZER;CN="Maja Diana Weingart":MAILTO:maja.weingart66@gmail.com
END:VEVENT
BEGIN:VEVENT
DTSTART;TZID=Europe/Berlin:20260502T130000
DTEND;TZID=Europe/Berlin:20260502T235500
DTSTAMP:20260420T011940
CREATED:20260120T120312Z
LAST-MODIFIED:20260205T103439Z
UID:10024529-1777726800-1777766100@staging.hauslebenskraft.de
SUMMARY:intern
DESCRIPTION:Maja
URL:https://staging.hauslebenskraft.de/veranstaltung/maja-intern-3/
CATEGORIES:Intern, Raum der Erde
ORGANIZER;CN="Maja Diana Weingart":MAILTO:maja.weingart66@gmail.com
END:VEVENT
END:VCALENDAR