BEGIN:VCALENDAR
VERSION:2.0
PRODID:-//Haus Lebenskraft - ECPv6.15.20//NONSGML v1.0//EN
CALSCALE:GREGORIAN
METHOD:PUBLISH
X-WR-CALNAME:Haus Lebenskraft
X-ORIGINAL-URL:https://staging.hauslebenskraft.de
X-WR-CALDESC:Veranstaltungen für Haus Lebenskraft
REFRESH-INTERVAL;VALUE=DURATION:PT1H
X-Robots-Tag:noindex
X-PUBLISHED-TTL:PT1H
BEGIN:VTIMEZONE
TZID:Europe/Berlin
BEGIN:DAYLIGHT
TZOFFSETFROM:+0100
TZOFFSETTO:+0200
TZNAME:CEST
DTSTART:20240331T010000
END:DAYLIGHT
BEGIN:STANDARD
TZOFFSETFROM:+0200
TZOFFSETTO:+0100
TZNAME:CET
DTSTART:20241027T010000
END:STANDARD
BEGIN:DAYLIGHT
TZOFFSETFROM:+0100
TZOFFSETTO:+0200
TZNAME:CEST
DTSTART:20250330T010000
END:DAYLIGHT
BEGIN:STANDARD
TZOFFSETFROM:+0200
TZOFFSETTO:+0100
TZNAME:CET
DTSTART:20251026T010000
END:STANDARD
BEGIN:DAYLIGHT
TZOFFSETFROM:+0100
TZOFFSETTO:+0200
TZNAME:CEST
DTSTART:20260329T010000
END:DAYLIGHT
BEGIN:STANDARD
TZOFFSETFROM:+0200
TZOFFSETTO:+0100
TZNAME:CET
DTSTART:20261025T010000
END:STANDARD
BEGIN:DAYLIGHT
TZOFFSETFROM:+0100
TZOFFSETTO:+0200
TZNAME:CEST
DTSTART:20270328T010000
END:DAYLIGHT
BEGIN:STANDARD
TZOFFSETFROM:+0200
TZOFFSETTO:+0100
TZNAME:CET
DTSTART:20271031T010000
END:STANDARD
END:VTIMEZONE
BEGIN:VEVENT
DTSTART;TZID=Europe/Berlin:20260411T160000
DTEND;TZID=Europe/Berlin:20260411T190000
DTSTAMP:20260421T093451
CREATED:20260328T084301Z
LAST-MODIFIED:20260404T184345Z
UID:10025701-1775923200-1775934000@staging.hauslebenskraft.de
SUMMARY:💚Conscious Dating - Für echte Begegnung 🧡
DESCRIPTION:  \n\n\nConscious Dating – Für echte Verbindung \nDu bist Single und hast es satt\, dich durch oberflächliche Dating Apps zu swipen? Dann bist du beim Conscious Dating genau richtig! \nMein Ziel ist es\, einen Raum zu kreieren\, in dem echtes Kennenlernen möglich ist – ohne Masken\, ohne Druck\, ohne Erwartungen.\nDazu wirst du von mir durch verschiedene Übungen aus dem Conscious Relating geführt.\nMit Präsenz\, Leichtigkeit und Neugier erkunden wir wie sich echte Verbindung anfühlt.\nDanach hast du die Möglichkeit\, das gelernte anzuwenden.\nZuerst vor Ort. Und dann draußen\, in der lieben und verrückten Welt \nIch freue mich auf dich!\nKirko\n\nAgenda:\n16:00 – ankommen16:15 – Start16:30 – In den Körper kommen17:00 – angeleitete Conscious Relating Übungen18:30 – Pause19:00 – Möglichkeit\, selbstständig in Verbindung zu gehen20:00 – Ende\n\n\nFAQ:★ Wie ist das Männer/Frauen-Verhältnis?Wir bemühen uns um eine 50/50-Balance. Bitte behalte jedoch ein offenes Herz\, falls das Verhältnis nicht ganz ausgeglichen ist – es können auch wertvolle Sisterhood- oder Brotherhood-Verbindungen entstehen.\n★ Ist das ein hetero-orientiertes Event?Ja\, dieses Event richtet sich an Männer\, die Frauen kennenlernen möchten\, und umgekehrt.\n★ Wie ist die Altersrange?Die meisten Teilnehmer werden 25–45 Jahre alt sein\, aber grundsätzlich ist jeder willkommen.\n★ Ist das Event für polygame Menschen offen\, die bereits in einer Beziehung sind?Ja\, es ist für alle offen – auch wenn es primär für Singles gestaltet ist.\n★ Kann ich Kontaktdaten austauschen?Ja\, am Ende des Events\, sofern beidseitiges Interesse an dem Kontaktaustausch besteht \n★ Muss ich an jeder Übung teilnehmen?Nein\, alle Übungen sind freiwillig.\n★ Gibt es körperliche oder sexuelle Interaktion?Keine sexuelle Aktivität. Übungen mit Berührung sind stets freiwillig und basieren auf gegenseitigem Einverständnis und aktivieren nicht die Sinnlichkeit.\n\n\nAnmeldung: www.eventbrite.de/o/tantra-mit-kirko-120648752574\n\n 
URL:https://staging.hauslebenskraft.de/veranstaltung/%f0%9f%92%9aconscious-dating-fuer-echte-verbindung-%f0%9f%a7%a1-2/2026-04-11/
LOCATION:Haus Lebenskraft\, Gutenbergstr. 30\, Potsdam\, Brandenburg\, 14467\, Germany
CATEGORIES:Öffentlich, Sonnenraum
ATTACH;FMTTYPE=image/jpeg:https://staging.hauslebenskraft.de/wp-content/uploads/2026/03/Conscious-Dating.jpg
END:VEVENT
BEGIN:VEVENT
DTSTART;TZID=Europe/Berlin:20260221T160000
DTEND;TZID=Europe/Berlin:20260221T200000
DTSTAMP:20260421T093451
CREATED:20251213T104138Z
LAST-MODIFIED:20260202T140655Z
UID:10024532-1771689600-1771704000@staging.hauslebenskraft.de
SUMMARY:💚Conscious Dating - Für echte Verbindung 🧡
DESCRIPTION:  \n\n\nConscious Dating – Für echte Verbindung \nDu bist Single und hast es satt\, dich durch oberflächliche Dating Apps zu swipen? Dann bist du beim Conscious Dating genau richtig! \nMein Ziel ist es\, einen Raum zu kreieren\, in dem echtes Kennenlernen möglich ist – ohne Masken\, ohne Druck\, ohne Erwartungen.\nDazu wirst du von mir durch verschiedene Übungen aus dem Conscious Relating geführt.\nMit Präsenz\, Leichtigkeit und Neugier erkunden wir wie sich echte Verbindung anfühlt.\nDanach hast du die Möglichkeit\, das gelernte anzuwenden.\nZuerst vor Ort. Und dann draußen\, in der lieben und verrückten Welt \nIch freue mich auf dich!\nKirko\n\nAgenda:\n16:00 – ankommen16:15 – Start16:30 – In den Körper kommen17:00 – angeleitete Conscious Relating Übungen18:30 – Pause19:00 – Möglichkeit\, selbstständig in Verbindung zu gehen20:00 – Ende\n\n\nFAQ:★ Wie ist das Männer/Frauen-Verhältnis?Wir bemühen uns um eine 50/50-Balance. Bitte behalte jedoch ein offenes Herz\, falls das Verhältnis nicht ganz ausgeglichen ist – es können auch wertvolle Sisterhood- oder Brotherhood-Verbindungen entstehen.\n★ Ist das ein hetero-orientiertes Event?Ja\, dieses Event richtet sich an Männer\, die Frauen kennenlernen möchten\, und umgekehrt.\n★ Wie ist die Altersrange?Die meisten Teilnehmer werden 25–45 Jahre alt sein\, aber grundsätzlich ist jeder willkommen.\n★ Ist das Event für polygame Menschen offen\, die bereits in einer Beziehung sind?Ja\, es ist für alle offen – auch wenn es primär für Singles gestaltet ist.\n★ Kann ich Kontaktdaten austauschen?Ja\, am Ende des Events\, sofern beidseitiges Interesse an dem Kontaktaustausch besteht \n★ Muss ich an jeder Übung teilnehmen?Nein\, alle Übungen sind freiwillig.\n★ Gibt es körperliche oder sexuelle Interaktion?Keine sexuelle Aktivität. Übungen mit Berührung sind stets freiwillig und basieren auf gegenseitigem Einverständnis und aktivieren nicht die Sinnlichkeit.\n\n\n 
URL:https://staging.hauslebenskraft.de/veranstaltung/%f0%9f%92%9aconscious-dating-fuer-echte-verbindung-%f0%9f%a7%a1/2026-02-21/
LOCATION:Haus Lebenskraft\, Gutenbergstr. 30\, Potsdam\, Brandenburg\, 14467\, Germany
CATEGORIES:Öffentlich, Raum der Erde
ATTACH;FMTTYPE=image/png:https://staging.hauslebenskraft.de/wp-content/uploads/2026/02/16zu9-Tantra-Workshop-Posts-1-1.png
END:VEVENT
BEGIN:VEVENT
DTSTART;TZID=Europe/Berlin:20260211T193000
DTEND;TZID=Europe/Berlin:20260211T213000
DTSTAMP:20260421T093451
CREATED:20260203T111158Z
LAST-MODIFIED:20260204T211455Z
UID:10024963-1770838200-1770845400@staging.hauslebenskraft.de
SUMMARY:Männerkreis
DESCRIPTION:Ein geschützter Raum unter Männern – für Präsenz\, Ehrlichkeit und bewusste Begegnung.\nWir kommen zusammen\, um innezuhalten\, zuzuhören und uns mit dem zu verbinden\, was uns wirklich bewegt. \nRahmenthema des Abends:\nErstes kennenlernen \nDer Kreis lebt von Achtsamkeit\, Respekt und der Bereitschaft\, sich selbst ehrlich zu begegnen.\nDu brauchst keine Vorerfahrung. \n📍 Haus Lebenskraft\, Potsdam\n🕢 19:30 – 21:30\n💶 10€ pro Person\n🍫 Bringt gerne einen Snack zum Teilen mit \nIch freue mich auf den gemeinsamen Kreis.\n🙏\nKirko \n 
URL:https://staging.hauslebenskraft.de/veranstaltung/maennerkreis/
LOCATION:Haus Lebenskraft\, Gutenbergstr. 30\, Potsdam\, Brandenburg\, 14467\, Germany
CATEGORIES:Öffentlich, Sonnenraum
ATTACH;FMTTYPE=image/png:https://staging.hauslebenskraft.de/wp-content/uploads/2026/02/Maennerkreis.png
END:VEVENT
BEGIN:VEVENT
DTSTART;TZID=Europe/Berlin:20260131T170000
DTEND;TZID=Europe/Berlin:20260131T220000
DTSTAMP:20260421T093451
CREATED:20251212T180420Z
LAST-MODIFIED:20260111T094859Z
UID:10023870-1769878800-1769896800@staging.hauslebenskraft.de
SUMMARY:Tempel Night
DESCRIPTION:Ich lade dich ein zu einer Nacht voller spielerischer Begegnung\, bewusster Intimität und tantrischer Berührungen. 🫠 \nMeine Vision ist es\, einen Raum zu erschaffen\, in dem du bei dir bleiben kannst\, in dem du dich sicher fühlst und in dem du lernst\, Verantwortung für deine Erfahrungen zu übernehmen. Ein Ort\, an dem du frei erforschen kannst\, was dich wirklich sinnlich berührt 🌸\, an dem du eingeladen bist\, deine Masken fallen zu lassen 🎭\, um dein authentisches Selbst zu zeigen. Stets verbunden mit deiner Wurzel und deiner Herz Energie 🧡 \n⏰ Datum: Samstag 31.01.2026 – 17:00 – 22:00 Uhr\n📍 Ort: Haus Lebenskraft Potsdam\n💸 Preis: Frau&Mann 59€ | Paar 101€\nTickets: Eventbrite => https://temple-night-potsdam-januar.eventbrite.de/\n\nFalls du Interesse an weiteren tantrischen Events hast tritt gerne meiner Telegram-Gruppe bei: https://t.me/+mvnf55-_9ClkMGVi\noder folge mir auf Instagram: www.instagram.com/kirko_stimmer/
URL:https://staging.hauslebenskraft.de/veranstaltung/tempel-night/
LOCATION:Haus Lebenskraft\, Gutenbergstr. 30\, Potsdam\, Brandenburg\, 14467\, Germany
CATEGORIES:Öffentlich, Sonnenraum
END:VEVENT
BEGIN:VEVENT
DTSTART;TZID=Europe/Berlin:20260124T110000
DTEND;TZID=Europe/Berlin:20260124T190000
DTSTAMP:20260421T093451
CREATED:20251120T192829Z
LAST-MODIFIED:20251227T155035Z
UID:10023792-1769252400-1769281200@staging.hauslebenskraft.de
SUMMARY:Frau & Mann Workshop
DESCRIPTION:Was wäre\, wenn alte Verletzungen\, Projektionen und Schutzmechanismen nicht länger dein Beziehungsleben bestimmen? \nIn diesem transformierenden Tagesworkshop erforschst und heilst du die Dynamik deines inneren Mannes & deiner inneren Frau. Mit kraftvollen Übungen aus Tantra\, systemischer Arbeit\, Gestalttherapie & Radical Honesty entsteht Raum für tiefe Selbsterkenntnis\, Vergebung und neue Verbindung – zuerst in dir\, dann im Außen. \n✨ Bewusste Begegnungen\n✨ Shiva & Shakti verkörpern und integrieren\n✨ Männer- & Frauenkreis\n✨ Hawaiianisches Vergebungsritual \nFür alle\, die bereit sind\, sich selbst ehrlich zu begegnen und Beziehung neu zu erleben.\nSingles & Paare willkommen \n👉 Mehr Infos & Anmeldung:\nhttps://mann-frau-24012026.eventbrite.de\n⏰SA | 24.01. | 11-19 Uhr\n📍Haus Lebenskraft Potsdam\n‼️Early Bird bis zum 02.01. ‼️
URL:https://staging.hauslebenskraft.de/veranstaltung/frau-mann-workshop/
LOCATION:Haus Lebenskraft\, Gutenbergstr. 30\, Potsdam\, Brandenburg\, 14467\, Germany
CATEGORIES:Öffentlich, Raum der Erde
END:VEVENT
BEGIN:VEVENT
DTSTART;TZID=Europe/Berlin:20260117T160000
DTEND;TZID=Europe/Berlin:20260117T200000
DTSTAMP:20260421T093451
CREATED:20251213T104138Z
LAST-MODIFIED:20260202T140655Z
UID:10023871-1768665600-1768680000@staging.hauslebenskraft.de
SUMMARY:💚Conscious Dating - Für echte Verbindung 🧡
DESCRIPTION:  \n\n\nConscious Dating – Für echte Verbindung \nDu bist Single und hast es satt\, dich durch oberflächliche Dating Apps zu swipen? Dann bist du beim Conscious Dating genau richtig! \nMein Ziel ist es\, einen Raum zu kreieren\, in dem echtes Kennenlernen möglich ist – ohne Masken\, ohne Druck\, ohne Erwartungen.\nDazu wirst du von mir durch verschiedene Übungen aus dem Conscious Relating geführt.\nMit Präsenz\, Leichtigkeit und Neugier erkunden wir wie sich echte Verbindung anfühlt.\nDanach hast du die Möglichkeit\, das gelernte anzuwenden.\nZuerst vor Ort. Und dann draußen\, in der lieben und verrückten Welt \nIch freue mich auf dich!\nKirko\n\nAgenda:\n16:00 – ankommen16:15 – Start16:30 – In den Körper kommen17:00 – angeleitete Conscious Relating Übungen18:30 – Pause19:00 – Möglichkeit\, selbstständig in Verbindung zu gehen20:00 – Ende\n\n\nFAQ:★ Wie ist das Männer/Frauen-Verhältnis?Wir bemühen uns um eine 50/50-Balance. Bitte behalte jedoch ein offenes Herz\, falls das Verhältnis nicht ganz ausgeglichen ist – es können auch wertvolle Sisterhood- oder Brotherhood-Verbindungen entstehen.\n★ Ist das ein hetero-orientiertes Event?Ja\, dieses Event richtet sich an Männer\, die Frauen kennenlernen möchten\, und umgekehrt.\n★ Wie ist die Altersrange?Die meisten Teilnehmer werden 25–45 Jahre alt sein\, aber grundsätzlich ist jeder willkommen.\n★ Ist das Event für polygame Menschen offen\, die bereits in einer Beziehung sind?Ja\, es ist für alle offen – auch wenn es primär für Singles gestaltet ist.\n★ Kann ich Kontaktdaten austauschen?Ja\, am Ende des Events\, sofern beidseitiges Interesse an dem Kontaktaustausch besteht \n★ Muss ich an jeder Übung teilnehmen?Nein\, alle Übungen sind freiwillig.\n★ Gibt es körperliche oder sexuelle Interaktion?Keine sexuelle Aktivität. Übungen mit Berührung sind stets freiwillig und basieren auf gegenseitigem Einverständnis und aktivieren nicht die Sinnlichkeit.\n\n\n 
URL:https://staging.hauslebenskraft.de/veranstaltung/%f0%9f%92%9aconscious-dating-fuer-echte-verbindung-%f0%9f%a7%a1/2026-01-17/
LOCATION:Haus Lebenskraft\, Gutenbergstr. 30\, Potsdam\, Brandenburg\, 14467\, Germany
CATEGORIES:Öffentlich, Raum der Erde
ATTACH;FMTTYPE=image/png:https://staging.hauslebenskraft.de/wp-content/uploads/2026/02/16zu9-Tantra-Workshop-Posts-1-1.png
END:VEVENT
BEGIN:VEVENT
DTSTART;TZID=Europe/Berlin:20251214T160000
DTEND;TZID=Europe/Berlin:20251214T200000
DTSTAMP:20260421T093451
CREATED:20251120T073911Z
LAST-MODIFIED:20251126T164826Z
UID:10023789-1765728000-1765742400@staging.hauslebenskraft.de
SUMMARY:💚Conscious Dating - Für echte Verbindung 🧡
DESCRIPTION:💚Conscious Dating – Für echte Verbindung 🧡 \nDu bist Single und hast es satt\, dich durch oberflächliche Dating Apps zu swipen? 🤬\nDann bist du beim Conscious Dating genau richtig! 😇 \nMein Ziel ist es\, einen Raum zu kreieren\, in dem echtes Kennenlernen möglich ist  – ohne Masken\, ohne Druck\, ohne Erwartungen.\nDazu wirst du von mir durch verschiedene Übungen aus dem Conscious Relating geführt.\nMit Präsenz\, Leichtigkeit und Neugier erkunden wir wie sich echte Verbindung anfühlt. \nDanach hast du die Möglichkeit\, das gelernte anzuwenden.\nZuerst vor Ort. Und dann draußen\, in der lieben und verrückten Welt 🙂 \nSichere dir dein Ticket auf 🔗 Eventbrite (https://conscious-dating-potsdam.eventbrite.de/) ! \n🕐 14.12.2025 – 16:00 bis 20:00\n📍 Haus Lebenskraft Potsdam\n💶 Tickets: 22\,49€ \nIch freue mich auf dich!\n🙏\nKirko \nP.S.: Auf die ersten 10 Tickets gibt es 15% Rabatt 🥳
URL:https://staging.hauslebenskraft.de/veranstaltung/conscious-dating-event/
LOCATION:Haus Lebenskraft\, Gutenbergstr. 30\, Potsdam\, Brandenburg\, 14467\, Germany
CATEGORIES:Öffentlich, Raum der Erde
END:VEVENT
BEGIN:VEVENT
DTSTART;TZID=Europe/Berlin:20251214T150000
DTEND;TZID=Europe/Berlin:20251214T160000
DTSTAMP:20260421T093451
CREATED:20251120T193544Z
LAST-MODIFIED:20251120T194007Z
UID:10023793-1765724400-1765728000@staging.hauslebenskraft.de
SUMMARY:Vorbereitungszeit Kirko
DESCRIPTION:
URL:https://staging.hauslebenskraft.de/veranstaltung/vorbereitungszeit-kirko/
LOCATION:Haus Lebenskraft\, Gutenbergstr. 30\, Potsdam\, Brandenburg\, 14467\, Germany
CATEGORIES:Intern, Raum der Erde
END:VEVENT
BEGIN:VEVENT
DTSTART;TZID=Europe/Berlin:20251207T150000
DTEND;TZID=Europe/Berlin:20251207T200000
DTSTAMP:20260421T093451
CREATED:20251118T172324Z
LAST-MODIFIED:20251120T053636Z
UID:10023787-1765119600-1765137600@staging.hauslebenskraft.de
SUMMARY:Tantra Tempel
DESCRIPTION:Möchtest du deine Sinnlichkeit wiederentdecken?\nSilke und Kirko laden dich in eine wunderschöne Location ein zu einer Nacht voller spielerischer Begegnung\, bewusster Intimität\, tantrischer Berührungen und leckerem Kakao. \nDie meisten Menschen verlieren den Kontakt zu ihren Wurzeln und zu ihrem Herzen\, wenn sexuelle Energie im Raum ist. Bei manchen entsteht Druck\, andere bekommen das Gefühl\, dass es nicht um sie geht\, für den nächsten ist es einfach ein Dopamin-Kick und einige wollen ihr Ego befriedigenUnsere Vision ist es\, einen Raum zu erschaffen\, in dem du bei dir bleiben kannst\, in dem du dich sicher fühlst und in dem du lernst\, Verantwortung für deine Erfahrungen zu übernehmen. Ein Ort\, an dem du frei erforschen kannst\, was dich wirklich sinnlich berührt\, an dem du eingeladen bist\, deine Masken fallen zu lassen\, um dein authentisches Selbst zu zeigen. Stets verbunden mit deiner Wurzel und deiner Herz Energie. \nDatum: 07.12.2025 15:00 – 20:00 Uhr\nDie Türen schließen um Viertel nach 3.\nOrt: Haus Lebenskraft\, Gutenbergstraße 30; 14467 Potsdam \nPreis:\nSupporter: 70€\nRegulär: 55€\nReduziert: 40€ \nDuo Rabatt: 10 € (pro Duo. Du musst nicht unbedingt ein Pärchen sein)\nBring-a-friend Rabatt: 15€ pro Freund \nDie Sprache der Facilitation ist auf deutsch. Bei Bedarf auch auf englisch.\nMaximal 20 Teilnehmer \nFür wen ist dieses Event?\nDieses Event ist sowohl für Singles als auch für Paare geeignet und offen für alle Geschlechter.\nFalls du dir unsicher bist\, ob das für dich und deinen Partner ein passendes Event ist\, kannst du mich gerne kontaktieren! \nSoft Event:\nJa\, dies ist ein sexpositiver Space\, aber ein Soft Event. Das heißt\, dass keine Penetration stattfinden wird.\nAbgesehen davon\, ist alles eingeladen\, wie zum Beispiel Nacktheit oder Yoni & Lingam Massagen. \nAblauf:\nDer erste Teil ist angeleitet:\n– Checkin & Ankommen\n– Anfangsmeditation\n– Vorstellungsrunde\n– Begegnungsübungen aus dem Bereich Tantra und Conscious Relating\n– Kurze Pause \nDer zweite Teil ist dann ein freies Fließen ohne Anleitung:\n– Es wird verschiedene Bereiche geben\, die du mit Neugier und Sinnlichkeit entdecken darfst\n– Abschlusskreis \nVerhaltenskodex:\nJede angeleitete Übung ist optional. Deine Grenzen werden respektiert.\nDies ist ein Event\, dass auf Konsens und Eigenverantwortung basiert!\nDie Einhaltung dieser Grundsätze ist die Voraussetzung für deine Teilnahme.\nVerstöße dagegen führen zum Ausschluss von der Veranstaltung. \nBitte behandle den Raum und die anderen Personen mit Sorgfalt und Respekt! \nUnd damit wir wirklich präsent sein können\, bitte ich dich vor oder während des Events keine Substanzen zu dir zu nehmen. Also weder Alkohol oder sonstige Drogen. Bei Kaffee drück ich ein Auge zu 😉 \nDresscode:\nDu sollst dich vor allem wohl fühlen! Wenn du magst\, kleide dich gerne bequem\, verspielt\, sinnlich\, vielleicht einfach nur mit einem Sarong oder einem Kimono. \nWas soll ich mitbringen?\nBitte bringe einen veganen Snack mit. Wir werden in der Küche einen Food-Sharing Space einrichten. 🙂\nFalls du Lust hast\, dem Massage Space einen Besuch abzustatten\, bringe bitte dein Lieblings Massageöl und ein Handtuch mit. \nZur Buchung:\nUm dich anzumelden\, kontaktiere Kirko per Mail: kirko.stimmer@gmail.com \nMehr Infos zu Silkes Angeboten findest du auf ihrer Website: https://silke-bartsch.de/oder auf ihrem Instagram Profil www.instagram.com/silke_bartsch_/  \nFalls du Interesse an weiteren tantrischen Events von Kirko hast\, schau gern in der Telegram Gruppe vorbei: https://t.me/+mvnf55-_9ClkMGVi\nUnd du findest uns auch auf Instagram: www.instagram.com/silke_bartsch_/  & www.instagram.com/kirko_stimmer/
URL:https://staging.hauslebenskraft.de/veranstaltung/tantra-tempel-3/
LOCATION:Haus Lebenskraft\, Gutenbergstr. 30\, Potsdam\, Brandenburg\, 14467\, Germany
CATEGORIES:Öffentlich, Raum der Erde
END:VEVENT
BEGIN:VEVENT
DTSTART;TZID=Europe/Berlin:20251017T170000
DTEND;TZID=Europe/Berlin:20251017T220000
DTSTAMP:20260421T093451
CREATED:20250917T181938Z
LAST-MODIFIED:20251002T113811Z
UID:10020011-1760720400-1760738400@staging.hauslebenskraft.de
SUMMARY:Temple Night
DESCRIPTION:Möchtest du deine Sinnlichkeit wiederentdecken? 🪷 \nSilke und ich laden dich ein zu einer Nacht voller spielerischer Begegnung\, bewusster Intimität\, tantrischer Berührungen und leckerem Kakao. 🫠 \nDie meisten Menschen verlieren den Kontakt zu ihren Wurzeln und zu ihrem Herzen\, wenn sexuelle Energie im Raum ist. Bei manchen entsteht Druck\, andere bekommen das Gefühl\, dass es nicht um sie geht\, für den nächsten ist es einfach ein Dopamin-Kick und einige wollen ihr Ego befriedigen 😨 \nUnsere Vision ist es\, einen Raum zu erschaffen\, in dem du bei dir bleiben kannst\, in dem du dich sicher fühlst und in dem du lernst\, Verantwortung für deine Erfahrungen zu übernehmen. Ein Ort\, an dem du frei erforschen kannst\, was dich wirklich sinnlich berührt 🌸\, an dem du eingeladen bist\, deine Masken fallen zu lassen 🎭\, um dein authentisches Selbst zu zeigen. Stets verbunden mit deiner Wurzel und deiner Herz Energie 🧡 \n⏰ Datum: 17.10.2025 17:00 – 22:00 Uhr\n🚪 Die Türen schließen um Viertel nach 5.\n📍 Ort: Haus Lebenskraft Potsdam\n💸 Vorverkauf: 55€ pro Person\nDie Sprache der Facilitation ist auf deutsch.\nBei Bedarf auch auf englisch. \nWir werden maximal 16 Personen. Wenn du dabei sein willst\, dann schreib uns ne Nachricht oder melde dich direkt an: https://forms.gle/Codhgv2aaZRJwdLw6 \nMehr Infos zu Silkes Angeboten findest du auf ihrer Website: https://silke-bartsch.de/\nFalls du Interesse an weiteren tantrischen Events von Kirko hast\, schau gern in der Telegram Gruppe vorbei: https://t.me/+mvnf55-_9ClkMGVi\noder folge uns auf Instagram: www.instagram.com/silke_bartsch_/  & www.instagram.com/kirko_stimmer/
URL:https://staging.hauslebenskraft.de/veranstaltung/tantra-2/
LOCATION:Haus Lebenskraft\, Gutenbergstr. 30\, Potsdam\, Brandenburg\, 14467\, Germany
CATEGORIES:Intern, Raum der Erde
END:VEVENT
BEGIN:VEVENT
DTSTART;TZID=Europe/Berlin:20250926T170000
DTEND;TZID=Europe/Berlin:20250926T220000
DTSTAMP:20260421T093451
CREATED:20250912T145022Z
LAST-MODIFIED:20250914T142555Z
UID:10019599-1758906000-1758924000@staging.hauslebenskraft.de
SUMMARY:Tantra Tempel Night
DESCRIPTION:Möchtest du deine Sinnlichkeit wiederentdecken? 🪷 \nAuf meinem Event in einer wunderschönen Location wirst du durch eine Nacht voller spielerischer Begegnung\, bewusster Intimität und tantrischer Berührungen geführt. 🫠 \nDie meisten Menschen verlieren den Kontakt zu ihren Wurzeln und zu ihrem Herzen\, wenn sexuelle Energie im Raum ist. Bei manchen entsteht Druck\, andere bekommen das Gefühl\, dass es nicht um sie geht\, für den nächsten ist es einfach ein Dopamin-Kick und einige wollen ihr Ego befriedigen 😨 \nMeine Vision ist es\, einen Raum zu erschaffen\, in dem du bei dir bleiben kannst\, in dem du dich sicher fühlst und in dem du lernst\, Verantwortung für deine Erfahrungen zu übernehmen. Ein Ort\, an dem du frei erforschen kannst\, was dich wirklich sinnlich berührt 🌸\, an dem du eingeladen bist\, deine Masken fallen zu lassen 🎭\, um dein authentisches Selbst zu zeigen. Stets verbunden mit deiner Wurzel und deiner Herz Energie 🧡 \nWenn das nach etwas klingt\, das du erleben möchtest\, schick mir einfach eine Nachricht! \n⏰ Datum: 26.09.2025 17:00 – 22:00 Uhr\n🚪 Die Türen schließen um Viertel nach 5.\n📍 Ort: Haus Lebenskraft Potsdam\n💸 Vorverkauf: 30€ pro Person\nDie Sprache der Facilitation ist auf deutsch.\nBei Bedarf auch auf englisch. \nFür weitere tantrische Veranstaltungen\ntritt meiner Telegram-Gruppe bei: https://t.me/+mvnf55-_9ClkMGVi\noder folge mir auf Instagram: www.instagram.com/kirko_stimmer/
URL:https://staging.hauslebenskraft.de/veranstaltung/tantra/
LOCATION:Haus Lebenskraft\, Gutenbergstr. 30\, Potsdam\, Brandenburg\, 14467\, Germany
CATEGORIES:Öffentlich, Raum der Erde
END:VEVENT
BEGIN:VEVENT
DTSTART;TZID=Europe/Berlin:20250906T170000
DTEND;TZID=Europe/Berlin:20250906T220000
DTSTAMP:20260421T093451
CREATED:20250901T172652Z
LAST-MODIFIED:20250903T083844Z
UID:10019577-1757178000-1757196000@staging.hauslebenskraft.de
SUMMARY:Tantra Workshop
DESCRIPTION:Do you want to rediscover your Sensuality? 🌊🌶\nYou will be guided through a night of playful interaction\, conscious intimacy and tantric touch. \nMost people disconnect from their center when engaging in sensuality and sexuality. It becomes something that creates pressure\, that I just do for someone else\, that is just another dopamine kick or that just pleases the ego😨 \nMy vision is to create a space\, where you can stay centered\, where you do feel safe\, where you learn how to take ownership for your experience and where you are invited to drop the masks to show your authentic self. 🌊🔥 \nIf that sounds like something you want to experience\, just send me a message! -> t.me/kirko83 \n⏰ Date: 06.09.2025 5pm – 10pm\n🚪 Doors will close quarter past 5.\n📍 Location: Haus Lebenskraft Potsdam\n💸 Price: 25€ per Person\n🇩🇪🇬🇧 Facilitation language will be adjusted to the needs of the participants \nFor more tantric events:\njoin my telegram group: https://t.me/+mvnf55-_9ClkMGVi\nor follow me on instagram: www.instagram.com/kirko_stimmer/
URL:https://staging.hauslebenskraft.de/veranstaltung/tantra-mit-kirko-res/
LOCATION:Haus Lebenskraft\, Gutenbergstr. 30\, Potsdam\, Brandenburg\, 14467\, Germany
CATEGORIES:Öffentlich, Sonnenraum
END:VEVENT
END:VCALENDAR