BEGIN:VCALENDAR
VERSION:2.0
PRODID:-//Haus Lebenskraft - ECPv6.15.20//NONSGML v1.0//EN
CALSCALE:GREGORIAN
METHOD:PUBLISH
X-WR-CALNAME:Haus Lebenskraft
X-ORIGINAL-URL:https://staging.hauslebenskraft.de
X-WR-CALDESC:Veranstaltungen für Haus Lebenskraft
REFRESH-INTERVAL;VALUE=DURATION:PT1H
X-Robots-Tag:noindex
X-PUBLISHED-TTL:PT1H
BEGIN:VTIMEZONE
TZID:Europe/Berlin
BEGIN:DAYLIGHT
TZOFFSETFROM:+0100
TZOFFSETTO:+0200
TZNAME:CEST
DTSTART:20240331T010000
END:DAYLIGHT
BEGIN:STANDARD
TZOFFSETFROM:+0200
TZOFFSETTO:+0100
TZNAME:CET
DTSTART:20241027T010000
END:STANDARD
BEGIN:DAYLIGHT
TZOFFSETFROM:+0100
TZOFFSETTO:+0200
TZNAME:CEST
DTSTART:20250330T010000
END:DAYLIGHT
BEGIN:STANDARD
TZOFFSETFROM:+0200
TZOFFSETTO:+0100
TZNAME:CET
DTSTART:20251026T010000
END:STANDARD
BEGIN:DAYLIGHT
TZOFFSETFROM:+0100
TZOFFSETTO:+0200
TZNAME:CEST
DTSTART:20260329T010000
END:DAYLIGHT
BEGIN:STANDARD
TZOFFSETFROM:+0200
TZOFFSETTO:+0100
TZNAME:CET
DTSTART:20261025T010000
END:STANDARD
BEGIN:DAYLIGHT
TZOFFSETFROM:+0100
TZOFFSETTO:+0200
TZNAME:CEST
DTSTART:20270328T010000
END:DAYLIGHT
BEGIN:STANDARD
TZOFFSETFROM:+0200
TZOFFSETTO:+0100
TZNAME:CET
DTSTART:20271031T010000
END:STANDARD
END:VTIMEZONE
BEGIN:VEVENT
DTSTART;TZID=Europe/Berlin:20260322T160000
DTEND;TZID=Europe/Berlin:20260322T210000
DTSTAMP:20260422T020937
CREATED:20241015T083903Z
LAST-MODIFIED:20251118T145318Z
UID:10023786-1774195200-1774213200@staging.hauslebenskraft.de
SUMMARY:Intern Liebesforschungsgruppe
DESCRIPTION:
URL:https://staging.hauslebenskraft.de/veranstaltung/intern-liebesforschungsgruppe/2026-03-22/
LOCATION:Haus Lebenskraft\, Gutenbergstr. 30\, Potsdam\, Brandenburg\, 14467\, Germany
CATEGORIES:Intern, Raum der Erde
ORGANIZER;CN="Katrin Frey":MAILTO:tine.frey@freybrief.de
END:VEVENT
BEGIN:VEVENT
DTSTART;TZID=Europe/Berlin:20260111T160000
DTEND;TZID=Europe/Berlin:20260111T210000
DTSTAMP:20260422T020937
CREATED:20241015T083903Z
LAST-MODIFIED:20251118T145318Z
UID:10023785-1768147200-1768165200@staging.hauslebenskraft.de
SUMMARY:Intern Liebesforschungsgruppe
DESCRIPTION:
URL:https://staging.hauslebenskraft.de/veranstaltung/intern-liebesforschungsgruppe/2026-01-11/
LOCATION:Haus Lebenskraft\, Gutenbergstr. 30\, Potsdam\, Brandenburg\, 14467\, Germany
CATEGORIES:Intern, Raum der Erde
ORGANIZER;CN="Katrin Frey":MAILTO:tine.frey@freybrief.de
END:VEVENT
BEGIN:VEVENT
DTSTART;TZID=Europe/Berlin:20251115T140000
DTEND;TZID=Europe/Berlin:20251115T190000
DTSTAMP:20260422T020937
CREATED:20241015T083903Z
LAST-MODIFIED:20251118T145318Z
UID:10017862-1763215200-1763233200@staging.hauslebenskraft.de
SUMMARY:Intern Liebesforschungsgruppe
DESCRIPTION:
URL:https://staging.hauslebenskraft.de/veranstaltung/intern-liebesforschungsgruppe/2025-11-15/
LOCATION:Haus Lebenskraft\, Gutenbergstr. 30\, Potsdam\, Brandenburg\, 14467\, Germany
CATEGORIES:Intern, Raum der Erde
ORGANIZER;CN="Katrin Frey":MAILTO:tine.frey@freybrief.de
END:VEVENT
BEGIN:VEVENT
DTSTART;TZID=Europe/Berlin:20250907T140000
DTEND;TZID=Europe/Berlin:20250907T190000
DTSTAMP:20260422T020937
CREATED:20241015T083903Z
LAST-MODIFIED:20251118T145318Z
UID:10017860-1757253600-1757271600@staging.hauslebenskraft.de
SUMMARY:Intern Liebesforschungsgruppe
DESCRIPTION:
URL:https://staging.hauslebenskraft.de/veranstaltung/intern-liebesforschungsgruppe/2025-09-07/
LOCATION:Haus Lebenskraft\, Gutenbergstr. 30\, Potsdam\, Brandenburg\, 14467\, Germany
CATEGORIES:Intern, Raum der Erde
ORGANIZER;CN="Katrin Frey":MAILTO:tine.frey@freybrief.de
END:VEVENT
BEGIN:VEVENT
DTSTART;TZID=Europe/Berlin:20250810T140000
DTEND;TZID=Europe/Berlin:20250810T190000
DTSTAMP:20260422T020937
CREATED:20241015T083903Z
LAST-MODIFIED:20251118T145318Z
UID:10017859-1754834400-1754852400@staging.hauslebenskraft.de
SUMMARY:Intern Liebesforschungsgruppe
DESCRIPTION:
URL:https://staging.hauslebenskraft.de/veranstaltung/intern-liebesforschungsgruppe/2025-08-10/
LOCATION:Haus Lebenskraft\, Gutenbergstr. 30\, Potsdam\, Brandenburg\, 14467\, Germany
CATEGORIES:Intern, Raum der Erde
ORGANIZER;CN="Katrin Frey":MAILTO:tine.frey@freybrief.de
END:VEVENT
BEGIN:VEVENT
DTSTART;TZID=Europe/Berlin:20250712T140000
DTEND;TZID=Europe/Berlin:20250712T190000
DTSTAMP:20260422T020937
CREATED:20241015T083903Z
LAST-MODIFIED:20251118T145318Z
UID:10017858-1752328800-1752346800@staging.hauslebenskraft.de
SUMMARY:Intern Liebesforschungsgruppe
DESCRIPTION:
URL:https://staging.hauslebenskraft.de/veranstaltung/intern-liebesforschungsgruppe/2025-07-12/
LOCATION:Haus Lebenskraft\, Gutenbergstr. 30\, Potsdam\, Brandenburg\, 14467\, Germany
CATEGORIES:Intern, Raum der Erde
ORGANIZER;CN="Katrin Frey":MAILTO:tine.frey@freybrief.de
END:VEVENT
BEGIN:VEVENT
DTSTART;TZID=Europe/Berlin:20250517T140000
DTEND;TZID=Europe/Berlin:20250517T190000
DTSTAMP:20260422T020937
CREATED:20241015T083903Z
LAST-MODIFIED:20251118T145318Z
UID:10017856-1747490400-1747508400@staging.hauslebenskraft.de
SUMMARY:Intern Liebesforschungsgruppe
DESCRIPTION:
URL:https://staging.hauslebenskraft.de/veranstaltung/intern-liebesforschungsgruppe/2025-05-17/
LOCATION:Haus Lebenskraft\, Gutenbergstr. 30\, Potsdam\, Brandenburg\, 14467\, Germany
CATEGORIES:Intern, Raum der Erde
ORGANIZER;CN="Katrin Frey":MAILTO:tine.frey@freybrief.de
END:VEVENT
END:VCALENDAR