BEGIN:VCALENDAR
VERSION:2.0
PRODID:-//Haus Lebenskraft - ECPv6.15.20//NONSGML v1.0//EN
CALSCALE:GREGORIAN
METHOD:PUBLISH
X-ORIGINAL-URL:https://staging.hauslebenskraft.de
X-WR-CALDESC:Veranstaltungen für Haus Lebenskraft
REFRESH-INTERVAL;VALUE=DURATION:PT1H
X-Robots-Tag:noindex
X-PUBLISHED-TTL:PT1H
BEGIN:VTIMEZONE
TZID:Europe/Berlin
BEGIN:DAYLIGHT
TZOFFSETFROM:+0100
TZOFFSETTO:+0200
TZNAME:CEST
DTSTART:20250330T010000
END:DAYLIGHT
BEGIN:STANDARD
TZOFFSETFROM:+0200
TZOFFSETTO:+0100
TZNAME:CET
DTSTART:20251026T010000
END:STANDARD
BEGIN:DAYLIGHT
TZOFFSETFROM:+0100
TZOFFSETTO:+0200
TZNAME:CEST
DTSTART:20260329T010000
END:DAYLIGHT
BEGIN:STANDARD
TZOFFSETFROM:+0200
TZOFFSETTO:+0100
TZNAME:CET
DTSTART:20261025T010000
END:STANDARD
BEGIN:DAYLIGHT
TZOFFSETFROM:+0100
TZOFFSETTO:+0200
TZNAME:CEST
DTSTART:20270328T010000
END:DAYLIGHT
BEGIN:STANDARD
TZOFFSETFROM:+0200
TZOFFSETTO:+0100
TZNAME:CET
DTSTART:20271031T010000
END:STANDARD
END:VTIMEZONE
BEGIN:VEVENT
DTSTART;TZID=Europe/Berlin:20260424T183000
DTEND;TZID=Europe/Berlin:20260424T200000
DTSTAMP:20260421T212027
CREATED:20260313T155948Z
LAST-MODIFIED:20260313T155954Z
UID:10025092-1777055400-1777060800@staging.hauslebenskraft.de
SUMMARY:Yoga für deine Gedanken
DESCRIPTION:  \nRaus aus dem Gedankenkarussell mit The Work von Byron Katie.\nFür Anfänger und Fortgeschrittene und für alle\, die lernen möchten\, mit ihren Gedanken leichter umzugehen. \nIn diesem Erlebnisabend widmen wir uns nicht dem Körper\, sondern deinem Geist. Wir „stretchen“ Gedanken achtsam und wohltuend\, sodass innere Enge weicher werden kann. Du erlebst\, wie befreiend es ist\, wenn ein Gedanke\, der dich lange begleitet hat\, seine Schwere verliert – und wie sich Klarheit anfühlt\, wenn du nicht mehr automatisch glaubst\, was dein Kopf dir erzählt. Wir nehmen uns bewusst Zeit für unser inneres Erleben und schenken unseren Gedanken eine Pause – nicht durch Wegdrücken\, sondern durch neugierige\, freundliche Hinwendung. \nWir arbeiten mit The Work von Byron Katie (IBSR)\, einer klaren\, meditativen Methode\, mit der du belastende Gedanken Schritt für Schritt überprüfen kannst. Durch diesen meditativen Prozess entsteht Raum für Ruhe\, neue Sichtweisen und die Freiheit\, aus dem Gedankenkarussell auszusteigen. Es geht nicht um Theorie\, sondern um Praxis: ums Erleben\, Fühlen und Ausprobieren. \nWenn du dir einen Abend gönnen möchtest\, an dem deine Gedanken zur Ruhe kommen dürfen und du dir selbst etwas Gutes tust\, bist du herzlich willkommen. \nTermine in Potsdam\nFr\, 24. April 2026\nFr\, 29. Mai 2026\njeweils 18:30–20:30 Uhr \nÜber die Seminarleiterin Kati:\nIch arbeite seit 6 Jahren mit The Work von Byron Katie und begleite Menschen dabei\, ihre Gedanken liebevoll zu erforschen. Was mich daran fasziniert\, ist die stille Klarheit\, die entsteht\, wenn wir uns unseren inneren Geschichten ohne Druck\, aber mit echter Neugier zuwenden. Für mich ist diese Arbeit eine Form der Meditation – ein Weg\, der uns zurück zu uns selbst führt\, zu mehr Leichtigkeit\, Präsenz und innerer Freiheit. \nIn meinen Kursen schaffe ich einen geschützten Raum\, in dem du nichts leisten musst. Du darfst einfach da sein\, mit allem\, was dich gerade bewegt. Ich teile das\, was mir selbst geholfen hat: innezuhalten\, zuzuhören\, zu hinterfragen – und dabei immer wieder zu entdecken\, wie freundlich unser Geist werden kann\, wenn wir ihm Aufmerksamkeit schenken. \nhttps://ohnezweifel.de/potsdam-yoga-fuer-deine-gedanken/ \nOrt\nHaus Lebenskraft Gutenbergstraße 30 14469 Potsdam\nRaum Erde \nPreis\n20 EUR \nBitte mitbringen\n\nNeugier und die Bereitschaft\, etwas Neues auszuprobieren\nEin Notizbuch oder etwas zum Schreiben\nDie Entscheidung\, dein Handy für diese Zeit auszuschalten\n\nOffenheit\, ganz bei dir zu sein und den Alltag draußen zu lass
URL:https://staging.hauslebenskraft.de/veranstaltung/yoga-fuer-deine-gedanken-2-2/
LOCATION:Haus Lebenskraft\, Gutenbergstr. 30\, Potsdam\, Brandenburg\, 14467\, Germany
CATEGORIES:Öffentlich, Raum der Erde
ATTACH;FMTTYPE=image/png:https://staging.hauslebenskraft.de/wp-content/uploads/2026/02/Yoga-The-Work-Meditatives-Schreiben-Achtsamkeit-Tipps-.png
ORGANIZER;CN="Kati Koprek":MAILTO:mail@ohnezweifel.de
END:VEVENT
BEGIN:VEVENT
DTSTART;TZID=Europe/Berlin:20260529T183000
DTEND;TZID=Europe/Berlin:20260529T200000
DTSTAMP:20260421T212027
CREATED:20260306T134525Z
LAST-MODIFIED:20260313T155840Z
UID:10025093-1780079400-1780084800@staging.hauslebenskraft.de
SUMMARY:Yoga für deine Gedanken
DESCRIPTION:  \nRaus aus dem Gedankenkarussell mit The Work von Byron Katie.\nFür Anfänger und Fortgeschrittene und für alle\, die lernen möchten\, mit ihren Gedanken leichter umzugehen. \nIn diesem Erlebnisabend widmen wir uns nicht dem Körper\, sondern deinem Geist. Wir „stretchen“ Gedanken achtsam und wohltuend\, sodass innere Enge weicher werden kann. Du erlebst\, wie befreiend es ist\, wenn ein Gedanke\, der dich lange begleitet hat\, seine Schwere verliert – und wie sich Klarheit anfühlt\, wenn du nicht mehr automatisch glaubst\, was dein Kopf dir erzählt. Wir nehmen uns bewusst Zeit für unser inneres Erleben und schenken unseren Gedanken eine Pause – nicht durch Wegdrücken\, sondern durch neugierige\, freundliche Hinwendung. \nWir arbeiten mit The Work von Byron Katie (IBSR)\, einer klaren\, meditativen Methode\, mit der du belastende Gedanken Schritt für Schritt überprüfen kannst. Durch diesen meditativen Prozess entsteht Raum für Ruhe\, neue Sichtweisen und die Freiheit\, aus dem Gedankenkarussell auszusteigen. Es geht nicht um Theorie\, sondern um Praxis: ums Erleben\, Fühlen und Ausprobieren. \nWenn du dir einen Abend gönnen möchtest\, an dem deine Gedanken zur Ruhe kommen dürfen und du dir selbst etwas Gutes tust\, bist du herzlich willkommen. \nTermine in Potsdam\nFr\, 24. April 2026\nFr\, 29. Mai 2026\njeweils 18:30–20:30 Uhr \nÜber die Seminarleiterin Kati:\nIch arbeite seit 6 Jahren mit The Work von Byron Katie und begleite Menschen dabei\, ihre Gedanken liebevoll zu erforschen. Was mich daran fasziniert\, ist die stille Klarheit\, die entsteht\, wenn wir uns unseren inneren Geschichten ohne Druck\, aber mit echter Neugier zuwenden. Für mich ist diese Arbeit eine Form der Meditation – ein Weg\, der uns zurück zu uns selbst führt\, zu mehr Leichtigkeit\, Präsenz und innerer Freiheit. \nIn meinen Kursen schaffe ich einen geschützten Raum\, in dem du nichts leisten musst. Du darfst einfach da sein\, mit allem\, was dich gerade bewegt. Ich teile das\, was mir selbst geholfen hat: innezuhalten\, zuzuhören\, zu hinterfragen – und dabei immer wieder zu entdecken\, wie freundlich unser Geist werden kann\, wenn wir ihm Aufmerksamkeit schenken. \nhttps://ohnezweifel.de/potsdam-yoga-fuer-deine-gedanken/ \nOrt\nHaus Lebenskraft Gutenbergstraße 30 14469 Potsdam\nRaum Erde \nPreis\n20 EUR \nBitte mitbringen\n\nNeugier und die Bereitschaft\, etwas Neues auszuprobieren\nEin Notizbuch oder etwas zum Schreiben\nDie Entscheidung\, dein Handy für diese Zeit auszuschalten\n\nOffenheit\, ganz bei dir zu sein und den Alltag draußen zu lass
URL:https://staging.hauslebenskraft.de/veranstaltung/yoga-fuer-deine-gedanken-2/2026-05-29/
LOCATION:Haus Lebenskraft\, Gutenbergstr. 30\, Potsdam\, Brandenburg\, 14467\, Germany
CATEGORIES:Öffentlich, Raum der Erde
ATTACH;FMTTYPE=image/png:https://staging.hauslebenskraft.de/wp-content/uploads/2026/02/Yoga-The-Work-Meditatives-Schreiben-Achtsamkeit-Tipps-.png
ORGANIZER;CN="Kati Koprek":MAILTO:mail@ohnezweifel.de
END:VEVENT
BEGIN:VEVENT
DTSTART;TZID=Europe/Berlin:20260627T093000
DTEND;TZID=Europe/Berlin:20260627T180000
DTSTAMP:20260421T212027
CREATED:20260213T181747Z
LAST-MODIFIED:20260213T181747Z
UID:10025094-1782552600-1782583200@staging.hauslebenskraft.de
SUMMARY:Yoga für dien Gedanken
DESCRIPTION:
URL:https://staging.hauslebenskraft.de/veranstaltung/yoga-fuer-dien-gedanken/2026-06-27/
LOCATION:Haus Lebenskraft\, Gutenbergstr. 30\, Potsdam\, Brandenburg\, 14467\, Germany
CATEGORIES:Intern, Raum der Erde
ORGANIZER;CN="Kati Koprek":MAILTO:mail@ohnezweifel.de
END:VEVENT
BEGIN:VEVENT
DTSTART;TZID=Europe/Berlin:20260628T093000
DTEND;TZID=Europe/Berlin:20260628T180000
DTSTAMP:20260421T212027
CREATED:20260213T181747Z
LAST-MODIFIED:20260213T181747Z
UID:10025095-1782639000-1782669600@staging.hauslebenskraft.de
SUMMARY:Yoga für dien Gedanken
DESCRIPTION:
URL:https://staging.hauslebenskraft.de/veranstaltung/yoga-fuer-dien-gedanken/2026-06-28/
LOCATION:Haus Lebenskraft\, Gutenbergstr. 30\, Potsdam\, Brandenburg\, 14467\, Germany
CATEGORIES:Intern, Raum der Erde
ORGANIZER;CN="Kati Koprek":MAILTO:mail@ohnezweifel.de
END:VEVENT
END:VCALENDAR