BEGIN:VCALENDAR
VERSION:2.0
PRODID:-//Haus Lebenskraft - ECPv6.15.20//NONSGML v1.0//EN
CALSCALE:GREGORIAN
METHOD:PUBLISH
X-WR-CALNAME:Haus Lebenskraft
X-ORIGINAL-URL:https://staging.hauslebenskraft.de
X-WR-CALDESC:Veranstaltungen für Haus Lebenskraft
REFRESH-INTERVAL;VALUE=DURATION:PT1H
X-Robots-Tag:noindex
X-PUBLISHED-TTL:PT1H
BEGIN:VTIMEZONE
TZID:Europe/Berlin
BEGIN:DAYLIGHT
TZOFFSETFROM:+0100
TZOFFSETTO:+0200
TZNAME:CEST
DTSTART:20270328T010000
END:DAYLIGHT
BEGIN:STANDARD
TZOFFSETFROM:+0200
TZOFFSETTO:+0100
TZNAME:CET
DTSTART:20271031T010000
END:STANDARD
BEGIN:DAYLIGHT
TZOFFSETFROM:+0100
TZOFFSETTO:+0200
TZNAME:CEST
DTSTART:20280326T010000
END:DAYLIGHT
BEGIN:STANDARD
TZOFFSETFROM:+0200
TZOFFSETTO:+0100
TZNAME:CET
DTSTART:20281029T010000
END:STANDARD
BEGIN:DAYLIGHT
TZOFFSETFROM:+0100
TZOFFSETTO:+0200
TZNAME:CEST
DTSTART:20290325T010000
END:DAYLIGHT
BEGIN:STANDARD
TZOFFSETFROM:+0200
TZOFFSETTO:+0100
TZNAME:CET
DTSTART:20291028T010000
END:STANDARD
BEGIN:DAYLIGHT
TZOFFSETFROM:+0100
TZOFFSETTO:+0200
TZNAME:CEST
DTSTART:20300331T010000
END:DAYLIGHT
BEGIN:STANDARD
TZOFFSETFROM:+0200
TZOFFSETTO:+0100
TZNAME:CET
DTSTART:20301027T010000
END:STANDARD
BEGIN:DAYLIGHT
TZOFFSETFROM:+0100
TZOFFSETTO:+0200
TZNAME:CEST
DTSTART:20310330T010000
END:DAYLIGHT
BEGIN:STANDARD
TZOFFSETFROM:+0200
TZOFFSETTO:+0100
TZNAME:CET
DTSTART:20311026T010000
END:STANDARD
END:VTIMEZONE
BEGIN:VEVENT
DTSTART;TZID=Europe/Berlin:20280202T180000
DTEND;TZID=Europe/Berlin:20280202T203000
DTSTAMP:20260420T073743
CREATED:20260127T164029Z
LAST-MODIFIED:20260202T142233Z
UID:10023508-1833127200-1833136200@staging.hauslebenskraft.de
SUMMARY:Visionen für die Neue Zeit
DESCRIPTION:Gesprächskreis für die Neue Zeit\nfür wache Menschen mit Frank \n 
URL:https://staging.hauslebenskraft.de/veranstaltung/visionen-fuer-die-neue-zeit-2-2/2028-02-02/
LOCATION:Haus Lebenskraft\, Gutenbergstr. 30\, Potsdam\, Brandenburg\, 14467\, Germany
CATEGORIES:Öffentlich, Sonnenraum
ATTACH;FMTTYPE=image/jpeg:https://staging.hauslebenskraft.de/wp-content/uploads/2026/02/Visionen_fuer_die_Neue_Zeit_Frank_Ritschel_Haus_Lebenskraft_Potsdam-1.jpg
ORGANIZER;CN="Frank Ritschel":MAILTO:frank@hauslebenskraft.de
END:VEVENT
BEGIN:VEVENT
DTSTART;TZID=Europe/Berlin:20280301T180000
DTEND;TZID=Europe/Berlin:20280301T203000
DTSTAMP:20260420T073743
CREATED:20260127T164029Z
LAST-MODIFIED:20260202T142233Z
UID:10023509-1835546400-1835555400@staging.hauslebenskraft.de
SUMMARY:Visionen für die Neue Zeit
DESCRIPTION:Gesprächskreis für die Neue Zeit\nfür wache Menschen mit Frank \n 
URL:https://staging.hauslebenskraft.de/veranstaltung/visionen-fuer-die-neue-zeit-2-2/2028-03-01/
LOCATION:Haus Lebenskraft\, Gutenbergstr. 30\, Potsdam\, Brandenburg\, 14467\, Germany
CATEGORIES:Öffentlich, Sonnenraum
ATTACH;FMTTYPE=image/jpeg:https://staging.hauslebenskraft.de/wp-content/uploads/2026/02/Visionen_fuer_die_Neue_Zeit_Frank_Ritschel_Haus_Lebenskraft_Potsdam-1.jpg
ORGANIZER;CN="Frank Ritschel":MAILTO:frank@hauslebenskraft.de
END:VEVENT
BEGIN:VEVENT
DTSTART;TZID=Europe/Berlin:20280405T180000
DTEND;TZID=Europe/Berlin:20280405T203000
DTSTAMP:20260420T073743
CREATED:20260127T164029Z
LAST-MODIFIED:20260202T142233Z
UID:10023510-1838570400-1838579400@staging.hauslebenskraft.de
SUMMARY:Visionen für die Neue Zeit
DESCRIPTION:Gesprächskreis für die Neue Zeit\nfür wache Menschen mit Frank \n 
URL:https://staging.hauslebenskraft.de/veranstaltung/visionen-fuer-die-neue-zeit-2-2/2028-04-05/
LOCATION:Haus Lebenskraft\, Gutenbergstr. 30\, Potsdam\, Brandenburg\, 14467\, Germany
CATEGORIES:Öffentlich, Sonnenraum
ATTACH;FMTTYPE=image/jpeg:https://staging.hauslebenskraft.de/wp-content/uploads/2026/02/Visionen_fuer_die_Neue_Zeit_Frank_Ritschel_Haus_Lebenskraft_Potsdam-1.jpg
ORGANIZER;CN="Frank Ritschel":MAILTO:frank@hauslebenskraft.de
END:VEVENT
BEGIN:VEVENT
DTSTART;TZID=Europe/Berlin:20280503T180000
DTEND;TZID=Europe/Berlin:20280503T203000
DTSTAMP:20260420T073743
CREATED:20260127T164029Z
LAST-MODIFIED:20260202T142233Z
UID:10023511-1840989600-1840998600@staging.hauslebenskraft.de
SUMMARY:Visionen für die Neue Zeit
DESCRIPTION:Gesprächskreis für die Neue Zeit\nfür wache Menschen mit Frank \n 
URL:https://staging.hauslebenskraft.de/veranstaltung/visionen-fuer-die-neue-zeit-2-2/2028-05-03/
LOCATION:Haus Lebenskraft\, Gutenbergstr. 30\, Potsdam\, Brandenburg\, 14467\, Germany
CATEGORIES:Öffentlich, Sonnenraum
ATTACH;FMTTYPE=image/jpeg:https://staging.hauslebenskraft.de/wp-content/uploads/2026/02/Visionen_fuer_die_Neue_Zeit_Frank_Ritschel_Haus_Lebenskraft_Potsdam-1.jpg
ORGANIZER;CN="Frank Ritschel":MAILTO:frank@hauslebenskraft.de
END:VEVENT
BEGIN:VEVENT
DTSTART;TZID=Europe/Berlin:20280607T180000
DTEND;TZID=Europe/Berlin:20280607T203000
DTSTAMP:20260420T073743
CREATED:20260127T164029Z
LAST-MODIFIED:20260202T142233Z
UID:10023512-1844013600-1844022600@staging.hauslebenskraft.de
SUMMARY:Visionen für die Neue Zeit
DESCRIPTION:Gesprächskreis für die Neue Zeit\nfür wache Menschen mit Frank \n 
URL:https://staging.hauslebenskraft.de/veranstaltung/visionen-fuer-die-neue-zeit-2-2/2028-06-07/
LOCATION:Haus Lebenskraft\, Gutenbergstr. 30\, Potsdam\, Brandenburg\, 14467\, Germany
CATEGORIES:Öffentlich, Sonnenraum
ATTACH;FMTTYPE=image/jpeg:https://staging.hauslebenskraft.de/wp-content/uploads/2026/02/Visionen_fuer_die_Neue_Zeit_Frank_Ritschel_Haus_Lebenskraft_Potsdam-1.jpg
ORGANIZER;CN="Frank Ritschel":MAILTO:frank@hauslebenskraft.de
END:VEVENT
BEGIN:VEVENT
DTSTART;TZID=Europe/Berlin:20280705T180000
DTEND;TZID=Europe/Berlin:20280705T203000
DTSTAMP:20260420T073743
CREATED:20260127T164029Z
LAST-MODIFIED:20260202T142233Z
UID:10023513-1846432800-1846441800@staging.hauslebenskraft.de
SUMMARY:Visionen für die Neue Zeit
DESCRIPTION:Gesprächskreis für die Neue Zeit\nfür wache Menschen mit Frank \n 
URL:https://staging.hauslebenskraft.de/veranstaltung/visionen-fuer-die-neue-zeit-2-2/2028-07-05/
LOCATION:Haus Lebenskraft\, Gutenbergstr. 30\, Potsdam\, Brandenburg\, 14467\, Germany
CATEGORIES:Öffentlich, Sonnenraum
ATTACH;FMTTYPE=image/jpeg:https://staging.hauslebenskraft.de/wp-content/uploads/2026/02/Visionen_fuer_die_Neue_Zeit_Frank_Ritschel_Haus_Lebenskraft_Potsdam-1.jpg
ORGANIZER;CN="Frank Ritschel":MAILTO:frank@hauslebenskraft.de
END:VEVENT
BEGIN:VEVENT
DTSTART;TZID=Europe/Berlin:20280802T180000
DTEND;TZID=Europe/Berlin:20280802T203000
DTSTAMP:20260420T073743
CREATED:20260127T164029Z
LAST-MODIFIED:20260202T142233Z
UID:10023514-1848852000-1848861000@staging.hauslebenskraft.de
SUMMARY:Visionen für die Neue Zeit
DESCRIPTION:Gesprächskreis für die Neue Zeit\nfür wache Menschen mit Frank \n 
URL:https://staging.hauslebenskraft.de/veranstaltung/visionen-fuer-die-neue-zeit-2-2/2028-08-02/
LOCATION:Haus Lebenskraft\, Gutenbergstr. 30\, Potsdam\, Brandenburg\, 14467\, Germany
CATEGORIES:Öffentlich, Sonnenraum
ATTACH;FMTTYPE=image/jpeg:https://staging.hauslebenskraft.de/wp-content/uploads/2026/02/Visionen_fuer_die_Neue_Zeit_Frank_Ritschel_Haus_Lebenskraft_Potsdam-1.jpg
ORGANIZER;CN="Frank Ritschel":MAILTO:frank@hauslebenskraft.de
END:VEVENT
BEGIN:VEVENT
DTSTART;TZID=Europe/Berlin:20280906T180000
DTEND;TZID=Europe/Berlin:20280906T203000
DTSTAMP:20260420T073743
CREATED:20260127T164029Z
LAST-MODIFIED:20260202T142233Z
UID:10023515-1851876000-1851885000@staging.hauslebenskraft.de
SUMMARY:Visionen für die Neue Zeit
DESCRIPTION:Gesprächskreis für die Neue Zeit\nfür wache Menschen mit Frank \n 
URL:https://staging.hauslebenskraft.de/veranstaltung/visionen-fuer-die-neue-zeit-2-2/2028-09-06/
LOCATION:Haus Lebenskraft\, Gutenbergstr. 30\, Potsdam\, Brandenburg\, 14467\, Germany
CATEGORIES:Öffentlich, Sonnenraum
ATTACH;FMTTYPE=image/jpeg:https://staging.hauslebenskraft.de/wp-content/uploads/2026/02/Visionen_fuer_die_Neue_Zeit_Frank_Ritschel_Haus_Lebenskraft_Potsdam-1.jpg
ORGANIZER;CN="Frank Ritschel":MAILTO:frank@hauslebenskraft.de
END:VEVENT
BEGIN:VEVENT
DTSTART;TZID=Europe/Berlin:20281004T180000
DTEND;TZID=Europe/Berlin:20281004T203000
DTSTAMP:20260420T073743
CREATED:20260127T164029Z
LAST-MODIFIED:20260202T142233Z
UID:10023516-1854295200-1854304200@staging.hauslebenskraft.de
SUMMARY:Visionen für die Neue Zeit
DESCRIPTION:Gesprächskreis für die Neue Zeit\nfür wache Menschen mit Frank \n 
URL:https://staging.hauslebenskraft.de/veranstaltung/visionen-fuer-die-neue-zeit-2-2/2028-10-04/
LOCATION:Haus Lebenskraft\, Gutenbergstr. 30\, Potsdam\, Brandenburg\, 14467\, Germany
CATEGORIES:Öffentlich, Sonnenraum
ATTACH;FMTTYPE=image/jpeg:https://staging.hauslebenskraft.de/wp-content/uploads/2026/02/Visionen_fuer_die_Neue_Zeit_Frank_Ritschel_Haus_Lebenskraft_Potsdam-1.jpg
ORGANIZER;CN="Frank Ritschel":MAILTO:frank@hauslebenskraft.de
END:VEVENT
BEGIN:VEVENT
DTSTART;TZID=Europe/Berlin:20281101T180000
DTEND;TZID=Europe/Berlin:20281101T203000
DTSTAMP:20260420T073743
CREATED:20260127T164029Z
LAST-MODIFIED:20260202T142233Z
UID:10023517-1856714400-1856723400@staging.hauslebenskraft.de
SUMMARY:Visionen für die Neue Zeit
DESCRIPTION:Gesprächskreis für die Neue Zeit\nfür wache Menschen mit Frank \n 
URL:https://staging.hauslebenskraft.de/veranstaltung/visionen-fuer-die-neue-zeit-2-2/2028-11-01/
LOCATION:Haus Lebenskraft\, Gutenbergstr. 30\, Potsdam\, Brandenburg\, 14467\, Germany
CATEGORIES:Öffentlich, Sonnenraum
ATTACH;FMTTYPE=image/jpeg:https://staging.hauslebenskraft.de/wp-content/uploads/2026/02/Visionen_fuer_die_Neue_Zeit_Frank_Ritschel_Haus_Lebenskraft_Potsdam-1.jpg
ORGANIZER;CN="Frank Ritschel":MAILTO:frank@hauslebenskraft.de
END:VEVENT
BEGIN:VEVENT
DTSTART;TZID=Europe/Berlin:20281206T180000
DTEND;TZID=Europe/Berlin:20281206T203000
DTSTAMP:20260420T073743
CREATED:20260127T164029Z
LAST-MODIFIED:20260202T142233Z
UID:10023518-1859738400-1859747400@staging.hauslebenskraft.de
SUMMARY:Visionen für die Neue Zeit
DESCRIPTION:Gesprächskreis für die Neue Zeit\nfür wache Menschen mit Frank \n 
URL:https://staging.hauslebenskraft.de/veranstaltung/visionen-fuer-die-neue-zeit-2-2/2028-12-06/
LOCATION:Haus Lebenskraft\, Gutenbergstr. 30\, Potsdam\, Brandenburg\, 14467\, Germany
CATEGORIES:Öffentlich, Sonnenraum
ATTACH;FMTTYPE=image/jpeg:https://staging.hauslebenskraft.de/wp-content/uploads/2026/02/Visionen_fuer_die_Neue_Zeit_Frank_Ritschel_Haus_Lebenskraft_Potsdam-1.jpg
ORGANIZER;CN="Frank Ritschel":MAILTO:frank@hauslebenskraft.de
END:VEVENT
BEGIN:VEVENT
DTSTART;TZID=Europe/Berlin:20290103T180000
DTEND;TZID=Europe/Berlin:20290103T203000
DTSTAMP:20260420T073743
CREATED:20260127T164029Z
LAST-MODIFIED:20260202T142233Z
UID:10023519-1862157600-1862166600@staging.hauslebenskraft.de
SUMMARY:Visionen für die Neue Zeit
DESCRIPTION:Gesprächskreis für die Neue Zeit\nfür wache Menschen mit Frank \n 
URL:https://staging.hauslebenskraft.de/veranstaltung/visionen-fuer-die-neue-zeit-2-2/2029-01-03/
LOCATION:Haus Lebenskraft\, Gutenbergstr. 30\, Potsdam\, Brandenburg\, 14467\, Germany
CATEGORIES:Öffentlich, Sonnenraum
ATTACH;FMTTYPE=image/jpeg:https://staging.hauslebenskraft.de/wp-content/uploads/2026/02/Visionen_fuer_die_Neue_Zeit_Frank_Ritschel_Haus_Lebenskraft_Potsdam-1.jpg
ORGANIZER;CN="Frank Ritschel":MAILTO:frank@hauslebenskraft.de
END:VEVENT
BEGIN:VEVENT
DTSTART;TZID=Europe/Berlin:20290207T180000
DTEND;TZID=Europe/Berlin:20290207T203000
DTSTAMP:20260420T073743
CREATED:20260127T164029Z
LAST-MODIFIED:20260202T142233Z
UID:10023520-1865181600-1865190600@staging.hauslebenskraft.de
SUMMARY:Visionen für die Neue Zeit
DESCRIPTION:Gesprächskreis für die Neue Zeit\nfür wache Menschen mit Frank \n 
URL:https://staging.hauslebenskraft.de/veranstaltung/visionen-fuer-die-neue-zeit-2-2/2029-02-07/
LOCATION:Haus Lebenskraft\, Gutenbergstr. 30\, Potsdam\, Brandenburg\, 14467\, Germany
CATEGORIES:Öffentlich, Sonnenraum
ATTACH;FMTTYPE=image/jpeg:https://staging.hauslebenskraft.de/wp-content/uploads/2026/02/Visionen_fuer_die_Neue_Zeit_Frank_Ritschel_Haus_Lebenskraft_Potsdam-1.jpg
ORGANIZER;CN="Frank Ritschel":MAILTO:frank@hauslebenskraft.de
END:VEVENT
BEGIN:VEVENT
DTSTART;TZID=Europe/Berlin:20290307T180000
DTEND;TZID=Europe/Berlin:20290307T203000
DTSTAMP:20260420T073743
CREATED:20260127T164029Z
LAST-MODIFIED:20260202T142233Z
UID:10023521-1867600800-1867609800@staging.hauslebenskraft.de
SUMMARY:Visionen für die Neue Zeit
DESCRIPTION:Gesprächskreis für die Neue Zeit\nfür wache Menschen mit Frank \n 
URL:https://staging.hauslebenskraft.de/veranstaltung/visionen-fuer-die-neue-zeit-2-2/2029-03-07/
LOCATION:Haus Lebenskraft\, Gutenbergstr. 30\, Potsdam\, Brandenburg\, 14467\, Germany
CATEGORIES:Öffentlich, Sonnenraum
ATTACH;FMTTYPE=image/jpeg:https://staging.hauslebenskraft.de/wp-content/uploads/2026/02/Visionen_fuer_die_Neue_Zeit_Frank_Ritschel_Haus_Lebenskraft_Potsdam-1.jpg
ORGANIZER;CN="Frank Ritschel":MAILTO:frank@hauslebenskraft.de
END:VEVENT
BEGIN:VEVENT
DTSTART;TZID=Europe/Berlin:20290404T180000
DTEND;TZID=Europe/Berlin:20290404T203000
DTSTAMP:20260420T073743
CREATED:20260127T164029Z
LAST-MODIFIED:20260202T142233Z
UID:10023522-1870020000-1870029000@staging.hauslebenskraft.de
SUMMARY:Visionen für die Neue Zeit
DESCRIPTION:Gesprächskreis für die Neue Zeit\nfür wache Menschen mit Frank \n 
URL:https://staging.hauslebenskraft.de/veranstaltung/visionen-fuer-die-neue-zeit-2-2/2029-04-04/
LOCATION:Haus Lebenskraft\, Gutenbergstr. 30\, Potsdam\, Brandenburg\, 14467\, Germany
CATEGORIES:Öffentlich, Sonnenraum
ATTACH;FMTTYPE=image/jpeg:https://staging.hauslebenskraft.de/wp-content/uploads/2026/02/Visionen_fuer_die_Neue_Zeit_Frank_Ritschel_Haus_Lebenskraft_Potsdam-1.jpg
ORGANIZER;CN="Frank Ritschel":MAILTO:frank@hauslebenskraft.de
END:VEVENT
BEGIN:VEVENT
DTSTART;TZID=Europe/Berlin:20290502T180000
DTEND;TZID=Europe/Berlin:20290502T203000
DTSTAMP:20260420T073743
CREATED:20260127T164029Z
LAST-MODIFIED:20260202T142233Z
UID:10023523-1872439200-1872448200@staging.hauslebenskraft.de
SUMMARY:Visionen für die Neue Zeit
DESCRIPTION:Gesprächskreis für die Neue Zeit\nfür wache Menschen mit Frank \n 
URL:https://staging.hauslebenskraft.de/veranstaltung/visionen-fuer-die-neue-zeit-2-2/2029-05-02/
LOCATION:Haus Lebenskraft\, Gutenbergstr. 30\, Potsdam\, Brandenburg\, 14467\, Germany
CATEGORIES:Öffentlich, Sonnenraum
ATTACH;FMTTYPE=image/jpeg:https://staging.hauslebenskraft.de/wp-content/uploads/2026/02/Visionen_fuer_die_Neue_Zeit_Frank_Ritschel_Haus_Lebenskraft_Potsdam-1.jpg
ORGANIZER;CN="Frank Ritschel":MAILTO:frank@hauslebenskraft.de
END:VEVENT
BEGIN:VEVENT
DTSTART;TZID=Europe/Berlin:20290606T180000
DTEND;TZID=Europe/Berlin:20290606T203000
DTSTAMP:20260420T073743
CREATED:20260127T164029Z
LAST-MODIFIED:20260202T142233Z
UID:10023524-1875463200-1875472200@staging.hauslebenskraft.de
SUMMARY:Visionen für die Neue Zeit
DESCRIPTION:Gesprächskreis für die Neue Zeit\nfür wache Menschen mit Frank \n 
URL:https://staging.hauslebenskraft.de/veranstaltung/visionen-fuer-die-neue-zeit-2-2/2029-06-06/
LOCATION:Haus Lebenskraft\, Gutenbergstr. 30\, Potsdam\, Brandenburg\, 14467\, Germany
CATEGORIES:Öffentlich, Sonnenraum
ATTACH;FMTTYPE=image/jpeg:https://staging.hauslebenskraft.de/wp-content/uploads/2026/02/Visionen_fuer_die_Neue_Zeit_Frank_Ritschel_Haus_Lebenskraft_Potsdam-1.jpg
ORGANIZER;CN="Frank Ritschel":MAILTO:frank@hauslebenskraft.de
END:VEVENT
BEGIN:VEVENT
DTSTART;TZID=Europe/Berlin:20290704T180000
DTEND;TZID=Europe/Berlin:20290704T203000
DTSTAMP:20260420T073743
CREATED:20260127T164029Z
LAST-MODIFIED:20260202T142233Z
UID:10023525-1877882400-1877891400@staging.hauslebenskraft.de
SUMMARY:Visionen für die Neue Zeit
DESCRIPTION:Gesprächskreis für die Neue Zeit\nfür wache Menschen mit Frank \n 
URL:https://staging.hauslebenskraft.de/veranstaltung/visionen-fuer-die-neue-zeit-2-2/2029-07-04/
LOCATION:Haus Lebenskraft\, Gutenbergstr. 30\, Potsdam\, Brandenburg\, 14467\, Germany
CATEGORIES:Öffentlich, Sonnenraum
ATTACH;FMTTYPE=image/jpeg:https://staging.hauslebenskraft.de/wp-content/uploads/2026/02/Visionen_fuer_die_Neue_Zeit_Frank_Ritschel_Haus_Lebenskraft_Potsdam-1.jpg
ORGANIZER;CN="Frank Ritschel":MAILTO:frank@hauslebenskraft.de
END:VEVENT
BEGIN:VEVENT
DTSTART;TZID=Europe/Berlin:20290801T180000
DTEND;TZID=Europe/Berlin:20290801T203000
DTSTAMP:20260420T073743
CREATED:20260127T164029Z
LAST-MODIFIED:20260202T142233Z
UID:10023526-1880301600-1880310600@staging.hauslebenskraft.de
SUMMARY:Visionen für die Neue Zeit
DESCRIPTION:Gesprächskreis für die Neue Zeit\nfür wache Menschen mit Frank \n 
URL:https://staging.hauslebenskraft.de/veranstaltung/visionen-fuer-die-neue-zeit-2-2/2029-08-01/
LOCATION:Haus Lebenskraft\, Gutenbergstr. 30\, Potsdam\, Brandenburg\, 14467\, Germany
CATEGORIES:Öffentlich, Sonnenraum
ATTACH;FMTTYPE=image/jpeg:https://staging.hauslebenskraft.de/wp-content/uploads/2026/02/Visionen_fuer_die_Neue_Zeit_Frank_Ritschel_Haus_Lebenskraft_Potsdam-1.jpg
ORGANIZER;CN="Frank Ritschel":MAILTO:frank@hauslebenskraft.de
END:VEVENT
BEGIN:VEVENT
DTSTART;TZID=Europe/Berlin:20290905T180000
DTEND;TZID=Europe/Berlin:20290905T203000
DTSTAMP:20260420T073743
CREATED:20260127T164029Z
LAST-MODIFIED:20260202T142233Z
UID:10023527-1883325600-1883334600@staging.hauslebenskraft.de
SUMMARY:Visionen für die Neue Zeit
DESCRIPTION:Gesprächskreis für die Neue Zeit\nfür wache Menschen mit Frank \n 
URL:https://staging.hauslebenskraft.de/veranstaltung/visionen-fuer-die-neue-zeit-2-2/2029-09-05/
LOCATION:Haus Lebenskraft\, Gutenbergstr. 30\, Potsdam\, Brandenburg\, 14467\, Germany
CATEGORIES:Öffentlich, Sonnenraum
ATTACH;FMTTYPE=image/jpeg:https://staging.hauslebenskraft.de/wp-content/uploads/2026/02/Visionen_fuer_die_Neue_Zeit_Frank_Ritschel_Haus_Lebenskraft_Potsdam-1.jpg
ORGANIZER;CN="Frank Ritschel":MAILTO:frank@hauslebenskraft.de
END:VEVENT
BEGIN:VEVENT
DTSTART;TZID=Europe/Berlin:20291003T180000
DTEND;TZID=Europe/Berlin:20291003T203000
DTSTAMP:20260420T073743
CREATED:20260127T164029Z
LAST-MODIFIED:20260202T142233Z
UID:10023528-1885744800-1885753800@staging.hauslebenskraft.de
SUMMARY:Visionen für die Neue Zeit
DESCRIPTION:Gesprächskreis für die Neue Zeit\nfür wache Menschen mit Frank \n 
URL:https://staging.hauslebenskraft.de/veranstaltung/visionen-fuer-die-neue-zeit-2-2/2029-10-03/
LOCATION:Haus Lebenskraft\, Gutenbergstr. 30\, Potsdam\, Brandenburg\, 14467\, Germany
CATEGORIES:Öffentlich, Sonnenraum
ATTACH;FMTTYPE=image/jpeg:https://staging.hauslebenskraft.de/wp-content/uploads/2026/02/Visionen_fuer_die_Neue_Zeit_Frank_Ritschel_Haus_Lebenskraft_Potsdam-1.jpg
ORGANIZER;CN="Frank Ritschel":MAILTO:frank@hauslebenskraft.de
END:VEVENT
BEGIN:VEVENT
DTSTART;TZID=Europe/Berlin:20291107T180000
DTEND;TZID=Europe/Berlin:20291107T203000
DTSTAMP:20260420T073743
CREATED:20260127T164029Z
LAST-MODIFIED:20260202T142233Z
UID:10023529-1888768800-1888777800@staging.hauslebenskraft.de
SUMMARY:Visionen für die Neue Zeit
DESCRIPTION:Gesprächskreis für die Neue Zeit\nfür wache Menschen mit Frank \n 
URL:https://staging.hauslebenskraft.de/veranstaltung/visionen-fuer-die-neue-zeit-2-2/2029-11-07/
LOCATION:Haus Lebenskraft\, Gutenbergstr. 30\, Potsdam\, Brandenburg\, 14467\, Germany
CATEGORIES:Öffentlich, Sonnenraum
ATTACH;FMTTYPE=image/jpeg:https://staging.hauslebenskraft.de/wp-content/uploads/2026/02/Visionen_fuer_die_Neue_Zeit_Frank_Ritschel_Haus_Lebenskraft_Potsdam-1.jpg
ORGANIZER;CN="Frank Ritschel":MAILTO:frank@hauslebenskraft.de
END:VEVENT
BEGIN:VEVENT
DTSTART;TZID=Europe/Berlin:20291205T180000
DTEND;TZID=Europe/Berlin:20291205T203000
DTSTAMP:20260420T073743
CREATED:20260127T164029Z
LAST-MODIFIED:20260202T142233Z
UID:10023530-1891188000-1891197000@staging.hauslebenskraft.de
SUMMARY:Visionen für die Neue Zeit
DESCRIPTION:Gesprächskreis für die Neue Zeit\nfür wache Menschen mit Frank \n 
URL:https://staging.hauslebenskraft.de/veranstaltung/visionen-fuer-die-neue-zeit-2-2/2029-12-05/
LOCATION:Haus Lebenskraft\, Gutenbergstr. 30\, Potsdam\, Brandenburg\, 14467\, Germany
CATEGORIES:Öffentlich, Sonnenraum
ATTACH;FMTTYPE=image/jpeg:https://staging.hauslebenskraft.de/wp-content/uploads/2026/02/Visionen_fuer_die_Neue_Zeit_Frank_Ritschel_Haus_Lebenskraft_Potsdam-1.jpg
ORGANIZER;CN="Frank Ritschel":MAILTO:frank@hauslebenskraft.de
END:VEVENT
BEGIN:VEVENT
DTSTART;TZID=Europe/Berlin:20300102T180000
DTEND;TZID=Europe/Berlin:20300102T203000
DTSTAMP:20260420T073743
CREATED:20260127T164029Z
LAST-MODIFIED:20260202T142233Z
UID:10023531-1893607200-1893616200@staging.hauslebenskraft.de
SUMMARY:Visionen für die Neue Zeit
DESCRIPTION:Gesprächskreis für die Neue Zeit\nfür wache Menschen mit Frank \n 
URL:https://staging.hauslebenskraft.de/veranstaltung/visionen-fuer-die-neue-zeit-2-2/2030-01-02/
LOCATION:Haus Lebenskraft\, Gutenbergstr. 30\, Potsdam\, Brandenburg\, 14467\, Germany
CATEGORIES:Öffentlich, Sonnenraum
ATTACH;FMTTYPE=image/jpeg:https://staging.hauslebenskraft.de/wp-content/uploads/2026/02/Visionen_fuer_die_Neue_Zeit_Frank_Ritschel_Haus_Lebenskraft_Potsdam-1.jpg
ORGANIZER;CN="Frank Ritschel":MAILTO:frank@hauslebenskraft.de
END:VEVENT
BEGIN:VEVENT
DTSTART;TZID=Europe/Berlin:20300206T180000
DTEND;TZID=Europe/Berlin:20300206T203000
DTSTAMP:20260420T073743
CREATED:20260127T164029Z
LAST-MODIFIED:20260202T142233Z
UID:10023532-1896631200-1896640200@staging.hauslebenskraft.de
SUMMARY:Visionen für die Neue Zeit
DESCRIPTION:Gesprächskreis für die Neue Zeit\nfür wache Menschen mit Frank \n 
URL:https://staging.hauslebenskraft.de/veranstaltung/visionen-fuer-die-neue-zeit-2-2/2030-02-06/
LOCATION:Haus Lebenskraft\, Gutenbergstr. 30\, Potsdam\, Brandenburg\, 14467\, Germany
CATEGORIES:Öffentlich, Sonnenraum
ATTACH;FMTTYPE=image/jpeg:https://staging.hauslebenskraft.de/wp-content/uploads/2026/02/Visionen_fuer_die_Neue_Zeit_Frank_Ritschel_Haus_Lebenskraft_Potsdam-1.jpg
ORGANIZER;CN="Frank Ritschel":MAILTO:frank@hauslebenskraft.de
END:VEVENT
BEGIN:VEVENT
DTSTART;TZID=Europe/Berlin:20300306T180000
DTEND;TZID=Europe/Berlin:20300306T203000
DTSTAMP:20260420T073743
CREATED:20260127T164029Z
LAST-MODIFIED:20260202T142233Z
UID:10023533-1899050400-1899059400@staging.hauslebenskraft.de
SUMMARY:Visionen für die Neue Zeit
DESCRIPTION:Gesprächskreis für die Neue Zeit\nfür wache Menschen mit Frank \n 
URL:https://staging.hauslebenskraft.de/veranstaltung/visionen-fuer-die-neue-zeit-2-2/2030-03-06/
LOCATION:Haus Lebenskraft\, Gutenbergstr. 30\, Potsdam\, Brandenburg\, 14467\, Germany
CATEGORIES:Öffentlich, Sonnenraum
ATTACH;FMTTYPE=image/jpeg:https://staging.hauslebenskraft.de/wp-content/uploads/2026/02/Visionen_fuer_die_Neue_Zeit_Frank_Ritschel_Haus_Lebenskraft_Potsdam-1.jpg
ORGANIZER;CN="Frank Ritschel":MAILTO:frank@hauslebenskraft.de
END:VEVENT
BEGIN:VEVENT
DTSTART;TZID=Europe/Berlin:20300403T180000
DTEND;TZID=Europe/Berlin:20300403T203000
DTSTAMP:20260420T073743
CREATED:20260127T164029Z
LAST-MODIFIED:20260202T142233Z
UID:10023534-1901469600-1901478600@staging.hauslebenskraft.de
SUMMARY:Visionen für die Neue Zeit
DESCRIPTION:Gesprächskreis für die Neue Zeit\nfür wache Menschen mit Frank \n 
URL:https://staging.hauslebenskraft.de/veranstaltung/visionen-fuer-die-neue-zeit-2-2/2030-04-03/
LOCATION:Haus Lebenskraft\, Gutenbergstr. 30\, Potsdam\, Brandenburg\, 14467\, Germany
CATEGORIES:Öffentlich, Sonnenraum
ATTACH;FMTTYPE=image/jpeg:https://staging.hauslebenskraft.de/wp-content/uploads/2026/02/Visionen_fuer_die_Neue_Zeit_Frank_Ritschel_Haus_Lebenskraft_Potsdam-1.jpg
ORGANIZER;CN="Frank Ritschel":MAILTO:frank@hauslebenskraft.de
END:VEVENT
BEGIN:VEVENT
DTSTART;TZID=Europe/Berlin:20300501T180000
DTEND;TZID=Europe/Berlin:20300501T203000
DTSTAMP:20260420T073743
CREATED:20260127T164029Z
LAST-MODIFIED:20260202T142233Z
UID:10023535-1903888800-1903897800@staging.hauslebenskraft.de
SUMMARY:Visionen für die Neue Zeit
DESCRIPTION:Gesprächskreis für die Neue Zeit\nfür wache Menschen mit Frank \n 
URL:https://staging.hauslebenskraft.de/veranstaltung/visionen-fuer-die-neue-zeit-2-2/2030-05-01/
LOCATION:Haus Lebenskraft\, Gutenbergstr. 30\, Potsdam\, Brandenburg\, 14467\, Germany
CATEGORIES:Öffentlich, Sonnenraum
ATTACH;FMTTYPE=image/jpeg:https://staging.hauslebenskraft.de/wp-content/uploads/2026/02/Visionen_fuer_die_Neue_Zeit_Frank_Ritschel_Haus_Lebenskraft_Potsdam-1.jpg
ORGANIZER;CN="Frank Ritschel":MAILTO:frank@hauslebenskraft.de
END:VEVENT
BEGIN:VEVENT
DTSTART;TZID=Europe/Berlin:20300605T180000
DTEND;TZID=Europe/Berlin:20300605T203000
DTSTAMP:20260420T073743
CREATED:20260127T164029Z
LAST-MODIFIED:20260202T142233Z
UID:10023536-1906912800-1906921800@staging.hauslebenskraft.de
SUMMARY:Visionen für die Neue Zeit
DESCRIPTION:Gesprächskreis für die Neue Zeit\nfür wache Menschen mit Frank \n 
URL:https://staging.hauslebenskraft.de/veranstaltung/visionen-fuer-die-neue-zeit-2-2/2030-06-05/
LOCATION:Haus Lebenskraft\, Gutenbergstr. 30\, Potsdam\, Brandenburg\, 14467\, Germany
CATEGORIES:Öffentlich, Sonnenraum
ATTACH;FMTTYPE=image/jpeg:https://staging.hauslebenskraft.de/wp-content/uploads/2026/02/Visionen_fuer_die_Neue_Zeit_Frank_Ritschel_Haus_Lebenskraft_Potsdam-1.jpg
ORGANIZER;CN="Frank Ritschel":MAILTO:frank@hauslebenskraft.de
END:VEVENT
BEGIN:VEVENT
DTSTART;TZID=Europe/Berlin:20300703T180000
DTEND;TZID=Europe/Berlin:20300703T203000
DTSTAMP:20260420T073743
CREATED:20260127T164029Z
LAST-MODIFIED:20260202T142233Z
UID:10023537-1909332000-1909341000@staging.hauslebenskraft.de
SUMMARY:Visionen für die Neue Zeit
DESCRIPTION:Gesprächskreis für die Neue Zeit\nfür wache Menschen mit Frank \n 
URL:https://staging.hauslebenskraft.de/veranstaltung/visionen-fuer-die-neue-zeit-2-2/2030-07-03/
LOCATION:Haus Lebenskraft\, Gutenbergstr. 30\, Potsdam\, Brandenburg\, 14467\, Germany
CATEGORIES:Öffentlich, Sonnenraum
ATTACH;FMTTYPE=image/jpeg:https://staging.hauslebenskraft.de/wp-content/uploads/2026/02/Visionen_fuer_die_Neue_Zeit_Frank_Ritschel_Haus_Lebenskraft_Potsdam-1.jpg
ORGANIZER;CN="Frank Ritschel":MAILTO:frank@hauslebenskraft.de
END:VEVENT
END:VCALENDAR