BEGIN:VCALENDAR
VERSION:2.0
PRODID:-//Haus Lebenskraft - ECPv6.15.20//NONSGML v1.0//EN
CALSCALE:GREGORIAN
METHOD:PUBLISH
X-WR-CALNAME:Haus Lebenskraft
X-ORIGINAL-URL:https://staging.hauslebenskraft.de
X-WR-CALDESC:Veranstaltungen für Haus Lebenskraft
REFRESH-INTERVAL;VALUE=DURATION:PT1H
X-Robots-Tag:noindex
X-PUBLISHED-TTL:PT1H
BEGIN:VTIMEZONE
TZID:Europe/Berlin
BEGIN:DAYLIGHT
TZOFFSETFROM:+0100
TZOFFSETTO:+0200
TZNAME:CEST
DTSTART:20240331T010000
END:DAYLIGHT
BEGIN:STANDARD
TZOFFSETFROM:+0200
TZOFFSETTO:+0100
TZNAME:CET
DTSTART:20241027T010000
END:STANDARD
BEGIN:DAYLIGHT
TZOFFSETFROM:+0100
TZOFFSETTO:+0200
TZNAME:CEST
DTSTART:20250330T010000
END:DAYLIGHT
BEGIN:STANDARD
TZOFFSETFROM:+0200
TZOFFSETTO:+0100
TZNAME:CET
DTSTART:20251026T010000
END:STANDARD
BEGIN:DAYLIGHT
TZOFFSETFROM:+0100
TZOFFSETTO:+0200
TZNAME:CEST
DTSTART:20260329T010000
END:DAYLIGHT
BEGIN:STANDARD
TZOFFSETFROM:+0200
TZOFFSETTO:+0100
TZNAME:CET
DTSTART:20261025T010000
END:STANDARD
BEGIN:DAYLIGHT
TZOFFSETFROM:+0100
TZOFFSETTO:+0200
TZNAME:CEST
DTSTART:20270328T010000
END:DAYLIGHT
BEGIN:STANDARD
TZOFFSETFROM:+0200
TZOFFSETTO:+0100
TZNAME:CET
DTSTART:20271031T010000
END:STANDARD
END:VTIMEZONE
BEGIN:VEVENT
DTSTART;TZID=Europe/Berlin:20260404T110000
DTEND;TZID=Europe/Berlin:20260404T160000
DTSTAMP:20260420T041437
CREATED:20260303T103103Z
LAST-MODIFIED:20260327T201750Z
UID:10025515-1775300400-1775318400@staging.hauslebenskraft.de
SUMMARY:Männerseminar in Potsdam
DESCRIPTION:Einladung zum Männerseminar \nUnser Seminar richtet sich bewusst an Männer\, die sich Zeit nehmen wollen\, um innezuhalten\, nachzudenken und ihre innere Ausrichtung zu klären. Abseits des Alltags bieten wir die Möglichkeit\, sich mit grundlegenden Fragen des Lebens zu beschäftigen. \nViele Männer sind im Alltag stark gefordert. Dabei bleibt oft wenig Raum\, um über die eigene innere Entwicklung nachzudenken. Das Seminar schafft einen geschützten Rahmen\, in dem Männer unter sich offen reflektieren\, Erfahrungen austauschen und neue Perspektiven gewinnen können. \nPersönliche Entwicklung wird möglich – ohne Leistungsdruck\, aber mit Tiefgang. \nThemen: \n\nWas treibt mich wirklich an?\nWas gibt meinem Handeln Sinn?\nWie kann ich meine Kraft im Leben bewusster einsetzen?\n\nNutzen: \n\nmehr Klarheit über persönliche Ziele und Werte\nneue Impulsen für Sinn und Lebensgestaltung\nauthentisch gestaltete Beziehungen\nbewussterer Umgang mit Stress und Herausforderungen\nstärkerer Selbstführung und innerer Stabilität\npraktische Methoden für Achtsamkeit und Präsenz im Alltag\n\nDas Seminar richtet sich an Männer\, die sich selbst besser verstehen wollen und ihren Weg im Leben bewusster und kraftvoller gestalten möchten. \nWer innehält\, gewinnt Klarheit.\nWer sich selbst versteht\, handelt kraftvoller. \nWann: Samstag\, 4. April von 11 bis 16 Uhr \nWo: Haus Lebenskraft\, Gutenbergstr. 30\, 14467 Potsdam \nPreis: 50 Euro \nVeranstalter: Tino Geisler und Frank Ritschel \nAnmeldung: willkommen@hauslebenskraft.de bis spätestens zum 30. März \n                   \nTino Geisler                           Frank Ritschel\nMERL                                       ORIGON
URL:https://staging.hauslebenskraft.de/veranstaltung/maennerseminar-in-potsdam/
LOCATION:Haus Lebenskraft\, Gutenbergstr. 30\, Potsdam\, Brandenburg\, 14467\, Germany
CATEGORIES:Öffentlich, Sonnenraum
ATTACH;FMTTYPE=image/jpeg:https://staging.hauslebenskraft.de/wp-content/uploads/2026/03/Maennerseminar-April-2026.jpg
ORGANIZER;CN="Frank Ritschel":MAILTO:frank@hauslebenskraft.de
END:VEVENT
BEGIN:VEVENT
DTSTART;TZID=Europe/Berlin:20260401T180000
DTEND;TZID=Europe/Berlin:20260401T203000
DTSTAMP:20260420T041437
CREATED:20260401T131336Z
LAST-MODIFIED:20260401T131349Z
UID:10023486-1775066400-1775075400@staging.hauslebenskraft.de
SUMMARY:Visionen für die Neue Zeit
DESCRIPTION:Gesprächskreis für die Neue Zeit\nfür wache Menschen mit Frank \n 
URL:https://staging.hauslebenskraft.de/veranstaltung/visionen-fuer-die-neue-zeit-2-2-4/
LOCATION:Haus Lebenskraft\, Gutenbergstr. 30\, Potsdam\, Brandenburg\, 14467\, Germany
CATEGORIES:Öffentlich, Sonnenraum
ATTACH;FMTTYPE=image/jpeg:https://staging.hauslebenskraft.de/wp-content/uploads/2026/02/Visionen_fuer_die_Neue_Zeit_Frank_Ritschel_Haus_Lebenskraft_Potsdam-1.jpg
ORGANIZER;CN="Frank Ritschel":MAILTO:frank@hauslebenskraft.de
END:VEVENT
BEGIN:VEVENT
DTSTART;TZID=Europe/Berlin:20260304T180000
DTEND;TZID=Europe/Berlin:20260304T203000
DTSTAMP:20260420T041437
CREATED:20260302T184632Z
LAST-MODIFIED:20260302T184640Z
UID:10023485-1772647200-1772656200@staging.hauslebenskraft.de
SUMMARY:Visionen für die Neue Zeit
DESCRIPTION:Gesprächskreis für die Neue Zeit\nfür wache Menschen mit Frank \nWir beschäftigen uns diesmal aus ontologischer (metaphysischer) Perspektive mit der grundlegenden Frage: \n\nWie entstand und entwickelte sich die Schöpfung?\n\nDas sieht auf den ersten Blick nahezu unbeantwortbar aus – beziehungsweise gibt es mannigfaltige Antworten -\, dennoch werden wir uns mit einem fundierten Kanon\, den GOR Rassadin bereitet hat\, an die Beantwortung dieser Frage wagen.\nIch verspreche euch\, es wird Unerwartetes\, Überraschendes\, Tiefgreifendes und Schlüssiges daraus entstehen. Wer sich darauf einlassen kann\, hat die Chance auf tiefe Erkenntnisse. \nMich mit euch dieser Aufgabe zu stellen\, freue ich mich von Herzen.\nEuer Frank
URL:https://staging.hauslebenskraft.de/veranstaltung/visionen-fuer-die-neue-zeit-2-2-3/
LOCATION:Haus Lebenskraft\, Gutenbergstr. 30\, Potsdam\, Brandenburg\, 14467\, Germany
CATEGORIES:Öffentlich, Sonnenraum
ATTACH;FMTTYPE=image/jpeg:https://staging.hauslebenskraft.de/wp-content/uploads/2026/02/Visionen_fuer_die_Neue_Zeit_Frank_Ritschel_Haus_Lebenskraft_Potsdam-1.jpg
ORGANIZER;CN="Frank Ritschel":MAILTO:frank@hauslebenskraft.de
END:VEVENT
BEGIN:VEVENT
DTSTART;TZID=Europe/Berlin:20260204T180000
DTEND;TZID=Europe/Berlin:20260204T203000
DTSTAMP:20260420T041437
CREATED:20260127T165221Z
LAST-MODIFIED:20260202T133857Z
UID:10023484-1770228000-1770237000@staging.hauslebenskraft.de
SUMMARY:Visionen für die Neue Zeit
DESCRIPTION:Gesprächskreis für die Neue Zeit\nfür wache Menschen mit Frank \nWir beschäftigen uns diesmal aus ontologischer (metaphysischer) Perspektive mit zwei grundlegenden Fragen: \n\nWelches ist das Geheimnis des Lebens?\nWie entstand und entwickelte sich die Schöpfung?\n\nDas sieht auf den ersten Blick nahezu unbeantwortbar aus – beziehungsweise gibt es mannigfaltige Antworten -\, dennoch werden wir uns mit einem fundierten Kanon\, den GOR Rassadin bereitet hat\, an die Beantwortung dieser Fragen wagen.\nIch verspreche euch\, es wird Unerwartetes\, Überraschendes\, Tiefgreifendes und Schlüssiges daraus entstehen. \nMich mit euch dieser Aufgabe zu stellen\, freue ich mich von Herzen.\nEuer Frank
URL:https://staging.hauslebenskraft.de/veranstaltung/visionen-fuer-die-neue-zeit-2-2-2/
LOCATION:Haus Lebenskraft\, Gutenbergstr. 30\, Potsdam\, Brandenburg\, 14467\, Germany
CATEGORIES:Öffentlich, Sonnenraum
ATTACH;FMTTYPE=image/jpeg:https://staging.hauslebenskraft.de/wp-content/uploads/2026/02/Visionen_fuer_die_Neue_Zeit_Frank_Ritschel_Haus_Lebenskraft_Potsdam-1.jpg
ORGANIZER;CN="Frank Ritschel":MAILTO:frank@hauslebenskraft.de
END:VEVENT
BEGIN:VEVENT
DTSTART;TZID=Europe/Berlin:20260107T180000
DTEND;TZID=Europe/Berlin:20260107T203000
DTSTAMP:20260420T041437
CREATED:20250204T113847Z
LAST-MODIFIED:20251113T144854Z
UID:10017316-1767808800-1767817800@staging.hauslebenskraft.de
SUMMARY:Visionen für die Neue Zeit
DESCRIPTION:Gesprächskreis für die Neue Zeit\nfür wache Menschen mit Frank und Andrea \nDie Evolution der Menschheit geschieht in klar voneinander abzugrenzenden Epochen von ca. 5.400 Jahren. Auf Mu folgte Lemuria\, abgelöst von Atlantis/Hyperborea und Eden. Heute leben wir am Ende der 5. Zeit\, auch Kali-Yuga oder Tartara genannt. Ein fulminanter Sprung in eine neue Epoche steht unmittelbar bevor. In eine Neue Zeit. Niemand weiß genau\, wie sie aussehen wird\, denn es gab sie ja noch nie. Sie muss von ihren Bewohnern\, also auch von uns\, entworfen und erschaffen werden. Unsere Schöpferkraft ist gefragt\, unsere Fantasie\, unsere Ethik und unsere Liebe. Auch unser Abenteuersinn…
URL:https://staging.hauslebenskraft.de/veranstaltung/visionen-fuer-die-neue-zeit-2/2026-01-07/
LOCATION:Haus Lebenskraft\, Gutenbergstr. 30\, Potsdam\, Brandenburg\, 14467\, Germany
CATEGORIES:Öffentlich, Sonnenraum
ORGANIZER;CN="Frank Ritschel":MAILTO:frank@hauslebenskraft.de
END:VEVENT
BEGIN:VEVENT
DTSTART;TZID=Europe/Berlin:20251105T203000
DTEND;TZID=Europe/Berlin:20251105T210000
DTSTAMP:20260420T041437
CREATED:20250204T114203Z
LAST-MODIFIED:20250204T114734Z
UID:10017629-1762374600-1762376400@staging.hauslebenskraft.de
SUMMARY:Nachbereitung Frank
DESCRIPTION:
URL:https://staging.hauslebenskraft.de/veranstaltung/nachbereitung-frank/2025-11-05/
LOCATION:Haus Lebenskraft\, Gutenbergstr. 30\, Potsdam\, Brandenburg\, 14467\, Germany
CATEGORIES:Intern, Sonnenraum
ORGANIZER;CN="Frank Ritschel":MAILTO:frank@hauslebenskraft.de
END:VEVENT
BEGIN:VEVENT
DTSTART;TZID=Europe/Berlin:20251105T180000
DTEND;TZID=Europe/Berlin:20251105T203000
DTSTAMP:20260420T041437
CREATED:20250204T113847Z
LAST-MODIFIED:20251113T144854Z
UID:10017314-1762365600-1762374600@staging.hauslebenskraft.de
SUMMARY:Visionen für die Neue Zeit
DESCRIPTION:Gesprächskreis für die Neue Zeit\nfür wache Menschen mit Frank und Andrea \nDie Evolution der Menschheit geschieht in klar voneinander abzugrenzenden Epochen von ca. 5.400 Jahren. Auf Mu folgte Lemuria\, abgelöst von Atlantis/Hyperborea und Eden. Heute leben wir am Ende der 5. Zeit\, auch Kali-Yuga oder Tartara genannt. Ein fulminanter Sprung in eine neue Epoche steht unmittelbar bevor. In eine Neue Zeit. Niemand weiß genau\, wie sie aussehen wird\, denn es gab sie ja noch nie. Sie muss von ihren Bewohnern\, also auch von uns\, entworfen und erschaffen werden. Unsere Schöpferkraft ist gefragt\, unsere Fantasie\, unsere Ethik und unsere Liebe. Auch unser Abenteuersinn…
URL:https://staging.hauslebenskraft.de/veranstaltung/visionen-fuer-die-neue-zeit-2/2025-11-05/
LOCATION:Haus Lebenskraft\, Gutenbergstr. 30\, Potsdam\, Brandenburg\, 14467\, Germany
CATEGORIES:Öffentlich, Sonnenraum
ORGANIZER;CN="Frank Ritschel":MAILTO:frank@hauslebenskraft.de
END:VEVENT
BEGIN:VEVENT
DTSTART;TZID=Europe/Berlin:20251001T203000
DTEND;TZID=Europe/Berlin:20251001T210000
DTSTAMP:20260420T041437
CREATED:20250204T114203Z
LAST-MODIFIED:20250204T114734Z
UID:10017628-1759350600-1759352400@staging.hauslebenskraft.de
SUMMARY:Nachbereitung Frank
DESCRIPTION:
URL:https://staging.hauslebenskraft.de/veranstaltung/nachbereitung-frank/2025-10-01/
LOCATION:Haus Lebenskraft\, Gutenbergstr. 30\, Potsdam\, Brandenburg\, 14467\, Germany
CATEGORIES:Intern, Sonnenraum
ORGANIZER;CN="Frank Ritschel":MAILTO:frank@hauslebenskraft.de
END:VEVENT
BEGIN:VEVENT
DTSTART;TZID=Europe/Berlin:20251001T180000
DTEND;TZID=Europe/Berlin:20251001T203000
DTSTAMP:20260420T041437
CREATED:20250204T113847Z
LAST-MODIFIED:20251113T144854Z
UID:10017313-1759341600-1759350600@staging.hauslebenskraft.de
SUMMARY:Visionen für die Neue Zeit
DESCRIPTION:Gesprächskreis für die Neue Zeit\nfür wache Menschen mit Frank und Andrea \nDie Evolution der Menschheit geschieht in klar voneinander abzugrenzenden Epochen von ca. 5.400 Jahren. Auf Mu folgte Lemuria\, abgelöst von Atlantis/Hyperborea und Eden. Heute leben wir am Ende der 5. Zeit\, auch Kali-Yuga oder Tartara genannt. Ein fulminanter Sprung in eine neue Epoche steht unmittelbar bevor. In eine Neue Zeit. Niemand weiß genau\, wie sie aussehen wird\, denn es gab sie ja noch nie. Sie muss von ihren Bewohnern\, also auch von uns\, entworfen und erschaffen werden. Unsere Schöpferkraft ist gefragt\, unsere Fantasie\, unsere Ethik und unsere Liebe. Auch unser Abenteuersinn…
URL:https://staging.hauslebenskraft.de/veranstaltung/visionen-fuer-die-neue-zeit-2/2025-10-01/
LOCATION:Haus Lebenskraft\, Gutenbergstr. 30\, Potsdam\, Brandenburg\, 14467\, Germany
CATEGORIES:Öffentlich, Sonnenraum
ORGANIZER;CN="Frank Ritschel":MAILTO:frank@hauslebenskraft.de
END:VEVENT
BEGIN:VEVENT
DTSTART;TZID=Europe/Berlin:20250903T203000
DTEND;TZID=Europe/Berlin:20250903T210000
DTSTAMP:20260420T041437
CREATED:20250204T114203Z
LAST-MODIFIED:20250204T114734Z
UID:10017627-1756931400-1756933200@staging.hauslebenskraft.de
SUMMARY:Nachbereitung Frank
DESCRIPTION:
URL:https://staging.hauslebenskraft.de/veranstaltung/nachbereitung-frank/2025-09-03/
LOCATION:Haus Lebenskraft\, Gutenbergstr. 30\, Potsdam\, Brandenburg\, 14467\, Germany
CATEGORIES:Intern, Sonnenraum
ORGANIZER;CN="Frank Ritschel":MAILTO:frank@hauslebenskraft.de
END:VEVENT
BEGIN:VEVENT
DTSTART;TZID=Europe/Berlin:20250903T180000
DTEND;TZID=Europe/Berlin:20250903T203000
DTSTAMP:20260420T041437
CREATED:20250204T113847Z
LAST-MODIFIED:20251113T144854Z
UID:10017312-1756922400-1756931400@staging.hauslebenskraft.de
SUMMARY:Visionen für die Neue Zeit
DESCRIPTION:Gesprächskreis für die Neue Zeit\nfür wache Menschen mit Frank und Andrea \nDie Evolution der Menschheit geschieht in klar voneinander abzugrenzenden Epochen von ca. 5.400 Jahren. Auf Mu folgte Lemuria\, abgelöst von Atlantis/Hyperborea und Eden. Heute leben wir am Ende der 5. Zeit\, auch Kali-Yuga oder Tartara genannt. Ein fulminanter Sprung in eine neue Epoche steht unmittelbar bevor. In eine Neue Zeit. Niemand weiß genau\, wie sie aussehen wird\, denn es gab sie ja noch nie. Sie muss von ihren Bewohnern\, also auch von uns\, entworfen und erschaffen werden. Unsere Schöpferkraft ist gefragt\, unsere Fantasie\, unsere Ethik und unsere Liebe. Auch unser Abenteuersinn…
URL:https://staging.hauslebenskraft.de/veranstaltung/visionen-fuer-die-neue-zeit-2/2025-09-03/
LOCATION:Haus Lebenskraft\, Gutenbergstr. 30\, Potsdam\, Brandenburg\, 14467\, Germany
CATEGORIES:Öffentlich, Sonnenraum
ORGANIZER;CN="Frank Ritschel":MAILTO:frank@hauslebenskraft.de
END:VEVENT
BEGIN:VEVENT
DTSTART;TZID=Europe/Berlin:20250806T203000
DTEND;TZID=Europe/Berlin:20250806T210000
DTSTAMP:20260420T041437
CREATED:20250204T114203Z
LAST-MODIFIED:20250204T114734Z
UID:10017626-1754512200-1754514000@staging.hauslebenskraft.de
SUMMARY:Nachbereitung Frank
DESCRIPTION:
URL:https://staging.hauslebenskraft.de/veranstaltung/nachbereitung-frank/2025-08-06/
LOCATION:Haus Lebenskraft\, Gutenbergstr. 30\, Potsdam\, Brandenburg\, 14467\, Germany
CATEGORIES:Intern, Sonnenraum
ORGANIZER;CN="Frank Ritschel":MAILTO:frank@hauslebenskraft.de
END:VEVENT
BEGIN:VEVENT
DTSTART;TZID=Europe/Berlin:20250806T180000
DTEND;TZID=Europe/Berlin:20250806T203000
DTSTAMP:20260420T041437
CREATED:20250204T113847Z
LAST-MODIFIED:20251113T144854Z
UID:10017311-1754503200-1754512200@staging.hauslebenskraft.de
SUMMARY:Visionen für die Neue Zeit
DESCRIPTION:Gesprächskreis für die Neue Zeit\nfür wache Menschen mit Frank und Andrea \nDie Evolution der Menschheit geschieht in klar voneinander abzugrenzenden Epochen von ca. 5.400 Jahren. Auf Mu folgte Lemuria\, abgelöst von Atlantis/Hyperborea und Eden. Heute leben wir am Ende der 5. Zeit\, auch Kali-Yuga oder Tartara genannt. Ein fulminanter Sprung in eine neue Epoche steht unmittelbar bevor. In eine Neue Zeit. Niemand weiß genau\, wie sie aussehen wird\, denn es gab sie ja noch nie. Sie muss von ihren Bewohnern\, also auch von uns\, entworfen und erschaffen werden. Unsere Schöpferkraft ist gefragt\, unsere Fantasie\, unsere Ethik und unsere Liebe. Auch unser Abenteuersinn…
URL:https://staging.hauslebenskraft.de/veranstaltung/visionen-fuer-die-neue-zeit-2/2025-08-06/
LOCATION:Haus Lebenskraft\, Gutenbergstr. 30\, Potsdam\, Brandenburg\, 14467\, Germany
CATEGORIES:Öffentlich, Sonnenraum
ORGANIZER;CN="Frank Ritschel":MAILTO:frank@hauslebenskraft.de
END:VEVENT
BEGIN:VEVENT
DTSTART;TZID=Europe/Berlin:20250702T203000
DTEND;TZID=Europe/Berlin:20250702T210000
DTSTAMP:20260420T041437
CREATED:20250204T114203Z
LAST-MODIFIED:20250204T114734Z
UID:10017625-1751488200-1751490000@staging.hauslebenskraft.de
SUMMARY:Nachbereitung Frank
DESCRIPTION:
URL:https://staging.hauslebenskraft.de/veranstaltung/nachbereitung-frank/2025-07-02/
LOCATION:Haus Lebenskraft\, Gutenbergstr. 30\, Potsdam\, Brandenburg\, 14467\, Germany
CATEGORIES:Intern, Sonnenraum
ORGANIZER;CN="Frank Ritschel":MAILTO:frank@hauslebenskraft.de
END:VEVENT
BEGIN:VEVENT
DTSTART;TZID=Europe/Berlin:20250702T180000
DTEND;TZID=Europe/Berlin:20250702T203000
DTSTAMP:20260420T041437
CREATED:20250204T113847Z
LAST-MODIFIED:20251113T144854Z
UID:10017310-1751479200-1751488200@staging.hauslebenskraft.de
SUMMARY:Visionen für die Neue Zeit
DESCRIPTION:Gesprächskreis für die Neue Zeit\nfür wache Menschen mit Frank und Andrea \nDie Evolution der Menschheit geschieht in klar voneinander abzugrenzenden Epochen von ca. 5.400 Jahren. Auf Mu folgte Lemuria\, abgelöst von Atlantis/Hyperborea und Eden. Heute leben wir am Ende der 5. Zeit\, auch Kali-Yuga oder Tartara genannt. Ein fulminanter Sprung in eine neue Epoche steht unmittelbar bevor. In eine Neue Zeit. Niemand weiß genau\, wie sie aussehen wird\, denn es gab sie ja noch nie. Sie muss von ihren Bewohnern\, also auch von uns\, entworfen und erschaffen werden. Unsere Schöpferkraft ist gefragt\, unsere Fantasie\, unsere Ethik und unsere Liebe. Auch unser Abenteuersinn…
URL:https://staging.hauslebenskraft.de/veranstaltung/visionen-fuer-die-neue-zeit-2/2025-07-02/
LOCATION:Haus Lebenskraft\, Gutenbergstr. 30\, Potsdam\, Brandenburg\, 14467\, Germany
CATEGORIES:Öffentlich, Sonnenraum
ORGANIZER;CN="Frank Ritschel":MAILTO:frank@hauslebenskraft.de
END:VEVENT
BEGIN:VEVENT
DTSTART;TZID=Europe/Berlin:20250604T203000
DTEND;TZID=Europe/Berlin:20250604T210000
DTSTAMP:20260420T041437
CREATED:20250204T114203Z
LAST-MODIFIED:20250204T114734Z
UID:10017624-1749069000-1749070800@staging.hauslebenskraft.de
SUMMARY:Nachbereitung Frank
DESCRIPTION:
URL:https://staging.hauslebenskraft.de/veranstaltung/nachbereitung-frank/2025-06-04/
LOCATION:Haus Lebenskraft\, Gutenbergstr. 30\, Potsdam\, Brandenburg\, 14467\, Germany
CATEGORIES:Intern, Sonnenraum
ORGANIZER;CN="Frank Ritschel":MAILTO:frank@hauslebenskraft.de
END:VEVENT
BEGIN:VEVENT
DTSTART;TZID=Europe/Berlin:20250604T180000
DTEND;TZID=Europe/Berlin:20250604T203000
DTSTAMP:20260420T041437
CREATED:20250204T113847Z
LAST-MODIFIED:20251113T144854Z
UID:10017309-1749060000-1749069000@staging.hauslebenskraft.de
SUMMARY:Visionen für die Neue Zeit
DESCRIPTION:Gesprächskreis für die Neue Zeit\nfür wache Menschen mit Frank und Andrea \nDie Evolution der Menschheit geschieht in klar voneinander abzugrenzenden Epochen von ca. 5.400 Jahren. Auf Mu folgte Lemuria\, abgelöst von Atlantis/Hyperborea und Eden. Heute leben wir am Ende der 5. Zeit\, auch Kali-Yuga oder Tartara genannt. Ein fulminanter Sprung in eine neue Epoche steht unmittelbar bevor. In eine Neue Zeit. Niemand weiß genau\, wie sie aussehen wird\, denn es gab sie ja noch nie. Sie muss von ihren Bewohnern\, also auch von uns\, entworfen und erschaffen werden. Unsere Schöpferkraft ist gefragt\, unsere Fantasie\, unsere Ethik und unsere Liebe. Auch unser Abenteuersinn…
URL:https://staging.hauslebenskraft.de/veranstaltung/visionen-fuer-die-neue-zeit-2/2025-06-04/
LOCATION:Haus Lebenskraft\, Gutenbergstr. 30\, Potsdam\, Brandenburg\, 14467\, Germany
CATEGORIES:Öffentlich, Sonnenraum
ORGANIZER;CN="Frank Ritschel":MAILTO:frank@hauslebenskraft.de
END:VEVENT
BEGIN:VEVENT
DTSTART;TZID=Europe/Berlin:20250507T203000
DTEND;TZID=Europe/Berlin:20250507T210000
DTSTAMP:20260420T041437
CREATED:20250204T114203Z
LAST-MODIFIED:20250204T114734Z
UID:10025722-1746649800-1746651600@staging.hauslebenskraft.de
SUMMARY:Nachbereitung Frank
DESCRIPTION:
URL:https://staging.hauslebenskraft.de/veranstaltung/nachbereitung-frank/2025-05-07/
LOCATION:Haus Lebenskraft\, Gutenbergstr. 30\, Potsdam\, Brandenburg\, 14467\, Germany
CATEGORIES:Intern, Sonnenraum
ORGANIZER;CN="Frank Ritschel":MAILTO:frank@hauslebenskraft.de
END:VEVENT
BEGIN:VEVENT
DTSTART;TZID=Europe/Berlin:20250507T180000
DTEND;TZID=Europe/Berlin:20250507T203000
DTSTAMP:20260420T041437
CREATED:20250204T113847Z
LAST-MODIFIED:20251113T144854Z
UID:10017308-1746640800-1746649800@staging.hauslebenskraft.de
SUMMARY:Visionen für die Neue Zeit
DESCRIPTION:Gesprächskreis für die Neue Zeit\nfür wache Menschen mit Frank und Andrea \nDie Evolution der Menschheit geschieht in klar voneinander abzugrenzenden Epochen von ca. 5.400 Jahren. Auf Mu folgte Lemuria\, abgelöst von Atlantis/Hyperborea und Eden. Heute leben wir am Ende der 5. Zeit\, auch Kali-Yuga oder Tartara genannt. Ein fulminanter Sprung in eine neue Epoche steht unmittelbar bevor. In eine Neue Zeit. Niemand weiß genau\, wie sie aussehen wird\, denn es gab sie ja noch nie. Sie muss von ihren Bewohnern\, also auch von uns\, entworfen und erschaffen werden. Unsere Schöpferkraft ist gefragt\, unsere Fantasie\, unsere Ethik und unsere Liebe. Auch unser Abenteuersinn…
URL:https://staging.hauslebenskraft.de/veranstaltung/visionen-fuer-die-neue-zeit-2/2025-05-07/
LOCATION:Haus Lebenskraft\, Gutenbergstr. 30\, Potsdam\, Brandenburg\, 14467\, Germany
CATEGORIES:Öffentlich, Sonnenraum
ORGANIZER;CN="Frank Ritschel":MAILTO:frank@hauslebenskraft.de
END:VEVENT
END:VCALENDAR