BEGIN:VCALENDAR
VERSION:2.0
PRODID:-//Haus Lebenskraft - ECPv6.15.20//NONSGML v1.0//EN
CALSCALE:GREGORIAN
METHOD:PUBLISH
X-ORIGINAL-URL:https://staging.hauslebenskraft.de
X-WR-CALDESC:Veranstaltungen für Haus Lebenskraft
REFRESH-INTERVAL;VALUE=DURATION:PT1H
X-Robots-Tag:noindex
X-PUBLISHED-TTL:PT1H
BEGIN:VTIMEZONE
TZID:Europe/Berlin
BEGIN:DAYLIGHT
TZOFFSETFROM:+0100
TZOFFSETTO:+0200
TZNAME:CEST
DTSTART:20240331T010000
END:DAYLIGHT
BEGIN:STANDARD
TZOFFSETFROM:+0200
TZOFFSETTO:+0100
TZNAME:CET
DTSTART:20241027T010000
END:STANDARD
BEGIN:DAYLIGHT
TZOFFSETFROM:+0100
TZOFFSETTO:+0200
TZNAME:CEST
DTSTART:20250330T010000
END:DAYLIGHT
BEGIN:STANDARD
TZOFFSETFROM:+0200
TZOFFSETTO:+0100
TZNAME:CET
DTSTART:20251026T010000
END:STANDARD
BEGIN:DAYLIGHT
TZOFFSETFROM:+0100
TZOFFSETTO:+0200
TZNAME:CEST
DTSTART:20260329T010000
END:DAYLIGHT
BEGIN:STANDARD
TZOFFSETFROM:+0200
TZOFFSETTO:+0100
TZNAME:CET
DTSTART:20261025T010000
END:STANDARD
BEGIN:DAYLIGHT
TZOFFSETFROM:+0100
TZOFFSETTO:+0200
TZNAME:CEST
DTSTART:20270328T010000
END:DAYLIGHT
BEGIN:STANDARD
TZOFFSETFROM:+0200
TZOFFSETTO:+0100
TZNAME:CET
DTSTART:20271031T010000
END:STANDARD
END:VTIMEZONE
BEGIN:VEVENT
DTSTART;TZID=Europe/Berlin:20260410T190000
DTEND;TZID=Europe/Berlin:20260410T210000
DTSTAMP:20260421T190238
CREATED:20260212T172309Z
LAST-MODIFIED:20260401T113629Z
UID:10025710-1775847600-1775854800@staging.hauslebenskraft.de
SUMMARY:Conscious Playfight - Achtsames Raufen
DESCRIPTION:  \n\nHast du Lust\, Deinen natürlichen Instinkt des spielerischen Kräftemessens in einem sicheren Raum auszuleben? „Achtsames Raufen“ lädt dich ein\, in eine körperliche Begegnung einzutauchen\, bei der die Intuition deines Körpers im Mittelpunkt steht. Jede Session entfaltet ihre eigene Energie und bringt dich in tiefe Verbindung mit dir selbst\, dem Moment und deinen Mitspieler*innen.\nIch verstehe Playfight eher als eine Art Kontaktimprovisation statt einem Kampfsport: Es geht nicht darum\, zu gewinnen oder zu dominieren\, sondern wie bei einem Tanz die Freude dessen zu erleben\, ganz im eigenen Körper zu sein und sich in einem freien\, dynamischen\, spielerischen Kontakt mit anderen Körpern zu erleben.\nDiese Form von Playfight erfordert keinerlei Vorerfahrung und ist perfekt für Dich\, wenn Du neugierig auf Raufen bist\, aber Dich dem auf eine langsame und sanfte Art annähern möchten.\nTrau dich und entdecke die Freude am spielerischen Raufen!Auch wenn wir uns hier achtsam und unter Berücksichtigung insbesondere unserer körperlichen Grenzen und Einschränkungen begegnen\, können Verletzungen auftreten. Aus diesem Grund ist die Einwilligung in eine Haftungsausschlusserklärung für dieses Event erforderlich.\n\n\nTeilnahmegebühren: 10 Euro\nE-Mail: florian.hollandt@gmail.com\nTelefonnummer: 017623516385\nPostalische Adresse: Gutenbergstr. 30; 14467 Potsdam\n\n\nhttps://wild-und-weich.de/veranstaltungen/achtsames-raufen/
URL:https://staging.hauslebenskraft.de/veranstaltung/conscious-playfight-achtsames-raufen-3-2/2026-04-10/
LOCATION:Haus Lebenskraft\, Gutenbergstr. 30\, Potsdam\, Brandenburg\, 14467\, Germany
CATEGORIES:Öffentlich, Raum der Erde
ATTACH;FMTTYPE=image/png:https://staging.hauslebenskraft.de/wp-content/uploads/2026/02/playfight-1.png
ORGANIZER;CN="Florian Hollandt":MAILTO:florian.hollandt@gmail.com
END:VEVENT
BEGIN:VEVENT
DTSTART;TZID=Europe/Berlin:20260329T160000
DTEND;TZID=Europe/Berlin:20260329T190000
DTSTAMP:20260421T190238
CREATED:20260220T171450Z
LAST-MODIFIED:20260306T135615Z
UID:10025161-1774800000-1774810800@staging.hauslebenskraft.de
SUMMARY:die Kunst des Kuschelns- Workshop
DESCRIPTION:Welcher Kuscheltyp bist Du? Was ist Deine Lieblings-Kuschelposition?\nViele Menschen lieben Kuscheln – Und gleichzeitig bewegen wir uns meist in vertrauten Gewohnheiten. Dabei gibt es so viel zu erforschen: Wie fühlt es sich an\, langsam und bewusst berührt zu werden? Oder zu berühren? Wirst Du lieber fest gehalten oder sanft gestreichelt? Kannst Du benennen\, wonach Du Dich in diesem Moment sehnst?In diesem Workshop erforschen wir Kuscheln als eine Form achtsamer Begegnung. Durch einfache\, angeleitete Erfahrungen bekommst Du Raum\, Deine eigenen Muster rund um Berührung\, Nähe und Kontakt wahrzunehmen und mit neuen Möglichkeiten zu experimentieren. Dabei steht nicht Technik im Vordergrund\, sondern Erfahrung: Ausprobieren\, reinspüren\, benennen\, justieren. \nDer Rahmen des Workshops ist bewusst langsam\, respektvoll und konsensorientiert. Alle Begegnungen geschehen freiwillig und in deinem eigenen Tempo. Der Raum ist als nicht-erotischer Erfahrungsraum gehalten – frei von Dating- oder Flirtabsichten – so dass Nähe ohne Erwartungsdruck erlebt werden kann.\nDadurch kannst Du Dich spielerisch ausprobieren\, Dein Kuschel-Repertoire erweitern und vielleicht ganz neue Seiten von Nähe entdecken. \nUnd Kuscheln kann für Dich noch mehr werden als eine schöne Gewohnheit: Eine erfüllende Quelle von echter Nähe\, tiefer Geborgenheit\, und einem feineren Gespür für die Bedürfnisse Deines Körpers. \n  \nTeilnahmegebühren: 20 Euro\nE-Mail: florian.hollandt@gmail.com\nTelefonnummer: 017623516385\nPostalische Adresse: Gutenbergstr. 30; 14467 Potsdam \nBuchungs-Link: https://www.eventbrite.de/e/die-kunst-des-kuschelns-workshop-tickets-1984564277176 \n  \n  \n 
URL:https://staging.hauslebenskraft.de/veranstaltung/die-kunst-des-kuschelns-workshop/
LOCATION:Haus Lebenskraft\, Gutenbergstr. 30\, Potsdam\, Brandenburg\, 14467\, Germany
CATEGORIES:Öffentlich, Sonnenraum
ATTACH;FMTTYPE=image/png:https://staging.hauslebenskraft.de/wp-content/uploads/2026/02/kuscheln-workshop.png
ORGANIZER;CN="Florian Hollandt":MAILTO:florian.hollandt@gmail.com
END:VEVENT
BEGIN:VEVENT
DTSTART;TZID=Europe/Berlin:20260305T200000
DTEND;TZID=Europe/Berlin:20260305T220000
DTSTAMP:20260421T190238
CREATED:20260212T172309Z
LAST-MODIFIED:20260401T113629Z
UID:10025086-1772740800-1772748000@staging.hauslebenskraft.de
SUMMARY:Conscious Playfight - Achtsames Raufen
DESCRIPTION:  \n\nHast du Lust\, Deinen natürlichen Instinkt des spielerischen Kräftemessens in einem sicheren Raum auszuleben? „Achtsames Raufen“ lädt dich ein\, in eine körperliche Begegnung einzutauchen\, bei der die Intuition deines Körpers im Mittelpunkt steht. Jede Session entfaltet ihre eigene Energie und bringt dich in tiefe Verbindung mit dir selbst\, dem Moment und deinen Mitspieler*innen.\nIch verstehe Playfight eher als eine Art Kontaktimprovisation statt einem Kampfsport: Es geht nicht darum\, zu gewinnen oder zu dominieren\, sondern wie bei einem Tanz die Freude dessen zu erleben\, ganz im eigenen Körper zu sein und sich in einem freien\, dynamischen\, spielerischen Kontakt mit anderen Körpern zu erleben.\nDiese Form von Playfight erfordert keinerlei Vorerfahrung und ist perfekt für Dich\, wenn Du neugierig auf Raufen bist\, aber Dich dem auf eine langsame und sanfte Art annähern möchten.\nTrau dich und entdecke die Freude am spielerischen Raufen!Auch wenn wir uns hier achtsam und unter Berücksichtigung insbesondere unserer körperlichen Grenzen und Einschränkungen begegnen\, können Verletzungen auftreten. Aus diesem Grund ist die Einwilligung in eine Haftungsausschlusserklärung für dieses Event erforderlich.\n\n\nTeilnahmegebühren: 10 Euro\nE-Mail: florian.hollandt@gmail.com\nTelefonnummer: 017623516385\nPostalische Adresse: Gutenbergstr. 30; 14467 Potsdam\n\n\nhttps://wild-und-weich.de/veranstaltungen/achtsames-raufen/
URL:https://staging.hauslebenskraft.de/veranstaltung/conscious-playfight-achtsames-raufen-3-2/2026-03-05/
LOCATION:Haus Lebenskraft\, Gutenbergstr. 30\, Potsdam\, Brandenburg\, 14467\, Germany
CATEGORIES:Öffentlich, Raum der Erde
ATTACH;FMTTYPE=image/png:https://staging.hauslebenskraft.de/wp-content/uploads/2026/02/playfight-1.png
ORGANIZER;CN="Florian Hollandt":MAILTO:florian.hollandt@gmail.com
END:VEVENT
BEGIN:VEVENT
DTSTART;TZID=Europe/Berlin:20260219T200000
DTEND;TZID=Europe/Berlin:20260219T220000
DTSTAMP:20260421T190238
CREATED:20260130T083412Z
LAST-MODIFIED:20260217T110626Z
UID:10024550-1771531200-1771538400@staging.hauslebenskraft.de
SUMMARY:Dynamische Zärtlichkeit
DESCRIPTION:Wie fühlt es sich an\, wenn Du Deinem Körper wirklich zuhörst – Und ihm erlaubst\, dem Ausdruck zu geben\, was jetzt gerade lebendig ist?In diesem Format verbinden wir Playfight\, Kontaktimprovisation und nährenden Körperkontakt zu einem offenen Erfahrungsraum. Es geht nicht darum\, einer bestimmten Form zu folgen\, sondern gemeinsam zu erforschen\, welche Energie im Kontakt entstehen möchte: Spielerisches Kräftemessen\, neugieriges Annähern\, fließender Tanz\, ruhiges Kuscheln – oder etwas dazwischen? \nDu brauchst keinerlei Vorerfahrung. Dieses Format ist besonders geeignet für Dich\, wenn du:\n– Neugierig darauf bist\, was sich im körperlichen Kontakt entfaltet\n– Deine Grenzen und Bedürfnisse besser spüren möchtest \n– Lust hast\, Kraft und Zärtlichkeit nicht zu trennen \nAlles geschieht freiwillig\, im eigenen Tempo und mit klarer Achtsamkeit für Konsens und Grenzen. \nAuch wenn wir uns hier achtsam und unter Berücksichtigung insbesondere unserer körperlichen Grenzen und Einschränkungen begegnen\, können Verletzungen auftreten. Aus diesem Grund ist die Einwilligung in eine Haftungsausschlusserklärung für dieses Event erforderlich. \n  \nTeilnahmegebühren: 10 Euro\nE-Mail: florian.hollandt@gmail.com\nTelefonnummer: 017623516385\nOrt: Gutenbergstr. 30; 14467 Potsdam \nhttps://wild-und-weich.de/veranstaltungen/dynamische-zaertlichkeit/ \n 
URL:https://staging.hauslebenskraft.de/veranstaltung/dynamische-zaertlichkeit/
LOCATION:Haus Lebenskraft\, Gutenbergstr. 30\, Potsdam\, Brandenburg\, 14467\, Germany
CATEGORIES:Öffentlich, Raum der Erde
ATTACH;FMTTYPE=image/png:https://staging.hauslebenskraft.de/wp-content/uploads/2026/02/raufen-kuscheln-1.png
ORGANIZER;CN="Florian Hollandt":MAILTO:florian.hollandt@gmail.com
END:VEVENT
BEGIN:VEVENT
DTSTART;TZID=Europe/Berlin:20260129T200000
DTEND;TZID=Europe/Berlin:20260129T220000
DTSTAMP:20260421T190238
CREATED:20260116T150301Z
LAST-MODIFIED:20260212T172106Z
UID:10025087-1769716800-1769724000@staging.hauslebenskraft.de
SUMMARY:Conscious Playfight - Achtsames Raufen
DESCRIPTION:  \n\nHast du Lust\, Deinen natürlichen Instinkt des spielerischen Kräftemessens in einem sicheren Raum auszuleben? „Achtsames Raufen“ lädt dich ein\, in eine körperliche Begegnung einzutauchen\, bei der die Intuition deines Körpers im Mittelpunkt steht. Jede Session entfaltet ihre eigene Energie und bringt dich in tiefe Verbindung mit dir selbst\, dem Moment und deinen Mitspieler*innen.\nIch verstehe Playfight eher als eine Art Kontaktimprovisation statt einem Kampfsport: Es geht nicht darum\, zu gewinnen oder zu dominieren\, sondern wie bei einem Tanz die Freude dessen zu erleben\, ganz im eigenen Körper zu sein und sich in einem freien\, dynamischen\, spielerischen Kontakt mit anderen Körpern zu erleben.\nDiese Form von Playfight erfordert keinerlei Vorerfahrung und ist perfekt für Dich\, wenn Du neugierig auf Raufen bist\, aber Dich dem auf eine langsame und sanfte Art annähern möchten.\nTrau dich und entdecke die Freude am spielerischen Raufen!Auch wenn wir uns hier achtsam und unter Berücksichtigung insbesondere unserer körperlichen Grenzen und Einschränkungen begegnen\, können Verletzungen auftreten. Aus diesem Grund ist die Einwilligung in eine Haftungsausschlusserklärung für dieses Event erforderlich.\n\n\nTeilnahmegebühren: 10 Euro\nE-Mail: florian.hollandt@gmail.com\nTelefonnummer: 017623516385\nPostalische Adresse: Gutenbergstr. 30; 14467 Potsdam
URL:https://staging.hauslebenskraft.de/veranstaltung/conscious-playfight-achtsames-raufen-3/
LOCATION:Haus Lebenskraft\, Gutenbergstr. 30\, Potsdam\, Brandenburg\, 14467\, Germany
CATEGORIES:Öffentlich, Raum der Erde
ATTACH;FMTTYPE=image/png:https://staging.hauslebenskraft.de/wp-content/uploads/2026/02/playfight-1.png
ORGANIZER;CN="Florian Hollandt":MAILTO:florian.hollandt@gmail.com
END:VEVENT
BEGIN:VEVENT
DTSTART;TZID=Europe/Berlin:20250618T193000
DTEND;TZID=Europe/Berlin:20250618T213000
DTSTAMP:20260421T190238
CREATED:20250410T180141Z
LAST-MODIFIED:20250605T183504Z
UID:10018253-1750275000-1750282200@staging.hauslebenskraft.de
SUMMARY:Conscious Playfight - Achtsames Raufen
DESCRIPTION:Hast du Lust\, Deinen natürlichen Instinkt des spielerischen Kräftemessens in einem sicheren Raum auszuleben? „Achtsames Raufen“ lädt dich ein\, in eine körperliche Begegnung einzutauchen\, bei der die Intuition deines Körpers im Mittelpunkt steht. Jede Session entfaltet ihre eigene Energie und bringt dich in tiefe Verbindung mit Dir selbst\, dem Moment und Deinen Mitspieler*innen.\nIch verstehe Playfight eher als eine Art Kontaktimprovisation statt einem Kampfsport: Es geht nicht darum\, zu gewinnen oder zu dominieren\, sondern wie bei einem Tanz die Freude dessen zu erleben\, ganz im eigenen Körper zu sein und sich in einem freien\, dynamischen\, spielerischen Kontakt mit anderen Körpern zu erleben. \nDiese Form von Playfight erfordert keinerlei Vorerfahrung und ist perfekt für Dich\, wenn Du neugierig auf Raufen bist\, aber Dich dem auf eine langsame und sanfte Art annähern möchten.\nTrau dich und entdecke die Freude am spielerischen Raufen! \nAuch wenn wir uns hier achtsam und unter Berücksichtigung insbesondere unserer körperlichen Grenzen und Einschränkungen begegnen\, können Verletzungen auftreten. Aus diesem Grund ist die Einwilligung in eine Haftungsausschlusserklärung für dieses Event erforderlich. \nTeilnahmegebühren: 10 Euro Ermäßigt\, 15 Euro Normal\, 20 Euro Unterstützer \nE-Mail: florian.hollandt@gmail.com \nTelefonnummer: 017623516385\nAdresse: Gutenbergstr. 30; 14467 Potsdam
URL:https://staging.hauslebenskraft.de/veranstaltung/conscious-playfight-achtsames-raufen-2-2/2025-06-18/
LOCATION:Haus Lebenskraft\, Gutenbergstr. 30\, Potsdam\, Brandenburg\, 14467\, Germany
CATEGORIES:Öffentlich, Sonnenraum
ORGANIZER;CN="Florian Hollandt":MAILTO:florian.hollandt@gmail.com
END:VEVENT
BEGIN:VEVENT
DTSTART;TZID=Europe/Berlin:20250521T193000
DTEND;TZID=Europe/Berlin:20250521T213000
DTSTAMP:20260421T190238
CREATED:20250410T180141Z
LAST-MODIFIED:20250605T183504Z
UID:10018121-1747855800-1747863000@staging.hauslebenskraft.de
SUMMARY:Conscious Playfight - Achtsames Raufen
DESCRIPTION:Hast du Lust\, Deinen natürlichen Instinkt des spielerischen Kräftemessens in einem sicheren Raum auszuleben? „Achtsames Raufen“ lädt dich ein\, in eine körperliche Begegnung einzutauchen\, bei der die Intuition deines Körpers im Mittelpunkt steht. Jede Session entfaltet ihre eigene Energie und bringt dich in tiefe Verbindung mit Dir selbst\, dem Moment und Deinen Mitspieler*innen.\nIch verstehe Playfight eher als eine Art Kontaktimprovisation statt einem Kampfsport: Es geht nicht darum\, zu gewinnen oder zu dominieren\, sondern wie bei einem Tanz die Freude dessen zu erleben\, ganz im eigenen Körper zu sein und sich in einem freien\, dynamischen\, spielerischen Kontakt mit anderen Körpern zu erleben. \nDiese Form von Playfight erfordert keinerlei Vorerfahrung und ist perfekt für Dich\, wenn Du neugierig auf Raufen bist\, aber Dich dem auf eine langsame und sanfte Art annähern möchten.\nTrau dich und entdecke die Freude am spielerischen Raufen! \nAuch wenn wir uns hier achtsam und unter Berücksichtigung insbesondere unserer körperlichen Grenzen und Einschränkungen begegnen\, können Verletzungen auftreten. Aus diesem Grund ist die Einwilligung in eine Haftungsausschlusserklärung für dieses Event erforderlich. \nTeilnahmegebühren: 10 Euro Ermäßigt\, 15 Euro Normal\, 20 Euro Unterstützer \nE-Mail: florian.hollandt@gmail.com \nTelefonnummer: 017623516385\nAdresse: Gutenbergstr. 30; 14467 Potsdam
URL:https://staging.hauslebenskraft.de/veranstaltung/conscious-playfight-achtsames-raufen-2-2/2025-05-21/
LOCATION:Haus Lebenskraft\, Gutenbergstr. 30\, Potsdam\, Brandenburg\, 14467\, Germany
CATEGORIES:Öffentlich, Sonnenraum
ORGANIZER;CN="Florian Hollandt":MAILTO:florian.hollandt@gmail.com
END:VEVENT
BEGIN:VEVENT
DTSTART;TZID=Europe/Berlin:20250429T193000
DTEND;TZID=Europe/Berlin:20250429T213000
DTSTAMP:20260421T190238
CREATED:20250410T180141Z
LAST-MODIFIED:20250605T183504Z
UID:10018024-1745955000-1745962200@staging.hauslebenskraft.de
SUMMARY:Conscious Playfight - Achtsames Raufen
DESCRIPTION:Hast du Lust\, Deinen natürlichen Instinkt des spielerischen Kräftemessens in einem sicheren Raum auszuleben? „Achtsames Raufen“ lädt dich ein\, in eine körperliche Begegnung einzutauchen\, bei der die Intuition deines Körpers im Mittelpunkt steht. Jede Session entfaltet ihre eigene Energie und bringt dich in tiefe Verbindung mit Dir selbst\, dem Moment und Deinen Mitspieler*innen.\nIch verstehe Playfight eher als eine Art Kontaktimprovisation statt einem Kampfsport: Es geht nicht darum\, zu gewinnen oder zu dominieren\, sondern wie bei einem Tanz die Freude dessen zu erleben\, ganz im eigenen Körper zu sein und sich in einem freien\, dynamischen\, spielerischen Kontakt mit anderen Körpern zu erleben. \nDiese Form von Playfight erfordert keinerlei Vorerfahrung und ist perfekt für Dich\, wenn Du neugierig auf Raufen bist\, aber Dich dem auf eine langsame und sanfte Art annähern möchten.\nTrau dich und entdecke die Freude am spielerischen Raufen! \nAuch wenn wir uns hier achtsam und unter Berücksichtigung insbesondere unserer körperlichen Grenzen und Einschränkungen begegnen\, können Verletzungen auftreten. Aus diesem Grund ist die Einwilligung in eine Haftungsausschlusserklärung für dieses Event erforderlich. \nTeilnahmegebühren: 10 Euro Ermäßigt\, 15 Euro Normal\, 20 Euro Unterstützer \nE-Mail: florian.hollandt@gmail.com \nTelefonnummer: 017623516385\nAdresse: Gutenbergstr. 30; 14467 Potsdam
URL:https://staging.hauslebenskraft.de/veranstaltung/conscious-playfight-achtsames-raufen-2-2/2025-04-29/
LOCATION:Haus Lebenskraft\, Gutenbergstr. 30\, Potsdam\, Brandenburg\, 14467\, Germany
CATEGORIES:Öffentlich, Sonnenraum
ORGANIZER;CN="Florian Hollandt":MAILTO:florian.hollandt@gmail.com
END:VEVENT
END:VCALENDAR