BEGIN:VCALENDAR
VERSION:2.0
PRODID:-//Haus Lebenskraft - ECPv6.15.20//NONSGML v1.0//EN
CALSCALE:GREGORIAN
METHOD:PUBLISH
X-ORIGINAL-URL:https://staging.hauslebenskraft.de
X-WR-CALDESC:Veranstaltungen für Haus Lebenskraft
REFRESH-INTERVAL;VALUE=DURATION:PT1H
X-Robots-Tag:noindex
X-PUBLISHED-TTL:PT1H
BEGIN:VTIMEZONE
TZID:Europe/Berlin
BEGIN:DAYLIGHT
TZOFFSETFROM:+0100
TZOFFSETTO:+0200
TZNAME:CEST
DTSTART:20240331T010000
END:DAYLIGHT
BEGIN:STANDARD
TZOFFSETFROM:+0200
TZOFFSETTO:+0100
TZNAME:CET
DTSTART:20241027T010000
END:STANDARD
BEGIN:DAYLIGHT
TZOFFSETFROM:+0100
TZOFFSETTO:+0200
TZNAME:CEST
DTSTART:20250330T010000
END:DAYLIGHT
BEGIN:STANDARD
TZOFFSETFROM:+0200
TZOFFSETTO:+0100
TZNAME:CET
DTSTART:20251026T010000
END:STANDARD
BEGIN:DAYLIGHT
TZOFFSETFROM:+0100
TZOFFSETTO:+0200
TZNAME:CEST
DTSTART:20260329T010000
END:DAYLIGHT
BEGIN:STANDARD
TZOFFSETFROM:+0200
TZOFFSETTO:+0100
TZNAME:CET
DTSTART:20261025T010000
END:STANDARD
BEGIN:DAYLIGHT
TZOFFSETFROM:+0100
TZOFFSETTO:+0200
TZNAME:CEST
DTSTART:20270328T010000
END:DAYLIGHT
BEGIN:STANDARD
TZOFFSETFROM:+0200
TZOFFSETTO:+0100
TZNAME:CET
DTSTART:20271031T010000
END:STANDARD
END:VTIMEZONE
BEGIN:VEVENT
DTSTART;TZID=Europe/Berlin:20260417T150000
DTEND;TZID=Europe/Berlin:20260417T170000
DTSTAMP:20260420T210800
CREATED:20260407T084345Z
LAST-MODIFIED:20260410T105947Z
UID:10025872-1776438000-1776445200@staging.hauslebenskraft.de
SUMMARY:intern
DESCRIPTION:Beate
URL:https://staging.hauslebenskraft.de/veranstaltung/intern-29/
LOCATION:Haus Lebenskraft\, Gutenbergstr. 30\, Potsdam\, Brandenburg\, 14467\, Germany
CATEGORIES:Intern, Therapieraum
ORGANIZER;CN="Beate Gall":MAILTO:beate.gall@posteo.de
END:VEVENT
BEGIN:VEVENT
DTSTART;TZID=Europe/Berlin:20260321T100000
DTEND;TZID=Europe/Berlin:20260321T130000
DTSTAMP:20260420T210800
CREATED:20260313T162952Z
LAST-MODIFIED:20260313T162952Z
UID:10025545-1774087200-1774098000@staging.hauslebenskraft.de
SUMMARY:intern
DESCRIPTION:Beate
URL:https://staging.hauslebenskraft.de/veranstaltung/intern-24/
LOCATION:Haus Lebenskraft\, Gutenbergstr. 30\, Potsdam\, Brandenburg\, 14467\, Germany
CATEGORIES:Intern, Therapieraum
ORGANIZER;CN="Beate Gall":MAILTO:beate.gall@posteo.de
END:VEVENT
BEGIN:VEVENT
DTSTART;TZID=Europe/Berlin:20260317T093000
DTEND;TZID=Europe/Berlin:20260317T113000
DTSTAMP:20260420T210800
CREATED:20260224T102055Z
LAST-MODIFIED:20260224T102055Z
UID:10025164-1773739800-1773747000@staging.hauslebenskraft.de
SUMMARY:intern
DESCRIPTION:Beate Massage
URL:https://staging.hauslebenskraft.de/veranstaltung/intern-17/
LOCATION:Haus Lebenskraft\, Gutenbergstr. 30\, Potsdam\, Brandenburg\, 14467\, Germany
CATEGORIES:Intern, Therapieraum
ORGANIZER;CN="Beate Gall":MAILTO:beate.gall@posteo.de
END:VEVENT
BEGIN:VEVENT
DTSTART;TZID=Europe/Berlin:20260220T133000
DTEND;TZID=Europe/Berlin:20260220T160000
DTSTAMP:20260420T210800
CREATED:20260209T093241Z
LAST-MODIFIED:20260219T200422Z
UID:10025038-1771594200-1771603200@staging.hauslebenskraft.de
SUMMARY:intern
DESCRIPTION:res. für Beate
URL:https://staging.hauslebenskraft.de/veranstaltung/intern/
LOCATION:Haus Lebenskraft\, Gutenbergstr. 30\, Potsdam\, Brandenburg\, 14467\, Germany
CATEGORIES:Intern, Therapieraum
ORGANIZER;CN="Beate Gall":MAILTO:beate.gall@posteo.de
END:VEVENT
BEGIN:VEVENT
DTSTART;TZID=Europe/Berlin:20260131T123000
DTEND;TZID=Europe/Berlin:20260131T150000
DTSTAMP:20260420T210800
CREATED:20260111T101819Z
LAST-MODIFIED:20260111T101819Z
UID:10024292-1769862600-1769871600@staging.hauslebenskraft.de
SUMMARY:res. für Beate
DESCRIPTION:
URL:https://staging.hauslebenskraft.de/veranstaltung/res-fuer-beate-2/
LOCATION:Haus Lebenskraft\, Gutenbergstr. 30\, Potsdam\, Brandenburg\, 14467\, Germany
CATEGORIES:Intern, Therapieraum
ORGANIZER;CN="Beate Gall":MAILTO:beate.gall@posteo.de
END:VEVENT
BEGIN:VEVENT
DTSTART;TZID=Europe/Berlin:20260123T133000
DTEND;TZID=Europe/Berlin:20260123T160000
DTSTAMP:20260420T210800
CREATED:20251218T141619Z
LAST-MODIFIED:20251218T141619Z
UID:10024191-1769175000-1769184000@staging.hauslebenskraft.de
SUMMARY:res.für BeateG.
DESCRIPTION:
URL:https://staging.hauslebenskraft.de/veranstaltung/res-fuer-beateg/
LOCATION:Haus Lebenskraft\, Gutenbergstr. 30\, Potsdam\, Brandenburg\, 14467\, Germany
CATEGORIES:Intern, Therapieraum
ORGANIZER;CN="Beate Gall":MAILTO:beate.gall@posteo.de
END:VEVENT
BEGIN:VEVENT
DTSTART;TZID=Europe/Berlin:20251213T093000
DTEND;TZID=Europe/Berlin:20251213T123000
DTSTAMP:20260420T210800
CREATED:20251127T132351Z
LAST-MODIFIED:20251127T132351Z
UID:10023819-1765618200-1765629000@staging.hauslebenskraft.de
SUMMARY:Therapie Beate
DESCRIPTION:
URL:https://staging.hauslebenskraft.de/veranstaltung/therapie-beate/
LOCATION:Haus Lebenskraft\, Gutenbergstr. 30\, Potsdam\, Brandenburg\, 14467\, Germany
CATEGORIES:Intern, Therapieraum
ORGANIZER;CN="Beate Gall":MAILTO:beate.gall@posteo.de
END:VEVENT
BEGIN:VEVENT
DTSTART;TZID=Europe/Berlin:20251114T130000
DTEND;TZID=Europe/Berlin:20251114T160000
DTSTAMP:20260420T210800
CREATED:20251027T093451Z
LAST-MODIFIED:20251027T093451Z
UID:10020246-1763125200-1763136000@staging.hauslebenskraft.de
SUMMARY:res. für Beate
DESCRIPTION:
URL:https://staging.hauslebenskraft.de/veranstaltung/res-fuer-beate/
LOCATION:Haus Lebenskraft\, Gutenbergstr. 30\, Potsdam\, Brandenburg\, 14467\, Germany
CATEGORIES:Intern, Therapieraum
ORGANIZER;CN="Beate Gall":MAILTO:beate.gall@posteo.de
END:VEVENT
END:VCALENDAR