BEGIN:VCALENDAR
VERSION:2.0
PRODID:-//Haus Lebenskraft - ECPv6.15.20//NONSGML v1.0//EN
CALSCALE:GREGORIAN
METHOD:PUBLISH
X-ORIGINAL-URL:https://staging.hauslebenskraft.de
X-WR-CALDESC:Veranstaltungen für Haus Lebenskraft
REFRESH-INTERVAL;VALUE=DURATION:PT1H
X-Robots-Tag:noindex
X-PUBLISHED-TTL:PT1H
BEGIN:VTIMEZONE
TZID:Europe/Berlin
BEGIN:DAYLIGHT
TZOFFSETFROM:+0100
TZOFFSETTO:+0200
TZNAME:CEST
DTSTART:20250330T010000
END:DAYLIGHT
BEGIN:STANDARD
TZOFFSETFROM:+0200
TZOFFSETTO:+0100
TZNAME:CET
DTSTART:20251026T010000
END:STANDARD
BEGIN:DAYLIGHT
TZOFFSETFROM:+0100
TZOFFSETTO:+0200
TZNAME:CEST
DTSTART:20260329T010000
END:DAYLIGHT
BEGIN:STANDARD
TZOFFSETFROM:+0200
TZOFFSETTO:+0100
TZNAME:CET
DTSTART:20261025T010000
END:STANDARD
BEGIN:DAYLIGHT
TZOFFSETFROM:+0100
TZOFFSETTO:+0200
TZNAME:CEST
DTSTART:20270328T010000
END:DAYLIGHT
BEGIN:STANDARD
TZOFFSETFROM:+0200
TZOFFSETTO:+0100
TZNAME:CET
DTSTART:20271031T010000
END:STANDARD
END:VTIMEZONE
BEGIN:VEVENT
DTSTART;TZID=Europe/Berlin:20260323T130000
DTEND;TZID=Europe/Berlin:20260323T140000
DTSTAMP:20260421T141537
CREATED:20260317T115231Z
LAST-MODIFIED:20260317T115240Z
UID:10025558-1774270800-1774274400@staging.hauslebenskraft.de
SUMMARY:intern
DESCRIPTION:Annika
URL:https://staging.hauslebenskraft.de/veranstaltung/intern-25-2/
LOCATION:Haus Lebenskraft\, Gutenbergstr. 30\, Potsdam\, Brandenburg\, 14467\, Germany
CATEGORIES:Intern, Therapieraum
ORGANIZER;CN="Annika J. Kuhlmann":MAILTO:annika.kuhlmann@web.de
END:VEVENT
BEGIN:VEVENT
DTSTART;TZID=Europe/Berlin:20260316T130000
DTEND;TZID=Europe/Berlin:20260316T140000
DTSTAMP:20260421T141537
CREATED:20260313T163233Z
LAST-MODIFIED:20260317T114854Z
UID:10025546-1773666000-1773669600@staging.hauslebenskraft.de
SUMMARY:intern
DESCRIPTION:Annika
URL:https://staging.hauslebenskraft.de/veranstaltung/intern-25/
LOCATION:Haus Lebenskraft\, Gutenbergstr. 30\, Potsdam\, Brandenburg\, 14467\, Germany
CATEGORIES:Intern, Therapieraum
ORGANIZER;CN="Annika J. Kuhlmann":MAILTO:annika.kuhlmann@web.de
END:VEVENT
BEGIN:VEVENT
DTSTART;TZID=Europe/Berlin:20260309T120000
DTEND;TZID=Europe/Berlin:20260309T140000
DTSTAMP:20260421T141537
CREATED:20260225T203711Z
LAST-MODIFIED:20260227T202758Z
UID:10025165-1773057600-1773064800@staging.hauslebenskraft.de
SUMMARY:intern
DESCRIPTION:Annika
URL:https://staging.hauslebenskraft.de/veranstaltung/intern-18/
LOCATION:Haus Lebenskraft\, Gutenbergstr. 30\, Potsdam\, Brandenburg\, 14467\, Germany
CATEGORIES:Intern, Therapieraum
ORGANIZER;CN="Annika J. Kuhlmann":MAILTO:annika.kuhlmann@web.de
END:VEVENT
END:VCALENDAR